Workbook

Sheet Help
A7: Pomocne informacje
A9: Lp. | B9: Kwestia
A10: 1 | B10: Przed przystąpieniem do edycji zapoznaj się z regulaminem i przygotuj wyniki zawodów.
A11: 2 | B11: Potrzebujesz wyniki zawodów, w których startowali reprezentanci Twojego KS.
A12: 3 | B12: Potrzebujesz wyniki zawodów, których organizatorem był Twój KS i one muszą być dołączone do sprawozdania. Wyniki zawodów ogólnopolskich - po zakończonym sezonie, są w posiadaniu KM.
A13: 4 | B13: Wpisywanie danych - TYLKO W BIAŁYCH POLACH - do edycji. Pozostałe komórki arkusza są zablokowane.
A14: 5 | B14: Jeśli w Twoim klubie jest zwykle więcej niż 4 medalistów MŚ, ME, MP - nie martw się. Napisz, że masz problem, a my szybko podeślemy e-Formularz z większą liczbą wierszy.
A15: 6 | B15: Czy arkusz jest chroniony? TAK, za wyjątkiem pól edycyjnych koloru białego.
A16: 7 | B16: Ochrona arkusza blokuje również formuły całego arkusza xls.
A17: 8 | B17: Liczby wpisywane w polach do edycji muszą być w zakresie podanym w nagłówku kolumny. Jeśli będą większe - w żółtym polu zamiast wyniku pojawia się słowo FAŁSZ lub wartość ZERO. To tylko sygnał, że wpisano liczbę inną niż podano w nagłówku.
A18: 9 | B18: Pola żółte (rezultaty działania formuły) oraz pola żółte będące podsumowaniami wyświetlają się automatycznie.
A19: 10 | B19: Wypełniony arkusz sprawozdania, w postaci e-Formularza, należy przesłać drogą elektroniczną (plik XLS oraz PDF) - na adres mailowy przewodniczącego Komisji Modelarskiej.
A20: 11 | B20: Wymagana nazwa pliku: Krótka nazwa KS_ranking_2024, np. Sowiniec_ranking_2024
B21: Krótko na temat skrótów:
A22: M | B22: punkty za miejsce 1-6 na zawodach międzynarodowych, takich jak: Światowe Igrzyska Lotnicze WAG, mistrzostwa świata, Europy, zawody Eurotur lub w klasyfikacji końcowej Pucharu Świata FAI.
A23: Md | B23: punkty za miejsce 1-3 w klasyfikacji drużynowej (za zdobycie medalu drużynowego) - dotyczy wyłącznie wyżej wymienionych zawodów międzynarodowych M. Liczba punktów na jednego członka drużyny, to 1/3 punktów za medal indywidualny.
A24: MP | B24: punkty za miejsce 1-6 w Mistrzostwach Polski.
A25: PP | B25: punkty za miejsca 1-6 w klasyfikacji końcowej Pucharu Polski.
A26: PS | B26: punkty za miejsca 1-6 w klasyfikacji końcowej Pucharu Świata w konkurencjach tymczasowych FAI.
A27: FR | B27: punkty za miejsca 1-6 w rankingu światowym FAI Rookie Project (Indoor lub Outdoor) za rok poprzedni.
A28: RS | B28: punkty za ustanowienie rekordu świata.
A29: RP | B29: punkty za ustanowienie rekordu Polski.
A30: FAI | B30: punkty za miejsce 1-3 w Finale Światowym Konkursu Młodych Artystów FAI, tzn. zdobycie medalu FAI (ZŁ, SR, BR)
A31: PL | B31: punkty za miejsce 1-3 w Finale Ogólnopolskim Konkursu Młodych Artystów FAI, tzn. zdobycie medalu AP (ZŁ, SR, BR)
B34: projekt i pracowanie: Bogdan Wierzba

Sheet Ranking
A4: Wyniki ogólnopolskiego współzawodnictwa Klubów Sportowych
A5: w modelarstwie lotniczm i kosmicznym za rok 2025 zatwierdzone przez Komisję Modelarską
A7: M-ce | B7: Nazwa i nr Licencji Klubu Sportowego | C7: Sport Wyczynowy pkt. 4.1 | D7: Sport Wyczynowy pkt. 4.2 | E7: SPORT wyczynowy RAZEM | F7: Sport Powszechny pkt. 4.3 | G7: Sport Powszechny pkt. 4.4 | H7: Sport Powszechny pkt. 4.5 | I7: SPORT powszechny RAZEM | J7: Punkty dodatkowe pkt. 4.6 | K7: Liczba punktów OGÓŁEM
A8: 1 | B8: =SAUT!$C$1 -> SAUT LEONARDO i nr Licencji KS nr 4/25 | C8: =SAUT!$E$187 -> 40465 | D8: =SAUT!$E$198 -> 1000 | E8: =SUM(C8+D8) -> 41465 | F8: =SAUT!$E$211 -> 0 | G8: =SAUT!$E$261 -> 0 | H8: =SAUT!$E$275 -> 0 | I8: =SUM(F8:H8) -> 0 | J8: =SAUT!$E$280 -> 720 | K8: =SAUT!$E$284 -> 42185
A9: 2 | B9: =GSML!$C$1 -> Gliwickie SML i Nr Lic - 6/25 | C9: =GSML!$E$98 -> 14288 | D9: =GSML!$E$109 -> 10500 | E9: =SUM(C9+D9) -> 24788 | F9: =GSML!$E$122 -> 6100 | G9: =GSML!$E$191 -> 6030 | H9: =GSML!$E$205 -> 3400 | I9: =SUM(F9:H9) -> 15530 | J9: =GSML!$E$210 -> 1220 | K9: =GSML!$E$214 -> 41538
A10: 3 | B10: =MTSR!$C$1 -> MTSR Sowiniec, Lic. Nr 18/25 | C10: =MTSR!$E$179 -> 17513 | D10: =MTSR!$E$190 -> 0 | E10: =SUM(C10+D10) -> 17513 | F10: =MTSR!$E$203 -> 500 | G10: =MTSR!$E$253 -> 480 | H10: =MTSR!$E$267 -> 800 | I10: =SUM(F10:H10) -> 1780 | J10: =MTSR!$E$272 -> 400 | K10: =MTSR!$E$276 -> 19693
A11: 4 | B11: =WIE!$C$1 -> KM im. E.Kujana w Wierzawicach Lic. nr. 48/25 | C11: =WIE!$E$71 -> 12940 | D11: =WIE!$E$82 -> 2500 | E11: =SUM(C11+D11) -> 15440 | F11: =WIE!$E$95 -> 700 | G11: =WIE!$E$149 -> 2020 | H11: =WIE!$E$163 -> 0 | I11: =SUM(F11:H11) -> 2720 | J11: =WIE!$E$168 -> 620 | K11: =WIE!$E$172 -> 18780
A12: 5 | B12: =Artbem!$C$1 -> Aeromodelklub Artbem - Lic. Nr 58/25 | C12: =Artbem!$E$63 -> 3910 | D12: =Artbem!$E$74 -> 3100 | E12: =SUM(C12+D12) -> 7010 | F12: =Artbem!$E$87 -> 3170 | G12: =Artbem!$E$141 -> 400 | H12: =Artbem!$E$155 -> 1400 | I12: =SUM(F12:H12) -> 4970 | J12: =Artbem!$E$160 -> 480 | K12: =Artbem!$E$164 -> 12460
A13: 6 | B13: =APO!$C$1 -> Aeroklub Poznański, nr LKS 25/25 | C13: =APO!$E$63 -> 6860 | D13: =APO!$E$74 -> 3000 | E13: =SUM(C13+D13) -> 9860 | F13: =APO!$E$87 -> 1020 | G13: =APO!$E$137 -> 650 | H13: =APO!$E$151 -> 200 | I13: =SUM(F13:H13) -> 1870 | J13: =APO!$E$156 -> 440 | K13: =APO!$E$160 -> 12170
A14: 7 | B14: =ORION!$C$1 -> UKM ORION w Muszynie Lic. Nr 12/25 | C14: =ORION!$E$63 -> 6850 | D14: =ORION!$E$74 -> 1500 | E14: =SUM(C14+D14) -> 8350 | F14: =ORION!$E$87 -> 0 | G14: =ORION!$E$141 -> 0 | H14: =ORION!$E$155 -> 0 | I14: =SUM(F14:H14) -> 0 | J14: =ORION!$E$160 -> 140 | K14: =ORION!$E$164 -> 8490
A15: 8 | B15: =HSML!$C$1 -> Hrubieszowskie SML i nr Licencji KS 19/25 | C15: =HSML!$E$63 -> 1405 | D15: =HSML!$E$74 -> 0 | E15: =SUM(C15+D15) -> 1405 | F15: =HSML!$E$87 -> 2380 | G15: =HSML!$E$141 -> 2890 | H15: =HSML!$E$155 -> 500 | I15: =SUM(F15:H15) -> 5770 | J15: =HSML!$E$160 -> 260 | K15: =HSML!$E$164 -> 7435
A16: 9 | B16: =AZM!$C$1 -> Aeroklub Ziemi Mazowieckiej, Lic. KS nr 11/25 | C16: =AZM!$E$63 -> 730 | D16: =AZM!$E$74 -> 800 | E16: =SUM(C16+D16) -> 1530 | F16: =AZM!$E$87 -> 3700 | G16: =AZM!$E$141 -> 570 | H16: =AZM!$E$155 -> 1400 | I16: =SUM(F16:H16) -> 5670 | J16: =AZM!$E$160 -> 60 | K16: =AZM!$E$164 -> 7260
A17: 10 | B17: =AW!$C$1 -> Aeroklub Warszawski nr Licencji KS 61/25 | C17: =AW!$E$63 -> 1305 | D17: =AW!$E$74 -> 500 | E17: =SUM(C17+D17) -> 1805 | F17: =AW!$E$87 -> 2080 | G17: =AW!$E$141 -> 2260 | H17: =AW!$E$155 -> 500 | I17: =SUM(F17:H17) -> 4840 | J17: =AW!$E$160 -> 600 | K17: =AW!$E$164 -> 7245
A18: 11 | B18: =ASW!$C$1 -> Aeroklub Stalowowolski nr licencji 47/25 | C18: =ASW!$E$63 -> 1265 | D18: =ASW!$E$74 -> 3000 | E18: =SUM(C18+D18) -> 4265 | F18: =ASW!$E$87 -> 100 | G18: =ASW!$E$141 -> 200 | H18: =ASW!$E$155 -> 500 | I18: =SUM(F18:H18) -> 800 | J18: =ASW!$E$160 -> 300 | K18: =ASW!$E$164 -> 5365
A19: 12 | B19: =AROW!$C$1 -> Aeroklub Rybnickiego Okręgu Węglowego 27/25 | C19: =AROW!$E$63 -> 2968 | D19: =AROW!$E$74 -> 1000 | E19: =SUM(C19+D19) -> 3968 | F19: =AROW!$E$87 -> 700 | G19: =AROW!$E$141 -> 0 | H19: =AROW!$E$155 -> 0 | I19: =SUM(F19:H19) -> 700 | J19: =AROW!$E$160 -> 460 | K19: =AROW!$E$164 -> 5128
A20: 13 | B20: =AGL!$C$1 -> Aeroklub Gliwicki 62/25 | C20: =AGL!$E$63 -> 0 | D20: =AGL!$E$74 -> 0 | E20: =SUM(C20+D20) -> 0 | F20: =AGL!$E$87 -> 2340 | G20: =AGL!$E$141 -> 490 | H20: =AGL!$E$155 -> 1900 | I20: =SUM(F20:H20) -> 4730 | J20: =AGL!$E$160 -> 140 | K20: =AGL!$E$164 -> 4870
A21: 14 | B21: =AOS!$C$1 -> Aeroklub Ostrowski 2/25 | C21: =AOS!$E$63 -> 1070 | D21: =AOS!$E$74 -> 2500 | E21: =SUM(C21+D21) -> 3570 | F21: =AOS!$E$87 -> 0 | G21: =AOS!$E$141 -> 200 | H21: =AOS!$E$155 -> 0 | I21: =SUM(F21:H21) -> 200 | J21: =AOS!$E$160 -> 80 | K21: =AOS!$E$164 -> 3850
A22: 15 | B22: =ŁASK!$C$1 -> Klub Modelarstwa LiK ŁDK w Łasku 35/25 | C22: =ŁASK!$E$63 -> 0 | D22: =ŁASK!$E$74 -> 0 | E22: =SUM(C22+D22) -> 0 | F22: =ŁASK!$E$87 -> 1100 | G22: =ŁASK!$E$141 -> 540 | H22: =ŁASK!$E$155 -> 700 | I22: =SUM(F22:H22) -> 2340 | J22: =ŁASK!$E$160 -> 140 | K22: =ŁASK!$E$164 -> 2480
A23: 16 | B23: =MSML!$C$1 -> Mieleckie SML 41/25 | C23: =MSML!$E$63 -> 460 | D23: =MSML!$E$74 -> 0 | E23: =SUM(C23+D23) -> 460 | F23: =MSML!$E$87 -> 720 | G23: =MSML!$E$141 -> 200 | H23: =MSML!$E$155 -> 400 | I23: =SUM(F23:H23) -> 1320 | J23: =MSML!$E$160 -> 80 | K23: =MSML!$E$164 -> 1860
A24: 17 | B24: =APSL!$C$1 -> Aeroklub Podkarpacki SL w Krośnie, 67/25 | C24: =APSL!$E$63 -> 305 | D24: =APSL!$E$74 -> 500 | E24: =SUM(C24+D24) -> 805 | F24: =APSL!$E$87 -> 0 | G24: =APSL!$E$141 -> 320 | H24: =APSL!$E$155 -> 0 | I24: =SUM(F24:H24) -> 320 | J24: =APSL!$E$160 -> 80 | K24: =APSL!$E$164 -> 1205
A25: 18 | B25: =ALO!$C$1 -> Aeroklub Łódzki Nr licencji 21/25 | C25: =ALO!$E$63 -> 170 | D25: =ALO!$E$74 -> 0 | E25: =SUM(C25+D25) -> 170 | F25: =ALO!$E$87 -> 200 | G25: =ALO!$E$141 -> 290 | H25: =ALO!$E$155 -> 0 | I25: =SUM(F25:H25) -> 490 | J25: =ALO!$E$160 -> 60 | K25: =ALO!$E$164 -> 720
A26: 19 | B26: SMO "FENIKS" - 20/25 | J26: 520 | K26: 520
A27: 20 | B27: Aeroklub Ziemi Pilskiej - 33/25 | J27: 360 | K27: 360
A28: 21 | B28: Aeroklub Gdański - 44/25 | J28: 320 | K28: 320
A29: 22 | B29: Aeroklub Włocławski - 71/25 | J29: 320 | K29: 320
A30: 23 | B30: OSiR Suwałki - 60/25 | J30: 300 | K30: 300
A31: 24 | B31: Aeroklub Nowy Targ - 13/25 | J31: 280 | K31: 280
A32: 25 | B32: Aeroklub Białostocki - 43/25 | J32: 180 | K32: 180
A33: 26 | B33: Aeroklub Podhalański - 38/25 | J33: 160 | K33: 160
A34: 27-28 | B34: Aeroklub Częstochowski - 37/25 | J34: 120 | K34: 120
A35: 27-28 | B35: Aeroklub Jeleniogórski - 39/25 | J35: 120 | K35: 120
A36: 29-30 | B36: Aeroklub Krakowski - 40/25 | J36: 100 | K36: 100
A37: 29-30 | B37: Miejskie Centrum Sportu Chrzanów - 24/25 | J37: 100 | K37: 100
A38: 31 | B38: Fundacja Lotnisko Leszno - 63/25 | J38: 80 | K38: 80
A39: 32-33 | B39: Aeroklub Rzeszowski - 45/25 | J39: 60 | K39: 60
A40: 32-33 | B40: Aeroklub Zagłębia Miedziowego - 14/25 | J40: 60 | K40: 60
A41: 34-38 | B41: Aeroklub "ORLĄT" w Dęblinie - 50/25 | J41: 40 | K41: 40
A42: 34-38 | B42: Aeroklub Bielsko-Bialski - 10/25 | J42: 40 | K42: 40
A43: 34-38 | B43: Aeroklub Lubelski w Radawcu - 73/25 | J43: 40 | K43: 40
A44: 34-38 | B44: Aeroklub Szczeciński - 5/25 | J44: 40 | K44: 40
...

Sheet ASW
C1: Aeroklub Stalowowolski nr licencji 47/25
A8: Sprawozdanie z działalności klubu za rok 2025
A11: Współzawodnictwo w konkurencjach mistrzowskich - SPORT WYCZYNOWY
A13: 4.1 - punkty za miejsca w zawodach i rekordy zawodników
A14: Lp | B14: Imię i Nazwisko zawodnika (nazwa skrócona, miejsce i data imprezy) | C14: Rodzaj zawodów | D14: Miejsce (wpisz liczbę 1-6) | E14: Pktunkty do współzawodnictwa
A15: 1 | C15: M | E15: =IF(C15="M",IF(D15=1,1500,IF(D15=2,1170,IF(D15=3,1000,IF(D15=4,830,IF(D15=5,670,IF(D15=6,500))))))) -> FALSE
A16: 2 | C16: M | E16: =IF(C16="M",IF(D16=1,1500,IF(D16=2,1170,IF(D16=3,1000,IF(D16=4,830,IF(D16=5,670,IF(D16=6,500))))))) -> FALSE
A17: 3 | C17: M | E17: =IF(C17="M",IF(D17=1,1500,IF(D17=2,1170,IF(D17=3,1000,IF(D17=4,830,IF(D17=5,670,IF(D17=6,500))))))) -> FALSE
A18: 4 | C18: M | E18: =IF(C18="M",IF(D18=1,1500,IF(D18=2,1170,IF(D18=3,1000,IF(D18=4,830,IF(D18=5,670,IF(D18=6,500))))))) -> FALSE
A19: 5 | C19: Md | E19: =IF(C19="Md",IF(D19=1,500,IF(D19=2,390,IF(D19=3,333,)))) -> 0
A20: 6 | C20: Md | E20: =IF(C20="Md",IF(D20=1,500,IF(D20=2,390,IF(D20=3,333,)))) -> 0
A21: 7 | C21: Md | E21: =IF(C21="Md",IF(D21=1,500,IF(D21=2,390,IF(D21=3,333,)))) -> 0
A22: 8 | C22: Md | E22: =IF(C22="Md",IF(D22=1,500,IF(D22=2,390,IF(D22=3,333,)))) -> 0
A23: 9 | C23: Md | E23: =IF(C23="Md",IF(D23=1,500,IF(D23=2,390,IF(D23=3,333,)))) -> 0
A24: 10 | B24: Mariusz Jaroszak , MP F3K , Tuszów Narodowy 13-14.09.2025 | C24: MP | D24: 2 | E24: =IF(C24="MP",IF(D24=1,300,IF(D24=2,230,IF(D24=3,200,IF(D24=4,170,IF(D24=5,135,IF(D24=6,100))))))) -> 230
A25: 11 | B25: Paweł Żak , MP F3K , Tuszów Narodowy 13-14.09.2025 | C25: MP | D25: 4 | E25: =IF(C25="MP",IF(D25=1,300,IF(D25=2,230,IF(D25=3,200,IF(D25=4,170,IF(D25=5,135,IF(D25=6,100))))))) -> 170
A26: 12 | C26: MP | E26: =IF(C26="MP",IF(D26=1,300,IF(D26=2,230,IF(D26=3,200,IF(D26=4,170,IF(D26=5,135,IF(D26=6,100))))))) -> FALSE
A27: 13 | C27: MP | E27: =IF(C27="MP",IF(D27=1,300,IF(D27=2,230,IF(D27=3,200,IF(D27=4,170,IF(D27=5,135,IF(D27=6,100))))))) -> FALSE
A28: 14 | C28: MP | E28: =IF(C28="MP",IF(D28=1,300,IF(D28=2,230,IF(D28=3,200,IF(D28=4,170,IF(D28=5,135,IF(D28=6,100))))))) -> FALSE
A29: 15 | C29: MP | E29: =IF(C29="MP",IF(D29=1,300,IF(D29=2,230,IF(D29=3,200,IF(D29=4,170,IF(D29=5,135,IF(D29=6,100))))))) -> FALSE
A30: 16 | C30: MP | E30: =IF(C30="MP",IF(D30=1,300,IF(D30=2,230,IF(D30=3,200,IF(D30=4,170,IF(D30=5,135,IF(D30=6,100))))))) -> FALSE
A31: 17 | C31: MP | E31: =IF(C31="MP",IF(D31=1,300,IF(D31=2,230,IF(D31=3,200,IF(D31=4,170,IF(D31=5,135,IF(D31=6,100))))))) -> FALSE
A32: 18 | C32: MP | E32: =IF(C32="MP",IF(D32=1,300,IF(D32=2,230,IF(D32=3,200,IF(D32=4,170,IF(D32=5,135,IF(D32=6,100))))))) -> FALSE
A33: 19 | C33: MP | E33: =IF(C33="MP",IF(D33=1,300,IF(D33=2,230,IF(D33=3,200,IF(D33=4,170,IF(D33=5,135,IF(D33=6,100))))))) -> FALSE
A34: 20 | C34: MP | E34: =IF(C34="MP",IF(D34=1,300,IF(D34=2,230,IF(D34=3,200,IF(D34=4,170,IF(D34=5,135,IF(D34=6,100))))))) -> FALSE
A35: 21 | C35: MP | E35: =IF(C35="MP",IF(D35=1,300,IF(D35=2,230,IF(D35=3,200,IF(D35=4,170,IF(D35=5,135,IF(D35=6,100))))))) -> FALSE
A36: 22 | C36: MP | E36: =IF(C36="MP",IF(D36=1,300,IF(D36=2,230,IF(D36=3,200,IF(D36=4,170,IF(D36=5,135,IF(D36=6,100))))))) -> FALSE
A37: 23 | C37: MP | E37: =IF(C37="MP",IF(D37=1,300,IF(D37=2,230,IF(D37=3,200,IF(D37=4,170,IF(D37=5,135,IF(D37=6,100))))))) -> FALSE
... A43: 29 | C43: MP | E43: =IF(C43="MP",IF(D43=1,300,IF(D43=2,230,IF(D43=3,200,IF(D43=4,170,IF(D43=5,135,IF(D43=6,100))))))) -> FALSE
A44: 30 | B44: Paweł Żak , PP F3K | C44: PP | D44: 1 | E44: =IF(C44="PP",IF(D44=1,300,IF(D44=2,230,IF(D44=3,200,IF(D44=4,170,IF(D44=5,135,IF(D44=6,100))))))) -> 300
A45: 31 | B45: Mariusz Jaroszak , PP F3K | C45: PP | D45: 2 | E45: =IF(C45="PP",IF(D45=1,300,IF(D45=2,230,IF(D45=3,200,IF(D45=4,170,IF(D45=5,135,IF(D45=6,100))))))) -> 230
A46: 32 | B46: Wojciech Drzymała , PP F3K | C46: PP | D46: 3 | E46: =IF(C46="PP",IF(D46=1,300,IF(D46=2,230,IF(D46=3,200,IF(D46=4,170,IF(D46=5,135,IF(D46=6,100))))))) -> 200
A47: 33 | B47: Marcin Kieliszek , PP F3K | C47: PP | D47: 5 | E47: =IF(C47="PP",IF(D47=1,300,IF(D47=2,230,IF(D47=3,200,IF(D47=4,170,IF(D47=5,135,IF(D47=6,100))))))) -> 135
A48: 34 | C48: PP | E48: =IF(C48="PP",IF(D48=1,300,IF(D48=2,230,IF(D48=3,200,IF(D48=4,170,IF(D48=5,135,IF(D48=6,100))))))) -> FALSE
A49: 35 | C49: PP | E49: =IF(C49="PP",IF(D49=1,300,IF(D49=2,230,IF(D49=3,200,IF(D49=4,170,IF(D49=5,135,IF(D49=6,100))))))) -> FALSE
A50: 36 | C50: PP | E50: =IF(C50="PP",IF(D50=1,300,IF(D50=2,230,IF(D50=3,200,IF(D50=4,170,IF(D50=5,135,IF(D50=6,100))))))) -> FALSE
A51: 37 | C51: PP | E51: =IF(C51="PP",IF(D51=1,300,IF(D51=2,230,IF(D51=3,200,IF(D51=4,170,IF(D51=5,135,IF(D51=6,100))))))) -> FALSE
A52: 38 | C52: PP | E52: =IF(C52="PP",IF(D52=1,300,IF(D52=2,230,IF(D52=3,200,IF(D52=4,170,IF(D52=5,135,IF(D52=6,100))))))) -> FALSE
A53: 39 | C53: PP | E53: =IF(C53="PP",IF(D53=1,300,IF(D53=2,230,IF(D53=3,200,IF(D53=4,170,IF(D53=5,135,IF(D53=6,100))))))) -> FALSE
A54: 40 | C54: PP | E54: =IF(C54="PP",IF(D54=1,300,IF(D54=2,230,IF(D54=3,200,IF(D54=4,170,IF(D54=5,135,IF(D54=6,100))))))) -> FALSE
...

Sheet ORION
C1: UKM ORION w Muszynie Lic. Nr 12/25
A8: Sprawozdanie z działalności klubu za rok 2025
A11: Współzawodnictwo w konkurencjach mistrzowskich - SPORT WYCZYNOWY
A13: 4.1 - punkty za miejsca w zawodach i rekordy zawodników
A14: Lp | B14: Imię i Nazwisko zawodnika (nazwa skrócona, miejsce i data imprezy) | C14: Rodzaj zawodów | D14: Miejsce (wpisz liczbę 1-6) | E14: Pktunkty do współzawodnictwa
A15: 1 | B15: Bartłomiej Tokarczyk MŚ w model. kosmicznym 23-28.08.25 Serbia kat.S6 | C15: M | D15: 4 | E15: =IF(C15="M",IF(D15=1,1500,IF(D15=2,1170,IF(D15=3,1000,IF(D15=4,830,IF(D15=5,670,IF(D15=6,500))))))) -> 830
A16: 2 | B16: Mateusz Tokarczyk MŚ w model. kosmicznym 23-28.08.25 Serbia kat.S7 | C16: M | D16: 5 | E16: =IF(C16="M",IF(D16=1,1500,IF(D16=2,1170,IF(D16=3,1000,IF(D16=4,830,IF(D16=5,670,IF(D16=6,500))))))) -> 670
A17: 3 | C17: M | E17: =IF(C17="M",IF(D17=1,1500,IF(D17=2,1170,IF(D17=3,1000,IF(D17=4,830,IF(D17=5,670,IF(D17=6,500))))))) -> FALSE
A18: 4 | C18: M | E18: =IF(C18="M",IF(D18=1,1500,IF(D18=2,1170,IF(D18=3,1000,IF(D18=4,830,IF(D18=5,670,IF(D18=6,500))))))) -> FALSE
A19: 5 | B19: Bartłomiej Tokarczyk MŚ w model. kosmicznym 23-28.08.25 Serbia kat.S6 | C19: Md | D19: 2 | E19: =IF(C19="Md",IF(D19=1,500,IF(D19=2,390,IF(D19=3,333,)))) -> 390
A20: 6 | B20: Bartłomiej Tokarczyk MŚ w model. kosmicznym 23-28.08.25 Serbia kat.S1 | C20: Md | D20: 2 | E20: =IF(C20="Md",IF(D20=1,500,IF(D20=2,390,IF(D20=3,333,)))) -> 390
A21: 7 | B21: Mateusz Tokarczyk MŚ w model. kosmicznym 23-28.08.25 Serbia kat.S7 | C21: Md | D21: 1 | E21: =IF(C21="Md",IF(D21=1,500,IF(D21=2,390,IF(D21=3,333,)))) -> 500
A22: 8 | C22: Md | E22: =IF(C22="Md",IF(D22=1,500,IF(D22=2,390,IF(D22=3,333,)))) -> 0
A23: 9 | C23: Md | E23: =IF(C23="Md",IF(D23=1,500,IF(D23=2,390,IF(D23=3,333,)))) -> 0
A24: 10 | B24: Barszcz Aleksandra MP w model. Kosmicznym 19-22.06.25 Włocławek kat.S1B kobiet | C24: MP | D24: 3 | E24: =IF(C24="MP",IF(D24=1,300,IF(D24=2,230,IF(D24=3,200,IF(D24=4,170,IF(D24=5,135,IF(D24=6,100))))))) -> 200
A25: 11 | B25: Barszcz Aleksandra MP w model. Kosmicznym 19-22.06.25 Włocławek kat.S3A | C25: MP | D25: 2 | E25: =IF(C25="MP",IF(D25=1,300,IF(D25=2,230,IF(D25=3,200,IF(D25=4,170,IF(D25=5,135,IF(D25=6,100))))))) -> 230
A26: 12 | B26: Barszcz Aleksandra MP w model. Kosmicznym 19-22.06.25 Włocławek kat.S3A kobiet | C26: MP | D26: 1 | E26: =IF(C26="MP",IF(D26=1,300,IF(D26=2,230,IF(D26=3,200,IF(D26=4,170,IF(D26=5,135,IF(D26=6,100))))))) -> 300
A27: 13 | B27: Tokarczyk Mateusz MP w model. Kosmicznym 19-22.06.25 Włocławek kat.S3A | C27: MP | D27: 3 | E27: =IF(C27="MP",IF(D27=1,300,IF(D27=2,230,IF(D27=3,200,IF(D27=4,170,IF(D27=5,135,IF(D27=6,100))))))) -> 200
A28: 14 | B28: Barszcz Jakub MP w model. Kosmicznym 19-22.06.25 Włocławek kat.S3A | C28: MP | D28: 4 | E28: =IF(C28="MP",IF(D28=1,300,IF(D28=2,230,IF(D28=3,200,IF(D28=4,170,IF(D28=5,135,IF(D28=6,100))))))) -> 170
A29: 15 | B29: Barszcz Tomasz MP w model. Kosmicznym 19-22.06.25 Włocławek kat.S3A | C29: MP | D29: 5 | E29: =IF(C29="MP",IF(D29=1,300,IF(D29=2,230,IF(D29=3,200,IF(D29=4,170,IF(D29=5,135,IF(D29=6,100))))))) -> 135
A30: 16 | B30: Barszcz Aleksandra MP w model. Kosmicznym 19-22.06.25 Włocławek kat.S4A kobiet | C30: MP | D30: 3 | E30: =IF(C30="MP",IF(D30=1,300,IF(D30=2,230,IF(D30=3,200,IF(D30=4,170,IF(D30=5,135,IF(D30=6,100))))))) -> 200
A31: 17 | B31: Barszcz Aleksandra MP w model. Kosmicznym 19-22.06.25 Włocławek kat.S6A kobiet | C31: MP | D31: 5 | E31: =IF(C31="MP",IF(D31=1,300,IF(D31=2,230,IF(D31=3,200,IF(D31=4,170,IF(D31=5,135,IF(D31=6,100))))))) -> 135
A32: 18 | B32: Barszcz Jakub MP w model. Kosmicznym 19-22.06.25 Włocławek kat.S6A | C32: MP | D32: 1 | E32: =IF(C32="MP",IF(D32=1,300,IF(D32=2,230,IF(D32=3,200,IF(D32=4,170,IF(D32=5,135,IF(D32=6,100))))))) -> 300
A33: 19 | B33: Tokarczyk Mateusz MP w model. Kosmicznym 19-22.06.25 Włocławek kat.S6A | C33: MP | D33: 4 | E33: =IF(C33="MP",IF(D33=1,300,IF(D33=2,230,IF(D33=3,200,IF(D33=4,170,IF(D33=5,135,IF(D33=6,100))))))) -> 170
A34: 20 | B34: Barszcz Tomasz MP w model. Kosmicznym 19-22.06.25 Włocławek kat.S6A | C34: MP | D34: 6 | E34: =IF(C34="MP",IF(D34=1,300,IF(D34=2,230,IF(D34=3,200,IF(D34=4,170,IF(D34=5,135,IF(D34=6,100))))))) -> 100
A35: 21 | B35: Barszcz Aleksandra MP w model. Kosmicznym 19-22.06.25 Włocławek kat.S9A | C35: MP | D35: 3 | E35: =IF(C35="MP",IF(D35=1,300,IF(D35=2,230,IF(D35=3,200,IF(D35=4,170,IF(D35=5,135,IF(D35=6,100))))))) -> 200
... A42: 28 | B42: Barszcz Jakub MP w model. Kosmicznym 19-22.06.25 Włocławek kat.S7 | C42: MP | D42: 2 | E42: =IF(C42="MP",IF(D42=1,300,IF(D42=2,230,IF(D42=3,200,IF(D42=4,170,IF(D42=5,135,IF(D42=6,100))))))) -> 230
A43: 29 | C43: MP | E43: =IF(C43="MP",IF(D43=1,300,IF(D43=2,230,IF(D43=3,200,IF(D43=4,170,IF(D43=5,135,IF(D43=6,100))))))) -> FALSE
A44: 30 | C44: PP | E44: =IF(C44="PP",IF(D44=1,300,IF(D44=2,230,IF(D44=3,200,IF(D44=4,170,IF(D44=5,135,IF(D44=6,100))))))) -> FALSE
A45: 31 | C45: PP | E45: =IF(C45="PP",IF(D45=1,300,IF(D45=2,230,IF(D45=3,200,IF(D45=4,170,IF(D45=5,135,IF(D45=6,100))))))) -> FALSE
A46: 32 | C46: PP | E46: =IF(C46="PP",IF(D46=1,300,IF(D46=2,230,IF(D46=3,200,IF(D46=4,170,IF(D46=5,135,IF(D46=6,100))))))) -> FALSE
A47: 33 | C47: PP | E47: =IF(C47="PP",IF(D47=1,300,IF(D47=2,230,IF(D47=3,200,IF(D47=4,170,IF(D47=5,135,IF(D47=6,100))))))) -> FALSE
A48: 34 | C48: PP | E48: =IF(C48="PP",IF(D48=1,300,IF(D48=2,230,IF(D48=3,200,IF(D48=4,170,IF(D48=5,135,IF(D48=6,100))))))) -> FALSE
A49: 35 | C49: PP | E49: =IF(C49="PP",IF(D49=1,300,IF(D49=2,230,IF(D49=3,200,IF(D49=4,170,IF(D49=5,135,IF(D49=6,100))))))) -> FALSE
A50: 36 | C50: PP | E50: =IF(C50="PP",IF(D50=1,300,IF(D50=2,230,IF(D50=3,200,IF(D50=4,170,IF(D50=5,135,IF(D50=6,100))))))) -> FALSE
A51: 37 | C51: PP | E51: =IF(C51="PP",IF(D51=1,300,IF(D51=2,230,IF(D51=3,200,IF(D51=4,170,IF(D51=5,135,IF(D51=6,100))))))) -> FALSE
A52: 38 | C52: PP | E52: =IF(C52="PP",IF(D52=1,300,IF(D52=2,230,IF(D52=3,200,IF(D52=4,170,IF(D52=5,135,IF(D52=6,100))))))) -> FALSE
A53: 39 | C53: PP | E53: =IF(C53="PP",IF(D53=1,300,IF(D53=2,230,IF(D53=3,200,IF(D53=4,170,IF(D53=5,135,IF(D53=6,100))))))) -> FALSE
A54: 40 | C54: PP | E54: =IF(C54="PP",IF(D54=1,300,IF(D54=2,230,IF(D54=3,200,IF(D54=4,170,IF(D54=5,135,IF(D54=6,100))))))) -> FALSE
A55: 41 | C55: PP | E55: =IF(C55="PP",IF(D55=1,300,IF(D55=2,230,IF(D55=3,200,IF(D55=4,170,IF(D55=5,135,IF(D55=6,100))))))) -> FALSE
...

Sheet MSML
C1: Mieleckie SML 41/25
A8: Sprawozdanie z działalności klubu za rok 2025
A11: Współzawodnictwo w konkurencjach mistrzowskich - SPORT WYCZYNOWY
A13: 4.1 - punkty za miejsca w zawodach i rekordy zawodników
A14: Lp | B14: Imię i Nazwisko zawodnika (nazwa skrócona, miejsce i data imprezy) | C14: Rodzaj zawodów | D14: Miejsce (wpisz liczbę 1-6) | E14: Pktunkty do współzawodnictwa
A15: 1 | C15: M | E15: =IF(C15="M",IF(D15=1,1500,IF(D15=2,1170,IF(D15=3,1000,IF(D15=4,830,IF(D15=5,670,IF(D15=6,500))))))) -> FALSE
A16: 2 | C16: M | E16: =IF(C16="M",IF(D16=1,1500,IF(D16=2,1170,IF(D16=3,1000,IF(D16=4,830,IF(D16=5,670,IF(D16=6,500))))))) -> FALSE
A17: 3 | C17: M | E17: =IF(C17="M",IF(D17=1,1500,IF(D17=2,1170,IF(D17=3,1000,IF(D17=4,830,IF(D17=5,670,IF(D17=6,500))))))) -> FALSE
A18: 4 | C18: M | E18: =IF(C18="M",IF(D18=1,1500,IF(D18=2,1170,IF(D18=3,1000,IF(D18=4,830,IF(D18=5,670,IF(D18=6,500))))))) -> FALSE
A19: 5 | C19: Md | E19: =IF(C19="Md",IF(D19=1,500,IF(D19=2,390,IF(D19=3,333,)))) -> 0
A20: 6 | C20: Md | E20: =IF(C20="Md",IF(D20=1,500,IF(D20=2,390,IF(D20=3,333,)))) -> 0
A21: 7 | C21: Md | E21: =IF(C21="Md",IF(D21=1,500,IF(D21=2,390,IF(D21=3,333,)))) -> 0
A22: 8 | C22: Md | E22: =IF(C22="Md",IF(D22=1,500,IF(D22=2,390,IF(D22=3,333,)))) -> 0
A23: 9 | C23: Md | E23: =IF(C23="Md",IF(D23=1,500,IF(D23=2,390,IF(D23=3,333,)))) -> 0
A24: 10 | B24: Edward Burek (Mistrz. Polski Mod. Sw. Lataj., Kietrz, 30.08.2025) | C24: MP | D24: 2 | E24: =IF(C24="MP",IF(D24=1,300,IF(D24=2,230,IF(D24=3,200,IF(D24=4,170,IF(D24=5,135,IF(D24=6,100))))))) -> 230
A25: 11 | C25: MP | E25: =IF(C25="MP",IF(D25=1,300,IF(D25=2,230,IF(D25=3,200,IF(D25=4,170,IF(D25=5,135,IF(D25=6,100))))))) -> FALSE
A26: 12 | C26: MP | E26: =IF(C26="MP",IF(D26=1,300,IF(D26=2,230,IF(D26=3,200,IF(D26=4,170,IF(D26=5,135,IF(D26=6,100))))))) -> FALSE
A27: 13 | C27: MP | E27: =IF(C27="MP",IF(D27=1,300,IF(D27=2,230,IF(D27=3,200,IF(D27=4,170,IF(D27=5,135,IF(D27=6,100))))))) -> FALSE
A28: 14 | C28: MP | E28: =IF(C28="MP",IF(D28=1,300,IF(D28=2,230,IF(D28=3,200,IF(D28=4,170,IF(D28=5,135,IF(D28=6,100))))))) -> FALSE
A29: 15 | C29: MP | E29: =IF(C29="MP",IF(D29=1,300,IF(D29=2,230,IF(D29=3,200,IF(D29=4,170,IF(D29=5,135,IF(D29=6,100))))))) -> FALSE
A30: 16 | C30: MP | E30: =IF(C30="MP",IF(D30=1,300,IF(D30=2,230,IF(D30=3,200,IF(D30=4,170,IF(D30=5,135,IF(D30=6,100))))))) -> FALSE
A31: 17 | C31: MP | E31: =IF(C31="MP",IF(D31=1,300,IF(D31=2,230,IF(D31=3,200,IF(D31=4,170,IF(D31=5,135,IF(D31=6,100))))))) -> FALSE
A32: 18 | C32: MP | E32: =IF(C32="MP",IF(D32=1,300,IF(D32=2,230,IF(D32=3,200,IF(D32=4,170,IF(D32=5,135,IF(D32=6,100))))))) -> FALSE
A33: 19 | C33: MP | E33: =IF(C33="MP",IF(D33=1,300,IF(D33=2,230,IF(D33=3,200,IF(D33=4,170,IF(D33=5,135,IF(D33=6,100))))))) -> FALSE
A34: 20 | C34: MP | E34: =IF(C34="MP",IF(D34=1,300,IF(D34=2,230,IF(D34=3,200,IF(D34=4,170,IF(D34=5,135,IF(D34=6,100))))))) -> FALSE
A35: 21 | C35: MP | E35: =IF(C35="MP",IF(D35=1,300,IF(D35=2,230,IF(D35=3,200,IF(D35=4,170,IF(D35=5,135,IF(D35=6,100))))))) -> FALSE
A36: 22 | C36: MP | E36: =IF(C36="MP",IF(D36=1,300,IF(D36=2,230,IF(D36=3,200,IF(D36=4,170,IF(D36=5,135,IF(D36=6,100))))))) -> FALSE
... A43: 29 | C43: MP | E43: =IF(C43="MP",IF(D43=1,300,IF(D43=2,230,IF(D43=3,200,IF(D43=4,170,IF(D43=5,135,IF(D43=6,100))))))) -> FALSE
A44: 30 | B44: Edward Burek, klas. końcowa PP 2025 | C44: PP | D44: 2 | E44: =IF(C44="PP",IF(D44=1,300,IF(D44=2,230,IF(D44=3,200,IF(D44=4,170,IF(D44=5,135,IF(D44=6,100))))))) -> 230
A45: 31 | C45: PP | E45: =IF(C45="PP",IF(D45=1,300,IF(D45=2,230,IF(D45=3,200,IF(D45=4,170,IF(D45=5,135,IF(D45=6,100))))))) -> FALSE
A46: 32 | C46: PP | E46: =IF(C46="PP",IF(D46=1,300,IF(D46=2,230,IF(D46=3,200,IF(D46=4,170,IF(D46=5,135,IF(D46=6,100))))))) -> FALSE
A47: 33 | C47: PP | E47: =IF(C47="PP",IF(D47=1,300,IF(D47=2,230,IF(D47=3,200,IF(D47=4,170,IF(D47=5,135,IF(D47=6,100))))))) -> FALSE
A48: 34 | C48: PP | E48: =IF(C48="PP",IF(D48=1,300,IF(D48=2,230,IF(D48=3,200,IF(D48=4,170,IF(D48=5,135,IF(D48=6,100))))))) -> FALSE
A49: 35 | C49: PP | E49: =IF(C49="PP",IF(D49=1,300,IF(D49=2,230,IF(D49=3,200,IF(D49=4,170,IF(D49=5,135,IF(D49=6,100))))))) -> FALSE
A50: 36 | C50: PP | E50: =IF(C50="PP",IF(D50=1,300,IF(D50=2,230,IF(D50=3,200,IF(D50=4,170,IF(D50=5,135,IF(D50=6,100))))))) -> FALSE
A51: 37 | C51: PP | E51: =IF(C51="PP",IF(D51=1,300,IF(D51=2,230,IF(D51=3,200,IF(D51=4,170,IF(D51=5,135,IF(D51=6,100))))))) -> FALSE
A52: 38 | C52: PP | E52: =IF(C52="PP",IF(D52=1,300,IF(D52=2,230,IF(D52=3,200,IF(D52=4,170,IF(D52=5,135,IF(D52=6,100))))))) -> FALSE
A53: 39 | C53: PP | E53: =IF(C53="PP",IF(D53=1,300,IF(D53=2,230,IF(D53=3,200,IF(D53=4,170,IF(D53=5,135,IF(D53=6,100))))))) -> FALSE
A54: 40 | C54: PP | E54: =IF(C54="PP",IF(D54=1,300,IF(D54=2,230,IF(D54=3,200,IF(D54=4,170,IF(D54=5,135,IF(D54=6,100))))))) -> FALSE
A55: 41 | C55: PP | E55: =IF(C55="PP",IF(D55=1,300,IF(D55=2,230,IF(D55=3,200,IF(D55=4,170,IF(D55=5,135,IF(D55=6,100))))))) -> FALSE
...

Sheet Artbem
C1: Aeromodelklub Artbem - Lic. Nr 58/25
A8: Sprawozdanie z działalności klubu za rok 2025
A11: Współzawodnictwo w konkurencjach mistrzowskich - SPORT WYCZYNOWY
A13: 4.1 - punkty za miejsca w zawodach i rekordy zawodników
A14: Lp | B14: Imię i Nazwisko zawodnika (nazwa skrócona, miejsce i data imprezy) | C14: Rodzaj zawodów | D14: Miejsce (wpisz liczbę 1-6) | E14: Pktunkty do współzawodnictwa
A15: 1 | B15: Cezary Janas | MŚ F3K | Trap GER | 26.07-02.08..2025 | C15: M | D15: 5 | E15: =IF(C15="M",IF(D15=1,1500,IF(D15=2,1170,IF(D15=3,1000,IF(D15=4,830,IF(D15=5,670,IF(D15=6,500))))))) -> 670
A16: 2 | B16: Vilodymyr Chaika | kk. PŚ F2C Jun. | | C16: M | D16: 2 | E16: =IF(C16="M",IF(D16=1,1500,IF(D16=2,1170,IF(D16=3,1000,IF(D16=4,830,IF(D16=5,670,IF(D16=6,500))))))) -> 1170
A17: 3 | C17: M | E17: =IF(C17="M",IF(D17=1,1500,IF(D17=2,1170,IF(D17=3,1000,IF(D17=4,830,IF(D17=5,670,IF(D17=6,500))))))) -> FALSE
A18: 4 | C18: M | E18: =IF(C18="M",IF(D18=1,1500,IF(D18=2,1170,IF(D18=3,1000,IF(D18=4,830,IF(D18=5,670,IF(D18=6,500))))))) -> FALSE
A19: 5 | C19: Md | E19: =IF(C19="Md",IF(D19=1,500,IF(D19=2,390,IF(D19=3,333,)))) -> 0
A20: 6 | C20: Md | E20: =IF(C20="Md",IF(D20=1,500,IF(D20=2,390,IF(D20=3,333,)))) -> 0
A21: 7 | C21: Md | E21: =IF(C21="Md",IF(D21=1,500,IF(D21=2,390,IF(D21=3,333,)))) -> 0
A22: 8 | C22: Md | E22: =IF(C22="Md",IF(D22=1,500,IF(D22=2,390,IF(D22=3,333,)))) -> 0
A23: 9 | C23: Md | E23: =IF(C23="Md",IF(D23=1,500,IF(D23=2,390,IF(D23=3,333,)))) -> 0
A24: 10 | B24: Cezary Janas | MP F3K | Tuszów Narodowy | 13-14.09.2025 | C24: MP | D24: 3 | E24: =IF(C24="MP",IF(D24=1,300,IF(D24=2,230,IF(D24=3,200,IF(D24=4,170,IF(D24=5,135,IF(D24=6,100))))))) -> 200
A25: 11 | B25: Arkadiusz Witkowski | MP F3K | Tuszów Narodowy | 13-14.09.2025 | C25: MP | D25: 5 | E25: =IF(C25="MP",IF(D25=1,300,IF(D25=2,230,IF(D25=3,200,IF(D25=4,170,IF(D25=5,135,IF(D25=6,100))))))) -> 135
A26: 12 | B26: Tomasz Słowikowski | MP F4B | Częstochowa, 10.2025 | C26: MP | D26: 2 | E26: =IF(C26="MP",IF(D26=1,300,IF(D26=2,230,IF(D26=3,200,IF(D26=4,170,IF(D26=5,135,IF(D26=6,100))))))) -> 230
A27: 13 | B27: Zenon Kowalczyk | MP F4B | Częstochowa, 10.2025 | C27: MP | D27: 3 | E27: =IF(C27="MP",IF(D27=1,300,IF(D27=2,230,IF(D27=3,200,IF(D27=4,170,IF(D27=5,135,IF(D27=6,100))))))) -> 200
A28: 14 | B28: Bohdan Śliwa | MP F4B | Częstochowa, 10.2025 | C28: MP | D28: 4 | E28: =IF(C28="MP",IF(D28=1,300,IF(D28=2,230,IF(D28=3,200,IF(D28=4,170,IF(D28=5,135,IF(D28=6,100))))))) -> 170
A29: 15 | B29: Marcin Olas | MP F4B | Częstochowa, 10.2025 | C29: MP | D29: 5 | E29: =IF(C29="MP",IF(D29=1,300,IF(D29=2,230,IF(D29=3,200,IF(D29=4,170,IF(D29=5,135,IF(D29=6,100))))))) -> 135
A30: 16 | B30: Leo Rogalski | MP F4B | Częstochowa, 10.2025 | C30: MP | D30: 6 | E30: =IF(C30="MP",IF(D30=1,300,IF(D30=2,230,IF(D30=3,200,IF(D30=4,170,IF(D30=5,135,IF(D30=6,100))))))) -> 100
A31: 17 | B31: Zenon Kowalczyk | MP F4H | Ostrów Wlkp., 09.2025 | C31: MP | D31: 5 | E31: =IF(C31="MP",IF(D31=1,300,IF(D31=2,230,IF(D31=3,200,IF(D31=4,170,IF(D31=5,135,IF(D31=6,100))))))) -> 135
A32: 18 | B32: Aleksandra Lesiuk | MP F2B Jun. | Włocławek, 13-15.06.2025 | C32: MP | D32: 4 | E32: =IF(C32="MP",IF(D32=1,300,IF(D32=2,230,IF(D32=3,200,IF(D32=4,170,IF(D32=5,135,IF(D32=6,100))))))) -> 170
A33: 19 | B33: Chaika Volodymyr | MP F2C | Włocławek, 13-15.06.2025 | C33: MP | D33: 2 | E33: =IF(C33="MP",IF(D33=1,300,IF(D33=2,230,IF(D33=3,200,IF(D33=4,170,IF(D33=5,135,IF(D33=6,100))))))) -> 230
A34: 20 | C34: MP | E34: =IF(C34="MP",IF(D34=1,300,IF(D34=2,230,IF(D34=3,200,IF(D34=4,170,IF(D34=5,135,IF(D34=6,100))))))) -> FALSE
A35: 21 | C35: MP | E35: =IF(C35="MP",IF(D35=1,300,IF(D35=2,230,IF(D35=3,200,IF(D35=4,170,IF(D35=5,135,IF(D35=6,100))))))) -> FALSE
A36: 22 | C36: MP | E36: =IF(C36="MP",IF(D36=1,300,IF(D36=2,230,IF(D36=3,200,IF(D36=4,170,IF(D36=5,135,IF(D36=6,100))))))) -> FALSE
A37: 23 | C37: MP | E37: =IF(C37="MP",IF(D37=1,300,IF(D37=2,230,IF(D37=3,200,IF(D37=4,170,IF(D37=5,135,IF(D37=6,100))))))) -> FALSE
A38: 24 | C38: MP | E38: =IF(C38="MP",IF(D38=1,300,IF(D38=2,230,IF(D38=3,200,IF(D38=4,170,IF(D38=5,135,IF(D38=6,100))))))) -> FALSE
A39: 25 | C39: MP | E39: =IF(C39="MP",IF(D39=1,300,IF(D39=2,230,IF(D39=3,200,IF(D39=4,170,IF(D39=5,135,IF(D39=6,100))))))) -> FALSE
A40: 26 | C40: MP | E40: =IF(C40="MP",IF(D40=1,300,IF(D40=2,230,IF(D40=3,200,IF(D40=4,170,IF(D40=5,135,IF(D40=6,100))))))) -> FALSE
A41: 27 | C41: MP | E41: =IF(C41="MP",IF(D41=1,300,IF(D41=2,230,IF(D41=3,200,IF(D41=4,170,IF(D41=5,135,IF(D41=6,100))))))) -> FALSE
A42: 28 | C42: MP | E42: =IF(C42="MP",IF(D42=1,300,IF(D42=2,230,IF(D42=3,200,IF(D42=4,170,IF(D42=5,135,IF(D42=6,100))))))) -> FALSE
A43: 29 | C43: MP | E43: =IF(C43="MP",IF(D43=1,300,IF(D43=2,230,IF(D43=3,200,IF(D43=4,170,IF(D43=5,135,IF(D43=6,100))))))) -> FALSE
A44: 30 | B44: Zenon Kowalczyk | kk. PP F4H | C44: PP | D44: 5 | E44: =IF(C44="PP",IF(D44=1,300,IF(D44=2,230,IF(D44=3,200,IF(D44=4,170,IF(D44=5,135,IF(D44=6,100))))))) -> 135
A45: 31 | B45: Chaika Volodymyr | kk. PP F2C | C45: PP | D45: 2 | E45: =IF(C45="PP",IF(D45=1,300,IF(D45=2,230,IF(D45=3,200,IF(D45=4,170,IF(D45=5,135,IF(D45=6,100))))))) -> 230
A46: 32 | C46: PP | E46: =IF(C46="PP",IF(D46=1,300,IF(D46=2,230,IF(D46=3,200,IF(D46=4,170,IF(D46=5,135,IF(D46=6,100))))))) -> FALSE
A47: 33 | C47: PP | E47: =IF(C47="PP",IF(D47=1,300,IF(D47=2,230,IF(D47=3,200,IF(D47=4,170,IF(D47=5,135,IF(D47=6,100))))))) -> FALSE
A48: 34 | C48: PP | E48: =IF(C48="PP",IF(D48=1,300,IF(D48=2,230,IF(D48=3,200,IF(D48=4,170,IF(D48=5,135,IF(D48=6,100))))))) -> FALSE
A49: 35 | C49: PP | E49: =IF(C49="PP",IF(D49=1,300,IF(D49=2,230,IF(D49=3,200,IF(D49=4,170,IF(D49=5,135,IF(D49=6,100))))))) -> FALSE
...

Sheet AGL
C1: Aeroklub Gliwicki 62/25
A8: Sprawozdanie z działalności klubu za rok 2025
A11: Współzawodnictwo w konkurencjach mistrzowskich - SPORT WYCZYNOWY
A13: 4.1 - punkty za miejsca w zawodach i rekordy zawodników
A14: Lp | B14: Imię i Nazwisko zawodnika (nazwa skrócona, miejsce i data imprezy) | C14: Rodzaj zawodów | D14: Miejsce (wpisz liczbę 1-6) | E14: Pktunkty do współzawodnictwa
A15: 1 | C15: M | E15: =IF(C15="M",IF(D15=1,1500,IF(D15=2,1170,IF(D15=3,1000,IF(D15=4,830,IF(D15=5,670,IF(D15=6,500))))))) -> FALSE
A16: 2 | C16: M | E16: =IF(C16="M",IF(D16=1,1500,IF(D16=2,1170,IF(D16=3,1000,IF(D16=4,830,IF(D16=5,670,IF(D16=6,500))))))) -> FALSE
A17: 3 | C17: M | E17: =IF(C17="M",IF(D17=1,1500,IF(D17=2,1170,IF(D17=3,1000,IF(D17=4,830,IF(D17=5,670,IF(D17=6,500))))))) -> FALSE
A18: 4 | C18: M | E18: =IF(C18="M",IF(D18=1,1500,IF(D18=2,1170,IF(D18=3,1000,IF(D18=4,830,IF(D18=5,670,IF(D18=6,500))))))) -> FALSE
A19: 5 | C19: Md | E19: =IF(C19="Md",IF(D19=1,500,IF(D19=2,390,IF(D19=3,333,)))) -> 0
A20: 6 | C20: Md | E20: =IF(C20="Md",IF(D20=1,500,IF(D20=2,390,IF(D20=3,333,)))) -> 0
A21: 7 | C21: Md | E21: =IF(C21="Md",IF(D21=1,500,IF(D21=2,390,IF(D21=3,333,)))) -> 0
A22: 8 | C22: Md | E22: =IF(C22="Md",IF(D22=1,500,IF(D22=2,390,IF(D22=3,333,)))) -> 0
A23: 9 | C23: Md | E23: =IF(C23="Md",IF(D23=1,500,IF(D23=2,390,IF(D23=3,333,)))) -> 0
A24: 10 | C24: MP | E24: =IF(C24="MP",IF(D24=1,300,IF(D24=2,230,IF(D24=3,200,IF(D24=4,170,IF(D24=5,135,IF(D24=6,100))))))) -> FALSE
A25: 11 | C25: MP | E25: =IF(C25="MP",IF(D25=1,300,IF(D25=2,230,IF(D25=3,200,IF(D25=4,170,IF(D25=5,135,IF(D25=6,100))))))) -> FALSE
A26: 12 | C26: MP | E26: =IF(C26="MP",IF(D26=1,300,IF(D26=2,230,IF(D26=3,200,IF(D26=4,170,IF(D26=5,135,IF(D26=6,100))))))) -> FALSE
A27: 13 | C27: MP | E27: =IF(C27="MP",IF(D27=1,300,IF(D27=2,230,IF(D27=3,200,IF(D27=4,170,IF(D27=5,135,IF(D27=6,100))))))) -> FALSE
A28: 14 | C28: MP | E28: =IF(C28="MP",IF(D28=1,300,IF(D28=2,230,IF(D28=3,200,IF(D28=4,170,IF(D28=5,135,IF(D28=6,100))))))) -> FALSE
A29: 15 | C29: MP | E29: =IF(C29="MP",IF(D29=1,300,IF(D29=2,230,IF(D29=3,200,IF(D29=4,170,IF(D29=5,135,IF(D29=6,100))))))) -> FALSE
A30: 16 | C30: MP | E30: =IF(C30="MP",IF(D30=1,300,IF(D30=2,230,IF(D30=3,200,IF(D30=4,170,IF(D30=5,135,IF(D30=6,100))))))) -> FALSE
A31: 17 | C31: MP | E31: =IF(C31="MP",IF(D31=1,300,IF(D31=2,230,IF(D31=3,200,IF(D31=4,170,IF(D31=5,135,IF(D31=6,100))))))) -> FALSE
A32: 18 | C32: MP | E32: =IF(C32="MP",IF(D32=1,300,IF(D32=2,230,IF(D32=3,200,IF(D32=4,170,IF(D32=5,135,IF(D32=6,100))))))) -> FALSE
A33: 19 | C33: MP | E33: =IF(C33="MP",IF(D33=1,300,IF(D33=2,230,IF(D33=3,200,IF(D33=4,170,IF(D33=5,135,IF(D33=6,100))))))) -> FALSE
A34: 20 | C34: MP | E34: =IF(C34="MP",IF(D34=1,300,IF(D34=2,230,IF(D34=3,200,IF(D34=4,170,IF(D34=5,135,IF(D34=6,100))))))) -> FALSE
A35: 21 | C35: MP | E35: =IF(C35="MP",IF(D35=1,300,IF(D35=2,230,IF(D35=3,200,IF(D35=4,170,IF(D35=5,135,IF(D35=6,100))))))) -> FALSE
... A43: 29 | C43: MP | E43: =IF(C43="MP",IF(D43=1,300,IF(D43=2,230,IF(D43=3,200,IF(D43=4,170,IF(D43=5,135,IF(D43=6,100))))))) -> FALSE
A44: 30 | C44: PP | E44: =IF(C44="PP",IF(D44=1,300,IF(D44=2,230,IF(D44=3,200,IF(D44=4,170,IF(D44=5,135,IF(D44=6,100))))))) -> FALSE
A45: 31 | C45: PP | E45: =IF(C45="PP",IF(D45=1,300,IF(D45=2,230,IF(D45=3,200,IF(D45=4,170,IF(D45=5,135,IF(D45=6,100))))))) -> FALSE
A46: 32 | C46: PP | E46: =IF(C46="PP",IF(D46=1,300,IF(D46=2,230,IF(D46=3,200,IF(D46=4,170,IF(D46=5,135,IF(D46=6,100))))))) -> FALSE
A47: 33 | C47: PP | E47: =IF(C47="PP",IF(D47=1,300,IF(D47=2,230,IF(D47=3,200,IF(D47=4,170,IF(D47=5,135,IF(D47=6,100))))))) -> FALSE
A48: 34 | C48: PP | E48: =IF(C48="PP",IF(D48=1,300,IF(D48=2,230,IF(D48=3,200,IF(D48=4,170,IF(D48=5,135,IF(D48=6,100))))))) -> FALSE
A49: 35 | C49: PP | E49: =IF(C49="PP",IF(D49=1,300,IF(D49=2,230,IF(D49=3,200,IF(D49=4,170,IF(D49=5,135,IF(D49=6,100))))))) -> FALSE
A50: 36 | C50: PP | E50: =IF(C50="PP",IF(D50=1,300,IF(D50=2,230,IF(D50=3,200,IF(D50=4,170,IF(D50=5,135,IF(D50=6,100))))))) -> FALSE
A51: 37 | C51: PP | E51: =IF(C51="PP",IF(D51=1,300,IF(D51=2,230,IF(D51=3,200,IF(D51=4,170,IF(D51=5,135,IF(D51=6,100))))))) -> FALSE
A52: 38 | C52: PP | E52: =IF(C52="PP",IF(D52=1,300,IF(D52=2,230,IF(D52=3,200,IF(D52=4,170,IF(D52=5,135,IF(D52=6,100))))))) -> FALSE
A53: 39 | C53: PP | E53: =IF(C53="PP",IF(D53=1,300,IF(D53=2,230,IF(D53=3,200,IF(D53=4,170,IF(D53=5,135,IF(D53=6,100))))))) -> FALSE
A54: 40 | C54: PP | E54: =IF(C54="PP",IF(D54=1,300,IF(D54=2,230,IF(D54=3,200,IF(D54=4,170,IF(D54=5,135,IF(D54=6,100))))))) -> FALSE
A55: 41 | C55: PP | E55: =IF(C55="PP",IF(D55=1,300,IF(D55=2,230,IF(D55=3,200,IF(D55=4,170,IF(D55=5,135,IF(D55=6,100))))))) -> FALSE
... A58: 44 | C58: PP | E58: =IF(C58="PP",IF(D58=1,300,IF(D58=2,230,IF(D58=3,200,IF(D58=4,170,IF(D58=5,135,IF(D58=6,100))))))) -> FALSE
...

Sheet ALO
C1: Aeroklub Łódzki Nr licencji 21/25
A8: Sprawozdanie z działalności klubu za rok 2025
A11: Współzawodnictwo w konkurencjach mistrzowskich - SPORT WYCZYNOWY
A13: 4.1 - punkty za miejsca w zawodach i rekordy zawodników
A14: Lp | B14: Imię i Nazwisko zawodnika (nazwa skrócona, miejsce i data imprezy) | C14: Rodzaj zawodów | D14: Miejsce (wpisz liczbę 1-6) | E14: Pktunkty do współzawodnictwa
A15: 1 | C15: M | E15: =IF(C15="M",IF(D15=1,1500,IF(D15=2,1170,IF(D15=3,1000,IF(D15=4,830,IF(D15=5,670,IF(D15=6,500))))))) -> FALSE
A16: 2 | C16: M | E16: =IF(C16="M",IF(D16=1,1500,IF(D16=2,1170,IF(D16=3,1000,IF(D16=4,830,IF(D16=5,670,IF(D16=6,500))))))) -> FALSE
A17: 3 | C17: M | E17: =IF(C17="M",IF(D17=1,1500,IF(D17=2,1170,IF(D17=3,1000,IF(D17=4,830,IF(D17=5,670,IF(D17=6,500))))))) -> FALSE
A18: 4 | C18: M | E18: =IF(C18="M",IF(D18=1,1500,IF(D18=2,1170,IF(D18=3,1000,IF(D18=4,830,IF(D18=5,670,IF(D18=6,500))))))) -> FALSE
A19: 5 | C19: Md | E19: =IF(C19="Md",IF(D19=1,500,IF(D19=2,390,IF(D19=3,333,0)))) -> 0
A20: 6 | C20: Md | E20: =IF(C20="Md",IF(D20=1,500,IF(D20=2,390,IF(D20=3,333,0)))) -> 0
A21: 7 | C21: Md | E21: =IF(C21="Md",IF(D21=1,500,IF(D21=2,390,IF(D21=3,333,0)))) -> 0
A22: 8 | C22: Md | E22: =IF(C22="Md",IF(D22=1,500,IF(D22=2,390,IF(D22=3,333,0)))) -> 0
A23: 9 | C23: Md | E23: =IF(C23="Md",IF(D23=1,500,IF(D23=2,390,IF(D23=3,333,0)))) -> 0
A24: 10 | B24: Grzegorz Pawlak – F1E – Toszek | C24: MP | D24: 4 | E24: =IF(C24="MP",IF(D24=1,300,IF(D24=2,230,IF(D24=3,200,IF(D24=4,170,IF(D24=5,135,IF(D24=6,100))))))) -> 170
A25: 11 | C25: MP | E25: =IF(C25="MP",IF(D25=1,300,IF(D25=2,230,IF(D25=3,200,IF(D25=4,170,IF(D25=5,135,IF(D25=6,100))))))) -> FALSE
A26: 12 | C26: MP | E26: =IF(C26="MP",IF(D26=1,300,IF(D26=2,230,IF(D26=3,200,IF(D26=4,170,IF(D26=5,135,IF(D26=6,100))))))) -> FALSE
A27: 13 | C27: MP | E27: =IF(C27="MP",IF(D27=1,300,IF(D27=2,230,IF(D27=3,200,IF(D27=4,170,IF(D27=5,135,IF(D27=6,100))))))) -> FALSE
A28: 14 | C28: MP | E28: =IF(C28="MP",IF(D28=1,300,IF(D28=2,230,IF(D28=3,200,IF(D28=4,170,IF(D28=5,135,IF(D28=6,100))))))) -> FALSE
A29: 15 | C29: MP | E29: =IF(C29="MP",IF(D29=1,300,IF(D29=2,230,IF(D29=3,200,IF(D29=4,170,IF(D29=5,135,IF(D29=6,100))))))) -> FALSE
A30: 16 | C30: MP | E30: =IF(C30="MP",IF(D30=1,300,IF(D30=2,230,IF(D30=3,200,IF(D30=4,170,IF(D30=5,135,IF(D30=6,100))))))) -> FALSE
A31: 17 | C31: MP | E31: =IF(C31="MP",IF(D31=1,300,IF(D31=2,230,IF(D31=3,200,IF(D31=4,170,IF(D31=5,135,IF(D31=6,100))))))) -> FALSE
A32: 18 | C32: MP | E32: =IF(C32="MP",IF(D32=1,300,IF(D32=2,230,IF(D32=3,200,IF(D32=4,170,IF(D32=5,135,IF(D32=6,100))))))) -> FALSE
A33: 19 | C33: MP | E33: =IF(C33="MP",IF(D33=1,300,IF(D33=2,230,IF(D33=3,200,IF(D33=4,170,IF(D33=5,135,IF(D33=6,100))))))) -> FALSE
A34: 20 | C34: MP | E34: =IF(C34="MP",IF(D34=1,300,IF(D34=2,230,IF(D34=3,200,IF(D34=4,170,IF(D34=5,135,IF(D34=6,100))))))) -> FALSE
A35: 21 | C35: MP | E35: =IF(C35="MP",IF(D35=1,300,IF(D35=2,230,IF(D35=3,200,IF(D35=4,170,IF(D35=5,135,IF(D35=6,100))))))) -> FALSE
A36: 22 | C36: MP | E36: =IF(C36="MP",IF(D36=1,300,IF(D36=2,230,IF(D36=3,200,IF(D36=4,170,IF(D36=5,135,IF(D36=6,100))))))) -> FALSE
... A43: 29 | C43: MP | E43: =IF(C43="MP",IF(D43=1,300,IF(D43=2,230,IF(D43=3,200,IF(D43=4,170,IF(D43=5,135,IF(D43=6,100))))))) -> FALSE
A44: 30 | B44: Grzegorz Pawlak – F1A std - Kietrz | C44: PP | E44: =IF(C44="PP",IF(D44=1,300,IF(D44=2,230,IF(D44=3,200,IF(D44=4,170,IF(D44=5,135,IF(D44=6,100))))))) -> FALSE
A45: 31 | C45: PP | E45: =IF(C45="PP",IF(D45=1,300,IF(D45=2,230,IF(D45=3,200,IF(D45=4,170,IF(D45=5,135,IF(D45=6,100))))))) -> FALSE
A46: 32 | C46: PP | E46: =IF(C46="PP",IF(D46=1,300,IF(D46=2,230,IF(D46=3,200,IF(D46=4,170,IF(D46=5,135,IF(D46=6,100))))))) -> FALSE
A47: 33 | C47: PP | E47: =IF(C47="PP",IF(D47=1,300,IF(D47=2,230,IF(D47=3,200,IF(D47=4,170,IF(D47=5,135,IF(D47=6,100))))))) -> FALSE
A48: 34 | C48: PP | E48: =IF(C48="PP",IF(D48=1,300,IF(D48=2,230,IF(D48=3,200,IF(D48=4,170,IF(D48=5,135,IF(D48=6,100))))))) -> FALSE
A49: 35 | C49: PP | E49: =IF(C49="PP",IF(D49=1,300,IF(D49=2,230,IF(D49=3,200,IF(D49=4,170,IF(D49=5,135,IF(D49=6,100))))))) -> FALSE
A50: 36 | C50: PP | E50: =IF(C50="PP",IF(D50=1,300,IF(D50=2,230,IF(D50=3,200,IF(D50=4,170,IF(D50=5,135,IF(D50=6,100))))))) -> FALSE
A51: 37 | C51: PP | E51: =IF(C51="PP",IF(D51=1,300,IF(D51=2,230,IF(D51=3,200,IF(D51=4,170,IF(D51=5,135,IF(D51=6,100))))))) -> FALSE
A52: 38 | C52: PP | E52: =IF(C52="PP",IF(D52=1,300,IF(D52=2,230,IF(D52=3,200,IF(D52=4,170,IF(D52=5,135,IF(D52=6,100))))))) -> FALSE
A53: 39 | C53: PP | E53: =IF(C53="PP",IF(D53=1,300,IF(D53=2,230,IF(D53=3,200,IF(D53=4,170,IF(D53=5,135,IF(D53=6,100))))))) -> FALSE
A54: 40 | C54: PP | E54: =IF(C54="PP",IF(D54=1,300,IF(D54=2,230,IF(D54=3,200,IF(D54=4,170,IF(D54=5,135,IF(D54=6,100))))))) -> FALSE
A55: 41 | C55: PP | E55: =IF(C55="PP",IF(D55=1,300,IF(D55=2,230,IF(D55=3,200,IF(D55=4,170,IF(D55=5,135,IF(D55=6,100))))))) -> FALSE
...

Sheet GSML
C1: Gliwickie SML i Nr Lic - 6/25
A8: Sprawozdanie z działalności klubu za rok 2025
A11: Współzawodnictwo w konkurencjach mistrzowskich - SPORT WYCZYNOWY
A13: 4.1 - punkty za miejsca w zawodach i rekordy zawodników
A14: Lp | B14: Imię i Nazwisko zawodnika (nazwa skrócona, miejsce i data imprezy) | C14: Rodzaj zawodów | D14: Miejsce (wpisz liczbę 1-6) | E14: Pktunkty do współzawodnictwa
A15: 1 | B15: Adam KRAWIEC PŚ F1B | C15: M | D15: 2 | E15: =IF(C15="M",IF(D15=1,1500,IF(D15=2,1170,IF(D15=3,1000,IF(D15=4,830,IF(D15=5,670,IF(D15=6,500))))))) -> 1170
A16: 2 | B16: Franciszek JĘDRYSIAK PŚ F1Qj | C16: M | D16: 2 | E16: =IF(C16="M",IF(D16=1,1500,IF(D16=2,1170,IF(D16=3,1000,IF(D16=4,830,IF(D16=5,670,IF(D16=6,500))))))) -> 1170
A17: 3 | B17: Wojciech BARTEL PŚ F1Qj | C17: M | D17: 5 | E17: =IF(C17="M",IF(D17=1,1500,IF(D17=2,1170,IF(D17=3,1000,IF(D17=4,830,IF(D17=5,670,IF(D17=6,500))))))) -> 670
A18: 4 | B18: Czesław ZIOBER PŚ F1E | C18: M | D18: 5 | E18: =IF(C18="M",IF(D18=1,1500,IF(D18=2,1170,IF(D18=3,1000,IF(D18=4,830,IF(D18=5,670,IF(D18=6,500))))))) -> 670
A19: 5 | B19: Amelia WOJNICKA | ME F1E Junior (kobiety) | CZE Rana 19-23.07.2025 | C19: M | D19: 3 | E19: =IF(C19="M",IF(D19=1,1500,IF(D19=2,1170,IF(D19=3,1000,IF(D19=4,830,IF(D19=5,670,IF(D19=6,500))))))) -> 1000
A20: 6 | C20: M | E20: =IF(C20="M",IF(D20=1,1500,IF(D20=2,1170,IF(D20=3,1000,IF(D20=4,830,IF(D20=5,670,IF(D20=6,500))))))) -> FALSE
A21: 7 | C21: M | E21: =IF(C21="M",IF(D21=1,1500,IF(D21=2,1170,IF(D21=3,1000,IF(D21=4,830,IF(D21=5,670,IF(D21=6,500))))))) -> FALSE
A22: 8 | C22: M | E22: =IF(C22="M",IF(D22=1,1500,IF(D22=2,1170,IF(D22=3,1000,IF(D22=4,830,IF(D22=5,670,IF(D22=6,500))))))) -> FALSE
A23: 9 | C23: M | E23: =IF(C23="M",IF(D23=1,1500,IF(D23=2,1170,IF(D23=3,1000,IF(D23=4,830,IF(D23=5,670,IF(D23=6,500))))))) -> FALSE
A24: 10 | C24: M | E24: =IF(C24="M",IF(D24=1,1500,IF(D24=2,1170,IF(D24=3,1000,IF(D24=4,830,IF(D24=5,670,IF(D24=6,500))))))) -> FALSE
A25: 11 | B25: Amelia WOJNICKA | ME F1E Junior - brąz drużynowo | CZE Rana 19-23.07.2025 | C25: Md | D25: 3 | E25: =IF(C25="Md",IF(D25=1,500,IF(D25=2,390,IF(D25=3,333,0)))) -> 333
A26: 12 | C26: Md | E26: =IF(C26="Md",IF(D26=1,500,IF(D26=2,390,IF(D26=3,333,0)))) -> 0
A27: 13 | C27: Md | E27: =IF(C27="Md",IF(D27=1,500,IF(D27=2,390,IF(D27=3,333,0)))) -> 0
A28: 14 | C28: Md | E28: =IF(C28="Md",IF(D28=1,500,IF(D28=2,390,IF(D28=3,333,0)))) -> 0
A29: 15 | C29: Md | E29: =IF(C29="Md",IF(D29=1,500,IF(D29=2,390,IF(D29=3,333,0)))) -> 0
A30: 16 | C30: Md | E30: =IF(C30="Md",IF(D30=1,500,IF(D30=2,390,IF(D30=3,333,0)))) -> 0
A31: 17 | C31: Md | E31: =IF(C31="Md",IF(D31=1,500,IF(D31=2,390,IF(D31=3,333,0)))) -> 0
A32: 18 | C32: Md | E32: =IF(C32="Md",IF(D32=1,500,IF(D32=2,390,IF(D32=3,333,0)))) -> 0
A33: 19 | C33: Md | E33: =IF(C33="Md",IF(D33=1,500,IF(D33=2,390,IF(D33=3,333,0)))) -> 0
A34: 20 | C34: Md | E34: =IF(C34="Md",IF(D34=1,500,IF(D34=2,390,IF(D34=3,333,0)))) -> 0
A35: 21 | C35: Md | E35: =IF(C35="Md",IF(D35=1,500,IF(D35=2,390,IF(D35=3,333,0)))) -> 0
A36: 22 | B36: Adam KRAWIEC MP F1B, Kietrz 30.08.2025 | C36: MP | D36: 2 | E36: =IF(C36="MP",IF(D36=1,300,IF(D36=2,230,IF(D36=3,200,IF(D36=4,170,IF(D36=5,135,IF(D36=6,100))))))) -> 230
A37: 23 | B37: Dominik Pełka MP F1C, Kietrz 30.08.2025 | C37: MP | D37: 6 | E37: =IF(C37="MP",IF(D37=1,300,IF(D37=2,230,IF(D37=3,200,IF(D37=4,170,IF(D37=5,135,IF(D37=6,100))))))) -> 100
A38: 24 | B38: Jacek POGONOWSKI MP F1Q, Kietrz 30.08.2025 | C38: MP | D38: 4 | E38: =IF(C38="MP",IF(D38=1,300,IF(D38=2,230,IF(D38=3,200,IF(D38=4,170,IF(D38=5,135,IF(D38=6,100))))))) -> 170
A39: 25 | B39: Franciszek JĘDRYSIAK MP F1Q, Kietrz 30.08.2025 | C39: MP | D39: 2 | E39: =IF(C39="MP",IF(D39=1,300,IF(D39=2,230,IF(D39=3,200,IF(D39=4,170,IF(D39=5,135,IF(D39=6,100))))))) -> 230
A40: 26 | B40: Kamil POGONOWSKI MP F1Q, Kietrz 30.08.2025 | C40: MP | D40: 3 | E40: =IF(C40="MP",IF(D40=1,300,IF(D40=2,230,IF(D40=3,200,IF(D40=4,170,IF(D40=5,135,IF(D40=6,100))))))) -> 200
A41: 27 | B41: Franciszek JĘDRYSIAK MP F1Qj, Piła 27-29.06.2025 | C41: MP | D41: 1 | E41: =IF(C41="MP",IF(D41=1,300,IF(D41=2,230,IF(D41=3,200,IF(D41=4,170,IF(D41=5,135,IF(D41=6,100))))))) -> 300
A42: 28 | B42: Kamil POGONOWSKI MP F1Qj, Piła 27-29.06.2025 | C42: MP | D42: 2 | E42: =IF(C42="MP",IF(D42=1,300,IF(D42=2,230,IF(D42=3,200,IF(D42=4,170,IF(D42=5,135,IF(D42=6,100))))))) -> 230
A43: 29 | B43: Zuzannna ZAJDEL MP F1Qj, Piła 27-29.06.2025 | C43: MP | D43: 4 | E43: =IF(C43="MP",IF(D43=1,300,IF(D43=2,230,IF(D43=3,200,IF(D43=4,170,IF(D43=5,135,IF(D43=6,100))))))) -> 170
A44: 30 | B44: Wojciech BARTEL MP F1Qj, Piła 27-29.06.2025 | C44: MP | D44: 5 | E44: =IF(C44="MP",IF(D44=1,300,IF(D44=2,230,IF(D44=3,200,IF(D44=4,170,IF(D44=5,135,IF(D44=6,100))))))) -> 135
A45: 31 | B45: Magdalena BARAN MP F1Qj, Piła 27-29.06.2025 | C45: MP | D45: 6 | E45: =IF(C45="MP",IF(D45=1,300,IF(D45=2,230,IF(D45=3,200,IF(D45=4,170,IF(D45=5,135,IF(D45=6,100))))))) -> 100
A46: 32 | B46: Jacek ŻUROWSKI MP F1E, Toszek 25.10.2025 | C46: MP | D46: 1 | E46: =IF(C46="MP",IF(D46=1,300,IF(D46=2,230,IF(D46=3,200,IF(D46=4,170,IF(D46=5,135,IF(D46=6,100))))))) -> 300
A47: 33 | B47: Józef MONKKIEWICZ MP F1E, Toszek 25.10.2025 | C47: MP | D47: 2 | E47: =IF(C47="MP",IF(D47=1,300,IF(D47=2,230,IF(D47=3,200,IF(D47=4,170,IF(D47=5,135,IF(D47=6,100))))))) -> 230
... A62: 48 | B62: Magdalena BARAN | MP F1E Junior Mł. | Toszek 26.10.2025 | C62: MP | D62: 6 | E62: =IF(C62="MP",IF(D62=1,300,IF(D62=2,230,IF(D62=3,200,IF(D62=4,170,IF(D62=5,135,IF(D62=6,100))))))) -> 100
A63: 49 | C63: MP | E63: =IF(C63="MP",IF(D63=1,300,IF(D63=2,230,IF(D63=3,200,IF(D63=4,170,IF(D63=5,135,IF(D63=6,100))))))) -> FALSE
...

Sheet WIE
C1: KM im. E.Kujana w Wierzawicach Lic. nr. 48/25
A8: Sprawozdanie z działalności klubu za rok 2025
A11: Współzawodnictwo w konkurencjach mistrzowskich - SPORT WYCZYNOWY
A13: 4.1 - punkty za miejsca w zawodach i rekordy zawodników
A14: Lp | B14: Imię i Nazwisko zawodnika (nazwa skrócona, miejsce i data imprezy) | C14: Rodzaj zawodów | D14: Miejsce (wpisz liczbę 1-6) | E14: Pktunkty do współzawodnictwa
A15: 1 | B15: Kacper Walania F2A, Senior, Klasyfikacja generalna Pucharu Świata | C15: M | D15: 5 | E15: =IF(C15="M",IF(D15=1,1500,IF(D15=2,1170,IF(D15=3,1000,IF(D15=4,830,IF(D15=5,670,IF(D15=6,500))))))) -> 670
A16: 2 | B16: Adam Taran F2B, Senior, Klasyfikacja generalna Pucharu Świata | C16: M | D16: 6 | E16: =IF(C16="M",IF(D16=1,1500,IF(D16=2,1170,IF(D16=3,1000,IF(D16=4,830,IF(D16=5,670,IF(D16=6,500))))))) -> 500
A17: 3 | B17: Kacper Walania F2A, Junior Klasyfikacja generalna Pucharu Świata | C17: M | D17: 1 | E17: =IF(C17="M",IF(D17=1,1500,IF(D17=2,1170,IF(D17=3,1000,IF(D17=4,830,IF(D17=5,670,IF(D17=6,500))))))) -> 1500
A18: 4 | B18: Kamil Kupras F2A, Junior Klasyfikacja generalna Pucharu Świata | C18: M | D18: 2 | E18: =IF(C18="M",IF(D18=1,1500,IF(D18=2,1170,IF(D18=3,1000,IF(D18=4,830,IF(D18=5,670,IF(D18=6,500))))))) -> 1170
A19: 5 | B19: Krystian Borzęcki F2B, Senior, Klasyfikacja generalna Pucharu Świata | C19: M | D19: 2 | E19: =IF(C19="M",IF(D19=1,1500,IF(D19=2,1170,IF(D19=3,1000,IF(D19=4,830,IF(D19=5,670,IF(D19=6,500))))))) -> 1170
A20: 6 | B20: Fedan Mariusz F2C, senior, Klasyfikacja generalna Pucharu Świata | C20: M | D20: 5 | E20: =IF(C20="M",IF(D20=1,1500,IF(D20=2,1170,IF(D20=3,1000,IF(D20=4,830,IF(D20=5,670,IF(D20=6,500))))))) -> 670
A21: 7 | B21: Jakub Głuszek F2C, senior, Klasyfikacja generalna Pucharu Świata | C21: M | D21: 2 | E21: =IF(C21="M",IF(D21=1,1500,IF(D21=2,1170,IF(D21=3,1000,IF(D21=4,830,IF(D21=5,670,IF(D21=6,500))))))) -> 1170
A22: 8 | C22: Md | E22: =IF(C22="Md",IF(D22=1,500,IF(D22=2,390,IF(D22=3,333,)))) -> 0
A23: 9 | C23: Md | E23: =IF(C23="Md",IF(D23=1,500,IF(D23=2,390,IF(D23=3,333,)))) -> 0
A24: 10 | C24: Md | E24: =IF(C24="Md",IF(D24=1,500,IF(D24=2,390,IF(D24=3,333,)))) -> 0
A25: 11 | C25: Md | E25: =IF(C25="Md",IF(D25=1,500,IF(D25=2,390,IF(D25=3,333,)))) -> 0
A26: 12 | C26: Md | E26: =IF(C26="Md",IF(D26=1,500,IF(D26=2,390,IF(D26=3,333,)))) -> 0
A27: 13 | B27: Sobala Tomasz F2A | C27: MP | D27: 1 | E27: =IF(C27="MP",IF(D27=1,300,IF(D27=2,230,IF(D27=3,200,IF(D27=4,170,IF(D27=5,135,IF(D27=6,100))))))) -> 300
A28: 14 | B28: Kamil Kupras F2A | C28: MP | D28: 2 | E28: =IF(C28="MP",IF(D28=1,300,IF(D28=2,230,IF(D28=3,200,IF(D28=4,170,IF(D28=5,135,IF(D28=6,100))))))) -> 230
A29: 15 | B29: Artur Miś F2A | C29: MP | D29: 3 | E29: =IF(C29="MP",IF(D29=1,300,IF(D29=2,230,IF(D29=3,200,IF(D29=4,170,IF(D29=5,135,IF(D29=6,100))))))) -> 200
A30: 16 | B30: Popowicz Grzegorz F2A | C30: MP | D30: 4 | E30: =IF(C30="MP",IF(D30=1,300,IF(D30=2,230,IF(D30=3,200,IF(D30=4,170,IF(D30=5,135,IF(D30=6,100))))))) -> 170
A31: 17 | B31: Kuras Sebastian F2A | C31: MP | D31: 5 | E31: =IF(C31="MP",IF(D31=1,300,IF(D31=2,230,IF(D31=3,200,IF(D31=4,170,IF(D31=5,135,IF(D31=6,100))))))) -> 135
A32: 18 | B32: Kacper Walania F2A | C32: MP | D32: 6 | E32: =IF(C32="MP",IF(D32=1,300,IF(D32=2,230,IF(D32=3,200,IF(D32=4,170,IF(D32=5,135,IF(D32=6,100))))))) -> 100
A33: 19 | B33: Kupras Kamil F2A/Rodeo | C33: MP | E33: =IF(C33="MP",IF(D33=1,300,IF(D33=2,230,IF(D33=3,200,IF(D33=4,170,IF(D33=5,135,IF(D33=6,100))))))) -> FALSE
A34: 20 | B34: Tomasz Sobala F2A/Rodeo | C34: MP | E34: =IF(C34="MP",IF(D34=1,300,IF(D34=2,230,IF(D34=3,200,IF(D34=4,170,IF(D34=5,135,IF(D34=6,100))))))) -> FALSE
A35: 21 | B35: Kacper Walania F2A/Rodeo | C35: MP | E35: =IF(C35="MP",IF(D35=1,300,IF(D35=2,230,IF(D35=3,200,IF(D35=4,170,IF(D35=5,135,IF(D35=6,100))))))) -> FALSE
A36: 22 | B36: Popowicz Grzegorz F2A/Rodeo | C36: MP | E36: =IF(C36="MP",IF(D36=1,300,IF(D36=2,230,IF(D36=3,200,IF(D36=4,170,IF(D36=5,135,IF(D36=6,100))))))) -> FALSE
A37: 23 | B37: Fedan Mariusz F2A/Rodeo | C37: MP | E37: =IF(C37="MP",IF(D37=1,300,IF(D37=2,230,IF(D37=3,200,IF(D37=4,170,IF(D37=5,135,IF(D37=6,100))))))) -> FALSE
A38: 24 | B38: Krystian Borzęcki (MP F2B, Włocławek, 13-15.06.25) | C38: MP | D38: 1 | E38: =IF(C38="MP",IF(D38=1,300,IF(D38=2,230,IF(D38=3,200,IF(D38=4,170,IF(D38=5,135,IF(D38=6,100))))))) -> 300
A39: 25 | B39: Marek Rakowski F2B | C39: MP | D39: 2 | E39: =IF(C39="MP",IF(D39=1,300,IF(D39=2,230,IF(D39=3,200,IF(D39=4,170,IF(D39=5,135,IF(D39=6,100))))))) -> 230
A40: 26 | B40: Sebastian Kuras (MP F2B Junior, Włocławek, 13-15.06.25) | C40: MP | D40: 1 | E40: =IF(C40="MP",IF(D40=1,300,IF(D40=2,230,IF(D40=3,200,IF(D40=4,170,IF(D40=5,135,IF(D40=6,100))))))) -> 300
A41: 27 | B41: Maciej Lipka F2B Junior | C41: MP | D41: 5 | E41: =IF(C41="MP",IF(D41=1,300,IF(D41=2,230,IF(D41=3,200,IF(D41=4,170,IF(D41=5,135,IF(D41=6,100))))))) -> 135
A42: 28 | B42: Milena Leszczak F2B Junior | C42: MP | D42: 2 | E42: =IF(C42="MP",IF(D42=1,300,IF(D42=2,230,IF(D42=3,200,IF(D42=4,170,IF(D42=5,135,IF(D42=6,100))))))) -> 230
A43: 29 | B43: Michał Popowicz F2B Junior | C43: MP | D43: 6 | E43: =IF(C43="MP",IF(D43=1,300,IF(D43=2,230,IF(D43=3,200,IF(D43=4,170,IF(D43=5,135,IF(D43=6,100))))))) -> 100
A44: 30 | B44: Fedan Mariusz F2C | C44: MP | D44: 4 | E44: =IF(C44="MP",IF(D44=1,300,IF(D44=2,230,IF(D44=3,200,IF(D44=4,170,IF(D44=5,135,IF(D44=6,100))))))) -> 170
A45: 31 | B45: Artur Tomczyk F2C | C45: MP | D45: 6 | E45: =IF(C45="MP",IF(D45=1,300,IF(D45=2,230,IF(D45=3,200,IF(D45=4,170,IF(D45=5,135,IF(D45=6,100))))))) -> 100
A46: 32 | B46: Szymon Beczała F2C | C46: MP | D46: 6 | E46: =IF(C46="MP",IF(D46=1,300,IF(D46=2,230,IF(D46=3,200,IF(D46=4,170,IF(D46=5,135,IF(D46=6,100))))))) -> 100
A47: 33 | B47: Jakub Głuszek F2C | C47: MP | D47: 2 | E47: =IF(C47="MP",IF(D47=1,300,IF(D47=2,230,IF(D47=3,200,IF(D47=4,170,IF(D47=5,135,IF(D47=6,100))))))) -> 230
A48: 34 | B48: Adam Taran F2B, Senior, Mistrzostwa Polski | C48: MP | D48: 6 | E48: =IF(C48="MP",IF(D48=1,300,IF(D48=2,230,IF(D48=3,200,IF(D48=4,170,IF(D48=5,135,IF(D48=6,100))))))) -> 100
A49: 35 | B49: Joanna Rakowska, F2B, Mistrzostwa Polski, Kobiety | C49: MP | D49: 1 | E49: =IF(C49="MP",IF(D49=1,300,IF(D49=2,230,IF(D49=3,200,IF(D49=4,170,IF(D49=5,135,IF(D49=6,100))))))) -> 300
...

Sheet AW
C1: Aeroklub Warszawski nr Licencji KS 61/25
A8: Sprawozdanie z działalności klubu za rok 2025
A11: Współzawodnictwo w konkurencjach mistrzowskich - SPORT WYCZYNOWY
A13: 4.1 - punkty za miejsca w zawodach i rekordy zawodników
A14: Lp | B14: Imię i Nazwisko zawodnika (nazwa skrócona, miejsce i data imprezy) | C14: Rodzaj zawodów | D14: Miejsce (wpisz liczbę 1-6) | E14: Pktunkty do współzawodnictwa
A15: 1 | C15: M | E15: =IF(C15="M",IF(D15=1,1500,IF(D15=2,1170,IF(D15=3,1000,IF(D15=4,830,IF(D15=5,670,IF(D15=6,500))))))) -> FALSE
A16: 2 | C16: M | E16: =IF(C16="M",IF(D16=1,1500,IF(D16=2,1170,IF(D16=3,1000,IF(D16=4,830,IF(D16=5,670,IF(D16=6,500))))))) -> FALSE
A17: 3 | C17: M | E17: =IF(C17="M",IF(D17=1,1500,IF(D17=2,1170,IF(D17=3,1000,IF(D17=4,830,IF(D17=5,670,IF(D17=6,500))))))) -> FALSE
A18: 4 | C18: M | E18: =IF(C18="M",IF(D18=1,1500,IF(D18=2,1170,IF(D18=3,1000,IF(D18=4,830,IF(D18=5,670,IF(D18=6,500))))))) -> FALSE
A19: 5 | C19: Md | E19: =IF(C19="Md",IF(D19=1,500,IF(D19=2,390,IF(D19=3,333,)))) -> 0
A20: 6 | C20: Md | E20: =IF(C20="Md",IF(D20=1,500,IF(D20=2,390,IF(D20=3,333,)))) -> 0
A21: 7 | C21: Md | E21: =IF(C21="Md",IF(D21=1,500,IF(D21=2,390,IF(D21=3,333,)))) -> 0
A22: 8 | C22: Md | E22: =IF(C22="Md",IF(D22=1,500,IF(D22=2,390,IF(D22=3,333,)))) -> 0
A23: 9 | C23: Md | E23: =IF(C23="Md",IF(D23=1,500,IF(D23=2,390,IF(D23=3,333,)))) -> 0
A24: 10 | B24: Piotr Stasiulewicz (Mistrzostwa Polski F3K, Tuszów Narodowy, 13-14.09.2025) | C24: MP | D24: 6 | E24: =IF(C24="MP",IF(D24=1,300,IF(D24=2,230,IF(D24=3,200,IF(D24=4,170,IF(D24=5,135,IF(D24=6,100))))))) -> 100
A25: 11 | B25: Paweł Makać (Mistrzostwa Polski F4H, Michałów, 19-21.09.2025) | C25: MP | D25: 2 | E25: =IF(C25="MP",IF(D25=1,300,IF(D25=2,230,IF(D25=3,200,IF(D25=4,170,IF(D25=5,135,IF(D25=6,100))))))) -> 230
A26: 12 | B26: Marcin Lisiecki (Mistrzostwa Polski F4C, Michałów, 19-21.09.2025) | C26: MP | D26: 6 | E26: =IF(C26="MP",IF(D26=1,300,IF(D26=2,230,IF(D26=3,200,IF(D26=4,170,IF(D26=5,135,IF(D26=6,100))))))) -> 100
A27: 13 | B27: Marek Roman (Mistrzostwa Polski F1C,Pilszcz, 30.08.2025) | C27: MP | D27: 4 | E27: =IF(C27="MP",IF(D27=1,300,IF(D27=2,230,IF(D27=3,200,IF(D27=4,170,IF(D27=5,135,IF(D27=6,100))))))) -> 170
A28: 14 | C28: MP | E28: =IF(C28="MP",IF(D28=1,300,IF(D28=2,230,IF(D28=3,200,IF(D28=4,170,IF(D28=5,135,IF(D28=6,100))))))) -> FALSE
A29: 15 | C29: MP | E29: =IF(C29="MP",IF(D29=1,300,IF(D29=2,230,IF(D29=3,200,IF(D29=4,170,IF(D29=5,135,IF(D29=6,100))))))) -> FALSE
A30: 16 | C30: MP | E30: =IF(C30="MP",IF(D30=1,300,IF(D30=2,230,IF(D30=3,200,IF(D30=4,170,IF(D30=5,135,IF(D30=6,100))))))) -> FALSE
A31: 17 | C31: MP | E31: =IF(C31="MP",IF(D31=1,300,IF(D31=2,230,IF(D31=3,200,IF(D31=4,170,IF(D31=5,135,IF(D31=6,100))))))) -> FALSE
A32: 18 | C32: MP | E32: =IF(C32="MP",IF(D32=1,300,IF(D32=2,230,IF(D32=3,200,IF(D32=4,170,IF(D32=5,135,IF(D32=6,100))))))) -> FALSE
A33: 19 | C33: MP | E33: =IF(C33="MP",IF(D33=1,300,IF(D33=2,230,IF(D33=3,200,IF(D33=4,170,IF(D33=5,135,IF(D33=6,100))))))) -> FALSE
A34: 20 | C34: MP | E34: =IF(C34="MP",IF(D34=1,300,IF(D34=2,230,IF(D34=3,200,IF(D34=4,170,IF(D34=5,135,IF(D34=6,100))))))) -> FALSE
A35: 21 | C35: MP | E35: =IF(C35="MP",IF(D35=1,300,IF(D35=2,230,IF(D35=3,200,IF(D35=4,170,IF(D35=5,135,IF(D35=6,100))))))) -> FALSE
A36: 22 | C36: MP | E36: =IF(C36="MP",IF(D36=1,300,IF(D36=2,230,IF(D36=3,200,IF(D36=4,170,IF(D36=5,135,IF(D36=6,100))))))) -> FALSE
A37: 23 | C37: MP | E37: =IF(C37="MP",IF(D37=1,300,IF(D37=2,230,IF(D37=3,200,IF(D37=4,170,IF(D37=5,135,IF(D37=6,100))))))) -> FALSE
A38: 24 | C38: MP | E38: =IF(C38="MP",IF(D38=1,300,IF(D38=2,230,IF(D38=3,200,IF(D38=4,170,IF(D38=5,135,IF(D38=6,100))))))) -> FALSE
A39: 25 | C39: MP | E39: =IF(C39="MP",IF(D39=1,300,IF(D39=2,230,IF(D39=3,200,IF(D39=4,170,IF(D39=5,135,IF(D39=6,100))))))) -> FALSE
... A43: 29 | C43: MP | E43: =IF(C43="MP",IF(D43=1,300,IF(D43=2,230,IF(D43=3,200,IF(D43=4,170,IF(D43=5,135,IF(D43=6,100))))))) -> FALSE
A44: 30 | B44: Piotr Stasiulewicz (Puchar Polski F3K, 2025) | C44: PP | D44: 6 | E44: =IF(C44="PP",IF(D44=1,300,IF(D44=2,230,IF(D44=3,200,IF(D44=4,170,IF(D44=5,135,IF(D44=6,100))))))) -> 100
A45: 31 | B45: Marcin Lisiecki (Puchar Polski F4C, 2025) | C45: PP | D45: 4 | E45: =IF(C45="PP",IF(D45=1,300,IF(D45=2,230,IF(D45=3,200,IF(D45=4,170,IF(D45=5,135,IF(D45=6,100))))))) -> 170
A46: 32 | B46: Paweł Makać (Puchar Polski F4H, 2025) | C46: PP | D46: 1 | E46: =IF(C46="PP",IF(D46=1,300,IF(D46=2,230,IF(D46=3,200,IF(D46=4,170,IF(D46=5,135,IF(D46=6,100))))))) -> 300
A47: 33 | B47: Marek Roman (Puchar Polski F1C, 2025) | C47: PP | D47: 5 | E47: =IF(C47="PP",IF(D47=1,300,IF(D47=2,230,IF(D47=3,200,IF(D47=4,170,IF(D47=5,135,IF(D47=6,100))))))) -> 135
A48: 34 | C48: PP | E48: =IF(C48="PP",IF(D48=1,300,IF(D48=2,230,IF(D48=3,200,IF(D48=4,170,IF(D48=5,135,IF(D48=6,100))))))) -> FALSE
A49: 35 | C49: PP | E49: =IF(C49="PP",IF(D49=1,300,IF(D49=2,230,IF(D49=3,200,IF(D49=4,170,IF(D49=5,135,IF(D49=6,100))))))) -> FALSE
A50: 36 | C50: PP | E50: =IF(C50="PP",IF(D50=1,300,IF(D50=2,230,IF(D50=3,200,IF(D50=4,170,IF(D50=5,135,IF(D50=6,100))))))) -> FALSE
A51: 37 | C51: PP | E51: =IF(C51="PP",IF(D51=1,300,IF(D51=2,230,IF(D51=3,200,IF(D51=4,170,IF(D51=5,135,IF(D51=6,100))))))) -> FALSE
A52: 38 | C52: PP | E52: =IF(C52="PP",IF(D52=1,300,IF(D52=2,230,IF(D52=3,200,IF(D52=4,170,IF(D52=5,135,IF(D52=6,100))))))) -> FALSE
...

Sheet AZM
C1: Aeroklub Ziemi Mazowieckiej, Lic. KS nr 11/25
A8: Sprawozdanie z działalności klubu za rok 2025
A11: Współzawodnictwo w konkurencjach mistrzowskich - SPORT WYCZYNOWY
A13: 4.1 - punkty za miejsca w zawodach i rekordy zawodników
A14: Lp | B14: Imię i Nazwisko zawodnika (nazwa skrócona, miejsce i data imprezy) | C14: Rodzaj zawodów | D14: Miejsce (wpisz liczbę 1-6) | E14: Pktunkty do współzawodnictwa
A15: 1 | B15: Marek Dąbrowski, F4C, Euro Scale Masters i Europa Star Cup, Ostrów Wlkp, 08.06.2025 | C15: M | E15: =IF(C15="M",IF(D15=1,1500,IF(D15=2,1170,IF(D15=3,1000,IF(D15=4,830,IF(D15=5,670,IF(D15=6,500))))))) -> FALSE
A16: 2 | C16: M | E16: =IF(C16="M",IF(D16=1,1500,IF(D16=2,1170,IF(D16=3,1000,IF(D16=4,830,IF(D16=5,670,IF(D16=6,500))))))) -> FALSE
A17: 3 | C17: M | E17: =IF(C17="M",IF(D17=1,1500,IF(D17=2,1170,IF(D17=3,1000,IF(D17=4,830,IF(D17=5,670,IF(D17=6,500))))))) -> FALSE
