Workbook

Sheet Help
A7: Pomocne informacje
A9: Lp. | B9: Kwestia
A10: 1 | B10: Przed przystąpieniem do edycji zapoznaj się z regulaminem i przygotuj wyniki zawodów.
A11: 2 | B11: Potrzebujesz wyniki zawodów, w których startowali reprezentanci Twojego KS.
A12: 3 | B12: Potrzebujesz wyniki zawodów, których organizatorem był Twój KS i one muszą być dołączone do sprawozdania. Wyniki zawodów ogólnopolskich - po zakończonym sezonie, są w posiadaniu KM.
A13: 4 | B13: Wpisywanie danych - TYLKO W BIAŁYCH POLACH - do edycji. Pozostałe komórki arkusza są zablokowane.
A14: 5 | B14: Jeśli w Twoim klubie jest zwykle więcej niż 4 medalistów MŚ, ME, MP - nie martw się. Napisz, że masz problem, a my szybko podeślemy e-Formularz z większą liczbą wierszy.
A15: 6 | B15: Czy arkusz jest chroniony? TAK, za wyjątkiem pól edycyjnych koloru białego.
A16: 7 | B16: Ochrona arkusza blokuje również formuły całego arkusza xls.
A17: 8 | B17: Liczby wpisywane w polach do edycji muszą być w zakresie podanym w nagłówku kolumny. Jeśli będą większe - w żółtym polu zamiast wyniku pojawia się słowo FAŁSZ lub wartość ZERO. To tylko sygnał, że wpisano liczbę inną niż podano w nagłówku.
A18: 9 | B18: Pola żółte (rezultaty działania formuły) oraz pola żółte będące podsumowaniami wyświetlają się automatycznie.
A19: 10 | B19: Wypełniony arkusz sprawozdania, w postaci e-Formularza, należy przesłać drogą elektroniczną (plik XLS oraz PDF) - na adres mailowy przewodniczącego Komisji Modelarskiej.
A20: 11 | B20: Wymagana nazwa pliku: Krótka nazwa KS_ranking_2024, np. Sowiniec_ranking_2024
B21: Krótko na temat skrótów:
A22: M | B22: punkty za miejsce 1-6 na zawodach międzynarodowych, takich jak: Światowe Igrzyska Lotnicze WAG, mistrzostwa świata, Europy, zawody Eurotur lub w klasyfikacji końcowej Pucharu Świata FAI.
A23: Md | B23: punkty za miejsce 1-3 w klasyfikacji drużynowej (za zdobycie medalu drużynowego) - dotyczy wyłącznie wyżej wymienionych zawodów międzynarodowych M. Liczba punktów na jednego członka drużyny, to 1/3 punktów za medal indywidualny.
A24: MP | B24: punkty za miejsce 1-6 w Mistrzostwach Polski.
A25: PP | B25: punkty za miejsca 1-6 w klasyfikacji końcowej Pucharu Polski.
A26: PS | B26: punkty za miejsca 1-6 w klasyfikacji końcowej Pucharu Świata w konkurencjach tymczasowych FAI.
A27: FR | B27: punkty za miejsca 1-6 w rankingu światowym FAI Rookie Project (Indoor lub Outdoor) za rok poprzedni.
A28: RS | B28: punkty za ustanowienie rekordu świata.
A29: RP | B29: punkty za ustanowienie rekordu Polski.
A30: FAI | B30: punkty za miejsce 1-3 w Finale Światowym Konkursu Młodych Artystów FAI, tzn. zdobycie medalu FAI (ZŁ, SR, BR)
A31: PL | B31: punkty za miejsce 1-3 w Finale Ogólnopolskim Konkursu Młodych Artystów FAI, tzn. zdobycie medalu AP (ZŁ, SR, BR)
B34: projekt i pracowanie: Bogdan Wierzba

Sheet Ranking
A4: Wyniki ogólnopolskiego współzawodnictwa Klubów Sportowych
A5: w modelarstwie lotniczm i kosmicznym za rok 2025 zatwierdzone przez Komisję Modelarską
A7: M-ce | B7: Nazwa i nr Licencji Klubu Sportowego | C7: Sport Wyczynowy pkt. 4.1 | D7: Sport Wyczynowy pkt. 4.2 | E7: SPORT wyczynowy RAZEM | F7: Sport Powszechny pkt. 4.3 | G7: Sport Powszechny pkt. 4.4 | H7: Sport Powszechny pkt. 4.5 | I7: SPORT powszechny RAZEM | J7: Punkty dodatkowe pkt. 4.6 | K7: Liczba punktów OGÓŁEM
A8: 1 | B8: =SAUT!$C$1 -> SAUT LEONARDO i nr Licencji KS nr 4/25 | C8: =SAUT!$E$187 -> 40465 | D8: =SAUT!$E$198 -> 1000 | E8: =SUM(C8+D8) -> 41465 | F8: =SAUT!$E$211 -> 0 | G8: =SAUT!$E$261 -> 0 | H8: =SAUT!$E$275 -> 0 | I8: =SUM(F8:H8) -> 0 | J8: =SAUT!$E$280 -> 720 | K8: =SAUT!$E$284 -> 42185
A9: 2 | B9: =GSML!$C$1 -> Gliwickie SML i Nr Lic - 6/25 | C9: =GSML!$E$98 -> 14288 | D9: =GSML!$E$109 -> 10500 | E9: =SUM(C9+D9) -> 24788 | F9: =GSML!$E$122 -> 6100 | G9: =GSML!$E$191 -> 6030 | H9: =GSML!$E$205 -> 3400 | I9: =SUM(F9:H9) -> 15530 | J9: =GSML!$E$210 -> 1220 | K9: =GSML!$E$214 -> 41538
A10: 3 | B10: =MTSR!$C$1 -> MTSR Sowiniec, Lic. Nr 18/25 | C10: =MTSR!$E$179 -> 17513 | D10: =MTSR!$E$190 -> 0 | E10: =SUM(C10+D10) -> 17513 | F10: =MTSR!$E$203 -> 500 | G10: =MTSR!$E$253 -> 480 | H10: =MTSR!$E$267 -> 800 | I10: =SUM(F10:H10) -> 1780 | J10: =MTSR!$E$272 -> 400 | K10: =MTSR!$E$276 -> 19693
A11: 4 | B11: =WIE!$C$1 -> KM im. E.Kujana w Wierzawicach Lic. nr. 48/25 | C11: =WIE!$E$71 -> 12940 | D11: =WIE!$E$82 -> 2500 | E11: =SUM(C11+D11) -> 15440 | F11: =WIE!$E$95 -> 700 | G11: =WIE!$E$149 -> 2020 | H11: =WIE!$E$163 -> 0 | I11: =SUM(F11:H11) -> 2720 | J11: =WIE!$E$168 -> 620 | K11: =WIE!$E$172 -> 18780
A12: 5 | B12: =Artbem!$C$1 -> Aeromodelklub Artbem - Lic. Nr 58/25 | C12: =Artbem!$E$63 -> 3910 | D12: =Artbem!$E$74 -> 3100 | E12: =SUM(C12+D12) -> 7010 | F12: =Artbem!$E$87 -> 3170 | G12: =Artbem!$E$141 -> 400 | H12: =Artbem!$E$155 -> 1400 | I12: =SUM(F12:H12) -> 4970 | J12: =Artbem!$E$160 -> 480 | K12: =Artbem!$E$164 -> 12460
A13: 6 | B13: =APO!$C$1 -> Aeroklub Poznański, nr LKS 25/25 | C13: =APO!$E$63 -> 6860 | D13: =APO!$E$74 -> 3000 | E13: =SUM(C13+D13) -> 9860 | F13: =APO!$E$87 -> 1020 | G13: =APO!$E$137 -> 650 | H13: =APO!$E$151 -> 200 | I13: =SUM(F13:H13) -> 1870 | J13: =APO!$E$156 -> 440 | K13: =APO!$E$160 -> 12170
A14: 7 | B14: =ORION!$C$1 -> UKM ORION w Muszynie Lic. Nr 12/25 | C14: =ORION!$E$63 -> 6850 | D14: =ORION!$E$74 -> 1500 | E14: =SUM(C14+D14) -> 8350 | F14: =ORION!$E$87 -> 0 | G14: =ORION!$E$141 -> 0 | H14: =ORION!$E$155 -> 0 | I14: =SUM(F14:H14) -> 0 | J14: =ORION!$E$160 -> 140 | K14: =ORION!$E$164 -> 8490
A15: 8 | B15: =HSML!$C$1 -> Hrubieszowskie SML i nr Licencji KS 19/25 | C15: =HSML!$E$63 -> 1405 | D15: =HSML!$E$74 -> 0 | E15: =SUM(C15+D15) -> 1405 | F15: =HSML!$E$87 -> 2380 | G15: =HSML!$E$141 -> 2890 | H15: =HSML!$E$155 -> 500 | I15: =SUM(F15:H15) -> 5770 | J15: =HSML!$E$160 -> 260 | K15: =HSML!$E$164 -> 7435
A16: 9 | B16: =AZM!$C$1 -> Aeroklub Ziemi Mazowieckiej, Lic. KS nr 11/25 | C16: =AZM!$E$63 -> 730 | D16: =AZM!$E$74 -> 800 | E16: =SUM(C16+D16) -> 1530 | F16: =AZM!$E$87 -> 3700 | G16: =AZM!$E$141 -> 570 | H16: =AZM!$E$155 -> 1400 | I16: =SUM(F16:H16) -> 5670 | J16: =AZM!$E$160 -> 60 | K16: =AZM!$E$164 -> 7260
A17: 10 | B17: =AW!$C$1 -> Aeroklub Warszawski nr Licencji KS 61/25 | C17: =AW!$E$63 -> 1305 | D17: =AW!$E$74 -> 500 | E17: =SUM(C17+D17) -> 1805 | F17: =AW!$E$87 -> 2080 | G17: =AW!$E$141 -> 2260 | H17: =AW!$E$155 -> 500 | I17: =SUM(F17:H17) -> 4840 | J17: =AW!$E$160 -> 600 | K17: =AW!$E$164 -> 7245
A18: 11 | B18: =ASW!$C$1 -> Aeroklub Stalowowolski nr licencji 47/25 | C18: =ASW!$E$63 -> 1265 | D18: =ASW!$E$74 -> 3000 | E18: =SUM(C18+D18) -> 4265 | F18: =ASW!$E$87 -> 100 | G18: =ASW!$E$141 -> 200 | H18: =ASW!$E$155 -> 500 | I18: =SUM(F18:H18) -> 800 | J18: =ASW!$E$160 -> 300 | K18: =ASW!$E$164 -> 5365
A19: 12 | B19: =AROW!$C$1 -> Aeroklub Rybnickiego Okręgu Węglowego 27/25 | C19: =AROW!$E$63 -> 2968 | D19: =AROW!$E$74 -> 1000 | E19: =SUM(C19+D19) -> 3968 | F19: =AROW!$E$87 -> 700 | G19: =AROW!$E$141 -> 0 | H19: =AROW!$E$155 -> 0 | I19: =SUM(F19:H19) -> 700 | J19: =AROW!$E$160 -> 460 | K19: =AROW!$E$164 -> 5128
A20: 13 | B20: =AGL!$C$1 -> Aeroklub Gliwicki 62/25 | C20: =AGL!$E$63 -> 0 | D20: =AGL!$E$74 -> 0 | E20: =SUM(C20+D20) -> 0 | F20: =AGL!$E$87 -> 2340 | G20: =AGL!$E$141 -> 490 | H20: =AGL!$E$155 -> 1900 | I20: =SUM(F20:H20) -> 4730 | J20: =AGL!$E$160 -> 140 | K20: =AGL!$E$164 -> 4870
A21: 14 | B21: =AOS!$C$1 -> Aeroklub Ostrowski 2/25 | C21: =AOS!$E$63 -> 1070 | D21: =AOS!$E$74 -> 2500 | E21: =SUM(C21+D21) -> 3570 | F21: =AOS!$E$87 -> 0 | G21: =AOS!$E$141 -> 200 | H21: =AOS!$E$155 -> 0 | I21: =SUM(F21:H21) -> 200 | J21: =AOS!$E$160 -> 80 | K21: =AOS!$E$164 -> 3850
A22: 15 | B22: =ŁASK!$C$1 -> Klub Modelarstwa LiK ŁDK w Łasku 35/25 | C22: =ŁASK!$E$63 -> 0 | D22: =ŁASK!$E$74 -> 0 | E22: =SUM(C22+D22) -> 0 | F22: =ŁASK!$E$87 -> 1100 | G22: =ŁASK!$E$141 -> 540 | H22: =ŁASK!$E$155 -> 700 | I22: =SUM(F22:H22) -> 2340 | J22: =ŁASK!$E$160 -> 140 | K22: =ŁASK!$E$164 -> 2480
A23: 16 | B23: =MSML!$C$1 -> Mieleckie SML 41/25 | C23: =MSML!$E$63 -> 460 | D23: =MSML!$E$74 -> 0 | E23: =SUM(C23+D23) -> 460 | F23: =MSML!$E$87 -> 720 | G23: =MSML!$E$141 -> 200 | H23: =MSML!$E$155 -> 400 | I23: =SUM(F23:H23) -> 1320 | J23: =MSML!$E$160 -> 80 | K23: =MSML!$E$164 -> 1860
A24: 17 | B24: =APSL!$C$1 -> Aeroklub Podkarpacki SL w Krośnie, 67/25 | C24: =APSL!$E$63 -> 305 | D24: =APSL!$E$74 -> 500 | E24: =SUM(C24+D24) -> 805 | F24: =APSL!$E$87 -> 0 | G24: =APSL!$E$141 -> 320 | H24: =APSL!$E$155 -> 0 | I24: =SUM(F24:H24) -> 320 | J24: =APSL!$E$160 -> 80 | K24: =APSL!$E$164 -> 1205
A25: 18 | B25: =ALO!$C$1 -> Aeroklub Łódzki Nr licencji 21/25 | C25: =ALO!$E$63 -> 170 | D25: =ALO!$E$74 -> 0 | E25: =SUM(C25+D25) -> 170 | F25: =ALO!$E$87 -> 200 | G25: =ALO!$E$141 -> 290 | H25: =ALO!$E$155 -> 0 | I25: =SUM(F25:H25) -> 490 | J25: =ALO!$E$160 -> 60 | K25: =ALO!$E$164 -> 720
A26: 19 | B26: SMO "FENIKS" - 20/25 | J26: 520 | K26: 520
A27: 20 | B27: Aeroklub Ziemi Pilskiej - 33/25 | J27: 360 | K27: 360
A28: 21 | B28: Aeroklub Gdański - 44/25 | J28: 320 | K28: 320
A29: 22 | B29: Aeroklub Włocławski - 71/25 | J29: 320 | K29: 320
A30: 23 | B30: OSiR Suwałki - 60/25 | J30: 300 | K30: 300
A31: 24 | B31: Aeroklub Nowy Targ - 13/25 | J31: 280 | K31: 280
A32: 25 | B32: Aeroklub Białostocki - 43/25 | J32: 180 | K32: 180
A33: 26 | B33: Aeroklub Podhalański - 38/25 | J33: 160 | K33: 160
A34: 27-28 | B34: Aeroklub Częstochowski - 37/25 | J34: 120 | K34: 120
A35: 27-28 | B35: Aeroklub Jeleniogórski - 39/25 | J35: 120 | K35: 120
A36: 29-30 | B36: Aeroklub Krakowski - 40/25 | J36: 100 | K36: 100
A37: 29-30 | B37: Miejskie Centrum Sportu Chrzanów - 24/25 | J37: 100 | K37: 100
A38: 31 | B38: Fundacja Lotnisko Leszno - 63/25 | J38: 80 | K38: 80
A39: 32-33 | B39: Aeroklub Rzeszowski - 45/25 | J39: 60 | K39: 60
A40: 32-33 | B40: Aeroklub Zagłębia Miedziowego - 14/25 | J40: 60 | K40: 60
A41: 34-38 | B41: Aeroklub "ORLĄT" w Dęblinie - 50/25 | J41: 40 | K41: 40
A42: 34-38 | B42: Aeroklub Bielsko-Bialski - 10/25 | J42: 40 | K42: 40
A43: 34-38 | B43: Aeroklub Lubelski w Radawcu - 73/25 | J43: 40 | K43: 40
A44: 34-38 | B44: Aeroklub Szczeciński - 5/25 | J44: 40 | K44: 40
A45: 34-38 | B45: Aeroklub Ziemi Lubuskiej - 36/25 | J45: 40 | K45: 40
A46: 39-45 | B46: Aeroklub Kujawski - 52/25 | J46: 20 | K46: 20
A47: 39-45 | B47: Aeroklub Nadwiślański - 1/25 | J47: 20 | K47: 20
A48: 39-45 | B48: Aeroklub Radomski - 49/25 | J48: 20 | K48: 20
A49: 39-45 | B49: Aeroklub Tuszowski - 80/25 | J49: 20 | K49: 20
A50: 39-45 | B50: Klub Modelarski w Kętrzynie - 3/25 | J50: 20 | K50: 20
... A59: 46-52 | B59: Aeroklub Aviator - 86/25 | J59: 0 | K59: 0
B62: oprac. Bogdan Wierzba

Sheet ASW
C1: Aeroklub Stalowowolski nr licencji 47/25
A8: Sprawozdanie z działalności klubu za rok 2025
A11: Współzawodnictwo w konkurencjach mistrzowskich - SPORT WYCZYNOWY
A13: 4.1 - punkty za miejsca w zawodach i rekordy zawodników
A14: Lp | B14: Imię i Nazwisko zawodnika (nazwa skrócona, miejsce i data imprezy) | C14: Rodzaj zawodów | D14: Miejsce (wpisz liczbę 1-6) | E14: Pktunkty do współzawodnictwa
A15: 1 | C15: M | E15: =IF(C15="M",IF(D15=1,1500,IF(D15=2,1170,IF(D15=3,1000,IF(D15=4,830,IF(D15=5,670,IF(D15=6,500))))))) -> FALSE
A16: 2 | C16: M | E16: =IF(C16="M",IF(D16=1,1500,IF(D16=2,1170,IF(D16=3,1000,IF(D16=4,830,IF(D16=5,670,IF(D16=6,500))))))) -> FALSE
A17: 3 | C17: M | E17: =IF(C17="M",IF(D17=1,1500,IF(D17=2,1170,IF(D17=3,1000,IF(D17=4,830,IF(D17=5,670,IF(D17=6,500))))))) -> FALSE
A18: 4 | C18: M | E18: =IF(C18="M",IF(D18=1,1500,IF(D18=2,1170,IF(D18=3,1000,IF(D18=4,830,IF(D18=5,670,IF(D18=6,500))))))) -> FALSE
A19: 5 | C19: Md | E19: =IF(C19="Md",IF(D19=1,500,IF(D19=2,390,IF(D19=3,333,)))) -> 0
A20: 6 | C20: Md | E20: =IF(C20="Md",IF(D20=1,500,IF(D20=2,390,IF(D20=3,333,)))) -> 0
A21: 7 | C21: Md | E21: =IF(C21="Md",IF(D21=1,500,IF(D21=2,390,IF(D21=3,333,)))) -> 0
A22: 8 | C22: Md | E22: =IF(C22="Md",IF(D22=1,500,IF(D22=2,390,IF(D22=3,333,)))) -> 0
A23: 9 | C23: Md | E23: =IF(C23="Md",IF(D23=1,500,IF(D23=2,390,IF(D23=3,333,)))) -> 0
A24: 10 | B24: Mariusz Jaroszak , MP F3K , Tuszów Narodowy 13-14.09.2025 | C24: MP | D24: 2 | E24: =IF(C24="MP",IF(D24=1,300,IF(D24=2,230,IF(D24=3,200,IF(D24=4,170,IF(D24=5,135,IF(D24=6,100))))))) -> 230
A25: 11 | B25: Paweł Żak , MP F3K , Tuszów Narodowy 13-14.09.2025 | C25: MP | D25: 4 | E25: =IF(C25="MP",IF(D25=1,300,IF(D25=2,230,IF(D25=3,200,IF(D25=4,170,IF(D25=5,135,IF(D25=6,100))))))) -> 170
A26: 12 | C26: MP | E26: =IF(C26="MP",IF(D26=1,300,IF(D26=2,230,IF(D26=3,200,IF(D26=4,170,IF(D26=5,135,IF(D26=6,100))))))) -> FALSE
A27: 13 | C27: MP | E27: =IF(C27="MP",IF(D27=1,300,IF(D27=2,230,IF(D27=3,200,IF(D27=4,170,IF(D27=5,135,IF(D27=6,100))))))) -> FALSE
A28: 14 | C28: MP | E28: =IF(C28="MP",IF(D28=1,300,IF(D28=2,230,IF(D28=3,200,IF(D28=4,170,IF(D28=5,135,IF(D28=6,100))))))) -> FALSE
A29: 15 | C29: MP | E29: =IF(C29="MP",IF(D29=1,300,IF(D29=2,230,IF(D29=3,200,IF(D29=4,170,IF(D29=5,135,IF(D29=6,100))))))) -> FALSE
A30: 16 | C30: MP | E30: =IF(C30="MP",IF(D30=1,300,IF(D30=2,230,IF(D30=3,200,IF(D30=4,170,IF(D30=5,135,IF(D30=6,100))))))) -> FALSE
A31: 17 | C31: MP | E31: =IF(C31="MP",IF(D31=1,300,IF(D31=2,230,IF(D31=3,200,IF(D31=4,170,IF(D31=5,135,IF(D31=6,100))))))) -> FALSE
A32: 18 | C32: MP | E32: =IF(C32="MP",IF(D32=1,300,IF(D32=2,230,IF(D32=3,200,IF(D32=4,170,IF(D32=5,135,IF(D32=6,100))))))) -> FALSE
A33: 19 | C33: MP | E33: =IF(C33="MP",IF(D33=1,300,IF(D33=2,230,IF(D33=3,200,IF(D33=4,170,IF(D33=5,135,IF(D33=6,100))))))) -> FALSE
A34: 20 | C34: MP | E34: =IF(C34="MP",IF(D34=1,300,IF(D34=2,230,IF(D34=3,200,IF(D34=4,170,IF(D34=5,135,IF(D34=6,100))))))) -> FALSE
A35: 21 | C35: MP | E35: =IF(C35="MP",IF(D35=1,300,IF(D35=2,230,IF(D35=3,200,IF(D35=4,170,IF(D35=5,135,IF(D35=6,100))))))) -> FALSE
A36: 22 | C36: MP | E36: =IF(C36="MP",IF(D36=1,300,IF(D36=2,230,IF(D36=3,200,IF(D36=4,170,IF(D36=5,135,IF(D36=6,100))))))) -> FALSE
A37: 23 | C37: MP | E37: =IF(C37="MP",IF(D37=1,300,IF(D37=2,230,IF(D37=3,200,IF(D37=4,170,IF(D37=5,135,IF(D37=6,100))))))) -> FALSE
... A43: 29 | C43: MP | E43: =IF(C43="MP",IF(D43=1,300,IF(D43=2,230,IF(D43=3,200,IF(D43=4,170,IF(D43=5,135,IF(D43=6,100))))))) -> FALSE
A44: 30 | B44: Paweł Żak , PP F3K | C44: PP | D44: 1 | E44: =IF(C44="PP",IF(D44=1,300,IF(D44=2,230,IF(D44=3,200,IF(D44=4,170,IF(D44=5,135,IF(D44=6,100))))))) -> 300
A45: 31 | B45: Mariusz Jaroszak , PP F3K | C45: PP | D45: 2 | E45: =IF(C45="PP",IF(D45=1,300,IF(D45=2,230,IF(D45=3,200,IF(D45=4,170,IF(D45=5,135,IF(D45=6,100))))))) -> 230
A46: 32 | B46: Wojciech Drzymała , PP F3K | C46: PP | D46: 3 | E46: =IF(C46="PP",IF(D46=1,300,IF(D46=2,230,IF(D46=3,200,IF(D46=4,170,IF(D46=5,135,IF(D46=6,100))))))) -> 200
A47: 33 | B47: Marcin Kieliszek , PP F3K | C47: PP | D47: 5 | E47: =IF(C47="PP",IF(D47=1,300,IF(D47=2,230,IF(D47=3,200,IF(D47=4,170,IF(D47=5,135,IF(D47=6,100))))))) -> 135
A48: 34 | C48: PP | E48: =IF(C48="PP",IF(D48=1,300,IF(D48=2,230,IF(D48=3,200,IF(D48=4,170,IF(D48=5,135,IF(D48=6,100))))))) -> FALSE
A49: 35 | C49: PP | E49: =IF(C49="PP",IF(D49=1,300,IF(D49=2,230,IF(D49=3,200,IF(D49=4,170,IF(D49=5,135,IF(D49=6,100))))))) -> FALSE
A50: 36 | C50: PP | E50: =IF(C50="PP",IF(D50=1,300,IF(D50=2,230,IF(D50=3,200,IF(D50=4,170,IF(D50=5,135,IF(D50=6,100))))))) -> FALSE
A51: 37 | C51: PP | E51: =IF(C51="PP",IF(D51=1,300,IF(D51=2,230,IF(D51=3,200,IF(D51=4,170,IF(D51=5,135,IF(D51=6,100))))))) -> FALSE
A52: 38 | C52: PP | E52: =IF(C52="PP",IF(D52=1,300,IF(D52=2,230,IF(D52=3,200,IF(D52=4,170,IF(D52=5,135,IF(D52=6,100))))))) -> FALSE
A53: 39 | C53: PP | E53: =IF(C53="PP",IF(D53=1,300,IF(D53=2,230,IF(D53=3,200,IF(D53=4,170,IF(D53=5,135,IF(D53=6,100))))))) -> FALSE
A54: 40 | C54: PP | E54: =IF(C54="PP",IF(D54=1,300,IF(D54=2,230,IF(D54=3,200,IF(D54=4,170,IF(D54=5,135,IF(D54=6,100))))))) -> FALSE
A55: 41 | C55: PP | E55: =IF(C55="PP",IF(D55=1,300,IF(D55=2,230,IF(D55=3,200,IF(D55=4,170,IF(D55=5,135,IF(D55=6,100))))))) -> FALSE
A56: 42 | C56: PP | E56: =IF(C56="PP",IF(D56=1,300,IF(D56=2,230,IF(D56=3,200,IF(D56=4,170,IF(D56=5,135,IF(D56=6,100))))))) -> FALSE
A57: 43 | C57: PP | E57: =IF(C57="PP",IF(D57=1,300,IF(D57=2,230,IF(D57=3,200,IF(D57=4,170,IF(D57=5,135,IF(D57=6,100))))))) -> FALSE
A58: 44 | C58: PP | E58: =IF(C58="PP",IF(D58=1,300,IF(D58=2,230,IF(D58=3,200,IF(D58=4,170,IF(D58=5,135,IF(D58=6,100))))))) -> FALSE
A59: 45 | C59: RS | E59: =IF(C59="RS",IF(D59=1,1000)) -> FALSE
A60: 46 | C60: RS | E60: =IF(C60="RS",IF(D60=1,1000)) -> FALSE
A61: 47 | C61: RP | E61: =IF(C61="RP",IF(D61=1,200)) -> FALSE
A62: 48 | C62: RP | E62: =IF(C62="RP",IF(D62=1,200)) -> FALSE
A63: 4.1 - punkty razem: | E63: =SUM(E15:E62) -> 1265
A65: 4.2 - punkty za organizację zawodów
A66: Lp | B66: Nazwa skrócona zorganizowanych zawodów (konkurencja, miejsce, data) | C66: Wpisz 1 (w poz. 3-7, liczba może być większa) | D66: Ilość pkt za 1 zorganizowaną imprezę | E66: Pktunkty do współzawodnictwa
A67: 1 | B67: Mistrzostwa Świata FAI | D67: M | E67: =IF(D67="M",IF(C67=1,3000)) -> FALSE
A68: 2 | B68: Mistrzostwa Europy FAI | D68: M | E68: =IF(D68="M",IF(C68=1,2500)) -> FALSE
A69: 3 | B69: Zawody zaliczane do Pucharu Świata FAI lub otwarte zawody międzynarodowe | D69: 1500 | E69: =PRODUCT(C69*D69) -> 0
A70: 4 | B70: Mistrzostwa Polski : MP F1ABPQ Juniorów, MP F1 Std. | C70: 1 | D70: 1000 | E70: =PRODUCT(C70*D70) -> 1000
A71: 5 | B71: Ogólnopolskie Zawody zaliczane do Pucharu Polski 2 x PP F1ABCQ , 1X PP F3K | C71: 3 | D71: 500 | E71: =PRODUCT(C71*D71) -> 1500
A72: 6 | B72: Zgrupowanie / Konsultacje KN Turbia F1ABCQ dla Juniorów i Seniorów | C72: 1 | D72: 300 | E72: =PRODUCT(C72*D72) -> 300
A73: 7 | B73: Zawody klubowe, międzyklubowe, regionalne, itp. – ujęte w Kalendarzu imprez KS dla Juniorów lub Seniorów w konkurencji mistrzowskiej z udziałem min. 10 zawodników F3L | C73: 1 | D73: 200 | E73: =PRODUCT(C73*D73) -> 200
A74: 4.2 - punkty razem: | E74: =SUM(E67:E73) -> 3000
A76: Współzawodnictwo w konkurencjach niemistrzowskich SPORT POWSZECHNY i POPULARYZACJA
A78: 4.3 - punkty za efektywność szkolenia podstawowego
A79: Lp | B79: Organizacja przez KS zawodów modelarskich dla dzieci i młodzieży oraz udział zawodników KS w mistrzostwach Polski: | C79: Liczba sklasyfikowanych zawodników | D79: Ilość pkt za 1 sklas. zawodn. | E79: Pktunkty do współzawodnictwa
A80: 1 | B80: Zawody Młodzi Modelarze–Lotnicy na Start dla juniorów młodszych (organizacja) | D80: 20 | E80: =PRODUCT(C80*D80) -> 0
A81: 2 | B81: Zawody Latawcowe dla młodzików (organizacja) | D81: 20 | E81: =PRODUCT(C81*D81) -> 0
A82: 3 | B82: Zawody balonów na ogrzane powietrze dla młodzików (organizacja) | D82: 20 | E82: =PRODUCT(C82*D82) -> 0
A83: 4 | B83: Zawody modeli halowych dla młodzików F1N/M, A6/M, ROOKIE (organizacja) | D83: 20 | E83: =PRODUCT(C83*D83) -> 0
A84: 5 | B84: Finał Regionalny Konkursu Młodych Artystów FAI (organizacja) | D84: 20 | E84: =PRODUCT(C84*D84) -> 0
A85: 6 | B85: Udział zawodników KS w Mistrzostwach Polski Młodzików lub Juniorów Młodszych | C85: 1 | D85: 100 | E85: =PRODUCT(C85*D85) -> 100
A86: 7 | B86: Udział zawodników KS w Finale Ogólnopolskim Konkursu Młodych Artystów FAI | D86: 50 | E86: =PRODUCT(C86*D86) -> 0
A87: 4.3 - punkty razem: | E87: =SUM(E80:E86) -> 100
A89: 4.4 - punkty za miejsca w zawodach i konkursach oraz rekordy zawodników
A90: Lp | B90: Imię i Nazwisko zawodnika (nazwa skrócona, miejsce i data imprezy) | C90: Rodzaj zawodów | D90: Miejsce (wpisz liczbę 1-6) | E90: Pktunkty do współzawodnictwa
A91: 1 | C91: PS | E91: =IF(C91="PS",IF(D91=1,800,IF(D91=2,630,IF(D91=3,530,IF(D91=4,450,IF(D91=5,360,IF(D91=6,270))))))) -> FALSE
A92: 2 | C92: PS | E92: =IF(C92="PS",IF(D92=1,800,IF(D92=2,630,IF(D92=3,530,IF(D92=4,450,IF(D92=5,360,IF(D92=6,270))))))) -> FALSE
A93: 3 | B93: Hubert Barański , MP Juniorów Młodszych , Gliwice , 14-15.06.2025 | C93: MP | D93: 1 | E93: =IF(C93="MP",IF(D93=1,200,IF(D93=2,160,IF(D93=3,130,IF(D93=4,110,IF(D93=5,90,IF(D93=6,70))))))) -> 200
A94: 4 | C94: MP | E94: =IF(C94="MP",IF(D94=1,200,IF(D94=2,160,IF(D94=3,130,IF(D94=4,110,IF(D94=5,90,IF(D94=6,70))))))) -> FALSE
A95: 5 | C95: MP | E95: =IF(C95="MP",IF(D95=1,200,IF(D95=2,160,IF(D95=3,130,IF(D95=4,110,IF(D95=5,90,IF(D95=6,70))))))) -> FALSE
A96: 6 | C96: MP | E96: =IF(C96="MP",IF(D96=1,200,IF(D96=2,160,IF(D96=3,130,IF(D96=4,110,IF(D96=5,90,IF(D96=6,70))))))) -> FALSE
A97: 7 | C97: MP | E97: =IF(C97="MP",IF(D97=1,200,IF(D97=2,160,IF(D97=3,130,IF(D97=4,110,IF(D97=5,90,IF(D97=6,70))))))) -> FALSE
A98: 8 | C98: MP | E98: =IF(C98="MP",IF(D98=1,200,IF(D98=2,160,IF(D98=3,130,IF(D98=4,110,IF(D98=5,90,IF(D98=6,70))))))) -> FALSE
A99: 9 | C99: MP | E99: =IF(C99="MP",IF(D99=1,200,IF(D99=2,160,IF(D99=3,130,IF(D99=4,110,IF(D99=5,90,IF(D99=6,70))))))) -> FALSE
A100: 10 | C100: MP | E100: =IF(C100="MP",IF(D100=1,200,IF(D100=2,160,IF(D100=3,130,IF(D100=4,110,IF(D100=5,90,IF(D100=6,70))))))) -> FALSE
A101: 11 | C101: MP | E101: =IF(C101="MP",IF(D101=1,200,IF(D101=2,160,IF(D101=3,130,IF(D101=4,110,IF(D101=5,90,IF(D101=6,70))))))) -> FALSE
A102: 12 | C102: MP | E102: =IF(C102="MP",IF(D102=1,200,IF(D102=2,160,IF(D102=3,130,IF(D102=4,110,IF(D102=5,90,IF(D102=6,70))))))) -> FALSE
A103: 13 | C103: MP | E103: =IF(C103="MP",IF(D103=1,200,IF(D103=2,160,IF(D103=3,130,IF(D103=4,110,IF(D103=5,90,IF(D103=6,70))))))) -> FALSE
A104: 14 | C104: MP | E104: =IF(C104="MP",IF(D104=1,200,IF(D104=2,160,IF(D104=3,130,IF(D104=4,110,IF(D104=5,90,IF(D104=6,70))))))) -> FALSE
A105: 15 | C105: MP | E105: =IF(C105="MP",IF(D105=1,200,IF(D105=2,160,IF(D105=3,130,IF(D105=4,110,IF(D105=5,90,IF(D105=6,70))))))) -> FALSE
... A112: 22 | C112: MP | E112: =IF(C112="MP",IF(D112=1,200,IF(D112=2,160,IF(D112=3,130,IF(D112=4,110,IF(D112=5,90,IF(D112=6,70))))))) -> FALSE
A113: 23 | C113: PP | E113: =IF(C113="PP",IF(D113=1,200,IF(D113=2,160,IF(D113=3,130,IF(D113=4,110,IF(D113=5,90,IF(D113=6,70))))))) -> FALSE
A114: 24 | C114: PP | E114: =IF(C114="PP",IF(D114=1,200,IF(D114=2,160,IF(D114=3,130,IF(D114=4,110,IF(D114=5,90,IF(D114=6,70))))))) -> FALSE
A115: 25 | C115: PP | E115: =IF(C115="PP",IF(D115=1,200,IF(D115=2,160,IF(D115=3,130,IF(D115=4,110,IF(D115=5,90,IF(D115=6,70))))))) -> FALSE
A116: 26 | C116: PP | E116: =IF(C116="PP",IF(D116=1,200,IF(D116=2,160,IF(D116=3,130,IF(D116=4,110,IF(D116=5,90,IF(D116=6,70))))))) -> FALSE
A117: 27 | C117: PP | E117: =IF(C117="PP",IF(D117=1,200,IF(D117=2,160,IF(D117=3,130,IF(D117=4,110,IF(D117=5,90,IF(D117=6,70))))))) -> FALSE
A118: 28 | C118: PP | E118: =IF(C118="PP",IF(D118=1,200,IF(D118=2,160,IF(D118=3,130,IF(D118=4,110,IF(D118=5,90,IF(D118=6,70))))))) -> FALSE
A119: 29 | C119: PP | E119: =IF(C119="PP",IF(D119=1,200,IF(D119=2,160,IF(D119=3,130,IF(D119=4,110,IF(D119=5,90,IF(D119=6,70))))))) -> FALSE
A120: 30 | C120: PP | E120: =IF(C120="PP",IF(D120=1,200,IF(D120=2,160,IF(D120=3,130,IF(D120=4,110,IF(D120=5,90,IF(D120=6,70))))))) -> FALSE
A121: 31 | C121: PP | E121: =IF(C121="PP",IF(D121=1,200,IF(D121=2,160,IF(D121=3,130,IF(D121=4,110,IF(D121=5,90,IF(D121=6,70))))))) -> FALSE
A122: 32 | C122: PP | E122: =IF(C122="PP",IF(D122=1,200,IF(D122=2,160,IF(D122=3,130,IF(D122=4,110,IF(D122=5,90,IF(D122=6,70))))))) -> FALSE
A123: 33 | C123: PP | E123: =IF(C123="PP",IF(D123=1,200,IF(D123=2,160,IF(D123=3,130,IF(D123=4,110,IF(D123=5,90,IF(D123=6,70))))))) -> FALSE
A124: 34 | C124: PP | E124: =IF(C124="PP",IF(D124=1,200,IF(D124=2,160,IF(D124=3,130,IF(D124=4,110,IF(D124=5,90,IF(D124=6,70))))))) -> FALSE
...

Sheet ORION
C1: UKM ORION w Muszynie Lic. Nr 12/25
A8: Sprawozdanie z działalności klubu za rok 2025
A11: Współzawodnictwo w konkurencjach mistrzowskich - SPORT WYCZYNOWY
A13: 4.1 - punkty za miejsca w zawodach i rekordy zawodników
A14: Lp | B14: Imię i Nazwisko zawodnika (nazwa skrócona, miejsce i data imprezy) | C14: Rodzaj zawodów | D14: Miejsce (wpisz liczbę 1-6) | E14: Pktunkty do współzawodnictwa
A15: 1 | B15: Bartłomiej Tokarczyk MŚ w model. kosmicznym 23-28.08.25 Serbia kat.S6 | C15: M | D15: 4 | E15: =IF(C15="M",IF(D15=1,1500,IF(D15=2,1170,IF(D15=3,1000,IF(D15=4,830,IF(D15=5,670,IF(D15=6,500))))))) -> 830
A16: 2 | B16: Mateusz Tokarczyk MŚ w model. kosmicznym 23-28.08.25 Serbia kat.S7 | C16: M | D16: 5 | E16: =IF(C16="M",IF(D16=1,1500,IF(D16=2,1170,IF(D16=3,1000,IF(D16=4,830,IF(D16=5,670,IF(D16=6,500))))))) -> 670
A17: 3 | C17: M | E17: =IF(C17="M",IF(D17=1,1500,IF(D17=2,1170,IF(D17=3,1000,IF(D17=4,830,IF(D17=5,670,IF(D17=6,500))))))) -> FALSE
A18: 4 | C18: M | E18: =IF(C18="M",IF(D18=1,1500,IF(D18=2,1170,IF(D18=3,1000,IF(D18=4,830,IF(D18=5,670,IF(D18=6,500))))))) -> FALSE
A19: 5 | B19: Bartłomiej Tokarczyk MŚ w model. kosmicznym 23-28.08.25 Serbia kat.S6 | C19: Md | D19: 2 | E19: =IF(C19="Md",IF(D19=1,500,IF(D19=2,390,IF(D19=3,333,)))) -> 390
A20: 6 | B20: Bartłomiej Tokarczyk MŚ w model. kosmicznym 23-28.08.25 Serbia kat.S1 | C20: Md | D20: 2 | E20: =IF(C20="Md",IF(D20=1,500,IF(D20=2,390,IF(D20=3,333,)))) -> 390
A21: 7 | B21: Mateusz Tokarczyk MŚ w model. kosmicznym 23-28.08.25 Serbia kat.S7 | C21: Md | D21: 1 | E21: =IF(C21="Md",IF(D21=1,500,IF(D21=2,390,IF(D21=3,333,)))) -> 500
A22: 8 | C22: Md | E22: =IF(C22="Md",IF(D22=1,500,IF(D22=2,390,IF(D22=3,333,)))) -> 0
A23: 9 | C23: Md | E23: =IF(C23="Md",IF(D23=1,500,IF(D23=2,390,IF(D23=3,333,)))) -> 0
A24: 10 | B24: Barszcz Aleksandra MP w model. Kosmicznym 19-22.06.25 Włocławek kat.S1B kobiet | C24: MP | D24: 3 | E24: =IF(C24="MP",IF(D24=1,300,IF(D24=2,230,IF(D24=3,200,IF(D24=4,170,IF(D24=5,135,IF(D24=6,100))))))) -> 200
A25: 11 | B25: Barszcz Aleksandra MP w model. Kosmicznym 19-22.06.25 Włocławek kat.S3A | C25: MP | D25: 2 | E25: =IF(C25="MP",IF(D25=1,300,IF(D25=2,230,IF(D25=3,200,IF(D25=4,170,IF(D25=5,135,IF(D25=6,100))))))) -> 230
A26: 12 | B26: Barszcz Aleksandra MP w model. Kosmicznym 19-22.06.25 Włocławek kat.S3A kobiet | C26: MP | D26: 1 | E26: =IF(C26="MP",IF(D26=1,300,IF(D26=2,230,IF(D26=3,200,IF(D26=4,170,IF(D26=5,135,IF(D26=6,100))))))) -> 300
A27: 13 | B27: Tokarczyk Mateusz MP w model. Kosmicznym 19-22.06.25 Włocławek kat.S3A | C27: MP | D27: 3 | E27: =IF(C27="MP",IF(D27=1,300,IF(D27=2,230,IF(D27=3,200,IF(D27=4,170,IF(D27=5,135,IF(D27=6,100))))))) -> 200
A28: 14 | B28: Barszcz Jakub MP w model. Kosmicznym 19-22.06.25 Włocławek kat.S3A | C28: MP | D28: 4 | E28: =IF(C28="MP",IF(D28=1,300,IF(D28=2,230,IF(D28=3,200,IF(D28=4,170,IF(D28=5,135,IF(D28=6,100))))))) -> 170
A29: 15 | B29: Barszcz Tomasz MP w model. Kosmicznym 19-22.06.25 Włocławek kat.S3A | C29: MP | D29: 5 | E29: =IF(C29="MP",IF(D29=1,300,IF(D29=2,230,IF(D29=3,200,IF(D29=4,170,IF(D29=5,135,IF(D29=6,100))))))) -> 135
A30: 16 | B30: Barszcz Aleksandra MP w model. Kosmicznym 19-22.06.25 Włocławek kat.S4A kobiet | C30: MP | D30: 3 | E30: =IF(C30="MP",IF(D30=1,300,IF(D30=2,230,IF(D30=3,200,IF(D30=4,170,IF(D30=5,135,IF(D30=6,100))))))) -> 200
A31: 17 | B31: Barszcz Aleksandra MP w model. Kosmicznym 19-22.06.25 Włocławek kat.S6A kobiet | C31: MP | D31: 5 | E31: =IF(C31="MP",IF(D31=1,300,IF(D31=2,230,IF(D31=3,200,IF(D31=4,170,IF(D31=5,135,IF(D31=6,100))))))) -> 135
A32: 18 | B32: Barszcz Jakub MP w model. Kosmicznym 19-22.06.25 Włocławek kat.S6A | C32: MP | D32: 1 | E32: =IF(C32="MP",IF(D32=1,300,IF(D32=2,230,IF(D32=3,200,IF(D32=4,170,IF(D32=5,135,IF(D32=6,100))))))) -> 300
A33: 19 | B33: Tokarczyk Mateusz MP w model. Kosmicznym 19-22.06.25 Włocławek kat.S6A | C33: MP | D33: 4 | E33: =IF(C33="MP",IF(D33=1,300,IF(D33=2,230,IF(D33=3,200,IF(D33=4,170,IF(D33=5,135,IF(D33=6,100))))))) -> 170
A34: 20 | B34: Barszcz Tomasz MP w model. Kosmicznym 19-22.06.25 Włocławek kat.S6A | C34: MP | D34: 6 | E34: =IF(C34="MP",IF(D34=1,300,IF(D34=2,230,IF(D34=3,200,IF(D34=4,170,IF(D34=5,135,IF(D34=6,100))))))) -> 100
A35: 21 | B35: Barszcz Aleksandra MP w model. Kosmicznym 19-22.06.25 Włocławek kat.S9A | C35: MP | D35: 3 | E35: =IF(C35="MP",IF(D35=1,300,IF(D35=2,230,IF(D35=3,200,IF(D35=4,170,IF(D35=5,135,IF(D35=6,100))))))) -> 200
... A42: 28 | B42: Barszcz Jakub MP w model. Kosmicznym 19-22.06.25 Włocławek kat.S7 | C42: MP | D42: 2 | E42: =IF(C42="MP",IF(D42=1,300,IF(D42=2,230,IF(D42=3,200,IF(D42=4,170,IF(D42=5,135,IF(D42=6,100))))))) -> 230
A43: 29 | C43: MP | E43: =IF(C43="MP",IF(D43=1,300,IF(D43=2,230,IF(D43=3,200,IF(D43=4,170,IF(D43=5,135,IF(D43=6,100))))))) -> FALSE
A44: 30 | C44: PP | E44: =IF(C44="PP",IF(D44=1,300,IF(D44=2,230,IF(D44=3,200,IF(D44=4,170,IF(D44=5,135,IF(D44=6,100))))))) -> FALSE
A45: 31 | C45: PP | E45: =IF(C45="PP",IF(D45=1,300,IF(D45=2,230,IF(D45=3,200,IF(D45=4,170,IF(D45=5,135,IF(D45=6,100))))))) -> FALSE
A46: 32 | C46: PP | E46: =IF(C46="PP",IF(D46=1,300,IF(D46=2,230,IF(D46=3,200,IF(D46=4,170,IF(D46=5,135,IF(D46=6,100))))))) -> FALSE
A47: 33 | C47: PP | E47: =IF(C47="PP",IF(D47=1,300,IF(D47=2,230,IF(D47=3,200,IF(D47=4,170,IF(D47=5,135,IF(D47=6,100))))))) -> FALSE
A48: 34 | C48: PP | E48: =IF(C48="PP",IF(D48=1,300,IF(D48=2,230,IF(D48=3,200,IF(D48=4,170,IF(D48=5,135,IF(D48=6,100))))))) -> FALSE
A49: 35 | C49: PP | E49: =IF(C49="PP",IF(D49=1,300,IF(D49=2,230,IF(D49=3,200,IF(D49=4,170,IF(D49=5,135,IF(D49=6,100))))))) -> FALSE
A50: 36 | C50: PP | E50: =IF(C50="PP",IF(D50=1,300,IF(D50=2,230,IF(D50=3,200,IF(D50=4,170,IF(D50=5,135,IF(D50=6,100))))))) -> FALSE
A51: 37 | C51: PP | E51: =IF(C51="PP",IF(D51=1,300,IF(D51=2,230,IF(D51=3,200,IF(D51=4,170,IF(D51=5,135,IF(D51=6,100))))))) -> FALSE
A52: 38 | C52: PP | E52: =IF(C52="PP",IF(D52=1,300,IF(D52=2,230,IF(D52=3,200,IF(D52=4,170,IF(D52=5,135,IF(D52=6,100))))))) -> FALSE
A53: 39 | C53: PP | E53: =IF(C53="PP",IF(D53=1,300,IF(D53=2,230,IF(D53=3,200,IF(D53=4,170,IF(D53=5,135,IF(D53=6,100))))))) -> FALSE
A54: 40 | C54: PP | E54: =IF(C54="PP",IF(D54=1,300,IF(D54=2,230,IF(D54=3,200,IF(D54=4,170,IF(D54=5,135,IF(D54=6,100))))))) -> FALSE
A55: 41 | C55: PP | E55: =IF(C55="PP",IF(D55=1,300,IF(D55=2,230,IF(D55=3,200,IF(D55=4,170,IF(D55=5,135,IF(D55=6,100))))))) -> FALSE
... A58: 44 | C58: PP | E58: =IF(C58="PP",IF(D58=1,300,IF(D58=2,230,IF(D58=3,200,IF(D58=4,170,IF(D58=5,135,IF(D58=6,100))))))) -> FALSE
A59: 45 | C59: RS | E59: =IF(C59="RS",IF(D59=1,1000)) -> FALSE
A60: 46 | C60: RS | E60: =IF(C60="RS",IF(D60=1,1000)) -> FALSE
A61: 47 | C61: RP | E61: =IF(C61="RP",IF(D61=1,200)) -> FALSE
A62: 48 | C62: RP | E62: =IF(C62="RP",IF(D62=1,200)) -> FALSE
A63: 4.1 - punkty razem: | E63: =SUM(E15:E62) -> 6850
A65: 4.2 - punkty za organizację zawodów
A66: Lp | B66: Nazwa skrócona zorganizowanych zawodów (konkurencja, miejsce, data) | C66: Wpisz 1 (w poz. 3-7, liczba może być większa) | D66: Ilość pkt za 1 zorganizowaną imprezę | E66: Pktunkty do współzawodnictwa
A67: 1 | B67: Mistrzostwa Świata FAI | D67: M | E67: =IF(D67="M",IF(C67=1,3000)) -> FALSE
A68: 2 | B68: Mistrzostwa Europy FAI | D68: M | E68: =IF(D68="M",IF(C68=1,2500)) -> FALSE
A69: 3 | B69: Zawody zaliczane do Pucharu Świata FAI lub otwarte zawody międzynarodowe | C69: 1 | D69: 1500 | E69: =PRODUCT(C69*D69) -> 1500
A70: 4 | B70: Mistrzostwa Polski | D70: 1000 | E70: =PRODUCT(C70*D70) -> 0
A71: 5 | B71: Ogólnopolskie Zawody zaliczane do Pucharu Polski | D71: 500 | E71: =PRODUCT(C71*D71) -> 0
A72: 6 | B72: Zgrupowanie / Konsultacje KN | D72: 300 | E72: =PRODUCT(C72*D72) -> 0
A73: 7 | B73: Zawody klubowe, międzyklubowe, regionalne, itp. – ujęte w Kalendarzu imprez KS dla Juniorów lub Seniorów w konkurencji mistrzowskiej z udziałem min. 10 zawodników | D73: 200 | E73: =PRODUCT(C73*D73) -> 0
A74: 4.2 - punkty razem: | E74: =SUM(E67:E73) -> 1500
A76: Współzawodnictwo w konkurencjach niemistrzowskich SPORT POWSZECHNY i POPULARYZACJA
A78: 4.3 - punkty za efektywność szkolenia podstawowego
A79: Lp | B79: Organizacja przez KS zawodów modelarskich dla dzieci i młodzieży oraz udział zawodników KS w mistrzostwach Polski: | C79: Liczba sklasyfikowanych zawodników | D79: Ilość pkt za 1 sklas. zawodn. | E79: Pktunkty do współzawodnictwa
A80: 1 | B80: Zawody Młodzi Modelarze–Lotnicy na Start dla juniorów młodszych (organizacja) | D80: 20 | E80: =PRODUCT(C80*D80) -> 0
A81: 2 | B81: Zawody Latawcowe dla młodzików (organizacja) | D81: 20 | E81: =PRODUCT(C81*D81) -> 0
A82: 3 | B82: Zawody balonów na ogrzane powietrze dla młodzików (organizacja) | D82: 20 | E82: =PRODUCT(C82*D82) -> 0
A83: 4 | B83: Zawody modeli halowych dla młodzików F1N/M, A6/M, ROOKIE (organizacja) | D83: 20 | E83: =PRODUCT(C83*D83) -> 0
A84: 5 | B84: Finał Regionalny Konkursu Młodych Artystów FAI (organizacja) | D84: 20 | E84: =PRODUCT(C84*D84) -> 0
A85: 6 | B85: Udział zawodników KS w Mistrzostwach Polski Młodzików lub Juniorów Młodszych | D85: 100 | E85: =PRODUCT(C85*D85) -> 0
A86: 7 | B86: Udział zawodników KS w Finale Ogólnopolskim Konkursu Młodych Artystów FAI | D86: 50 | E86: =PRODUCT(C86*D86) -> 0
A87: 4.3 - punkty razem: | E87: =SUM(E80:E86) -> 0
A89: 4.4 - punkty za miejsca w zawodach i konkursach oraz rekordy zawodników
A90: Lp | B90: Imię i Nazwisko zawodnika (nazwa skrócona, miejsce i data imprezy) | C90: Rodzaj zawodów | D90: Miejsce (wpisz liczbę 1-6) | E90: Pktunkty do współzawodnictwa
A91: 1 | C91: PS | E91: =IF(C91="PS",IF(D91=1,800,IF(D91=2,630,IF(D91=3,530,IF(D91=4,450,IF(D91=5,360,IF(D91=6,270))))))) -> FALSE
A92: 2 | C92: PS | E92: =IF(C92="PS",IF(D92=1,800,IF(D92=2,630,IF(D92=3,530,IF(D92=4,450,IF(D92=5,360,IF(D92=6,270))))))) -> FALSE
A93: 3 | C93: MP | E93: =IF(C93="MP",IF(D93=1,200,IF(D93=2,160,IF(D93=3,130,IF(D93=4,110,IF(D93=5,90,IF(D93=6,70))))))) -> FALSE
A94: 4 | C94: MP | E94: =IF(C94="MP",IF(D94=1,200,IF(D94=2,160,IF(D94=3,130,IF(D94=4,110,IF(D94=5,90,IF(D94=6,70))))))) -> FALSE
A95: 5 | C95: MP | E95: =IF(C95="MP",IF(D95=1,200,IF(D95=2,160,IF(D95=3,130,IF(D95=4,110,IF(D95=5,90,IF(D95=6,70))))))) -> FALSE
A96: 6 | C96: MP | E96: =IF(C96="MP",IF(D96=1,200,IF(D96=2,160,IF(D96=3,130,IF(D96=4,110,IF(D96=5,90,IF(D96=6,70))))))) -> FALSE
A97: 7 | C97: MP | E97: =IF(C97="MP",IF(D97=1,200,IF(D97=2,160,IF(D97=3,130,IF(D97=4,110,IF(D97=5,90,IF(D97=6,70))))))) -> FALSE
A98: 8 | C98: MP | E98: =IF(C98="MP",IF(D98=1,200,IF(D98=2,160,IF(D98=3,130,IF(D98=4,110,IF(D98=5,90,IF(D98=6,70))))))) -> FALSE
A99: 9 | C99: MP | E99: =IF(C99="MP",IF(D99=1,200,IF(D99=2,160,IF(D99=3,130,IF(D99=4,110,IF(D99=5,90,IF(D99=6,70))))))) -> FALSE
A100: 10 | C100: MP | E100: =IF(C100="MP",IF(D100=1,200,IF(D100=2,160,IF(D100=3,130,IF(D100=4,110,IF(D100=5,90,IF(D100=6,70))))))) -> FALSE
A101: 11 | C101: MP | E101: =IF(C101="MP",IF(D101=1,200,IF(D101=2,160,IF(D101=3,130,IF(D101=4,110,IF(D101=5,90,IF(D101=6,70))))))) -> FALSE
A102: 12 | C102: MP | E102: =IF(C102="MP",IF(D102=1,200,IF(D102=2,160,IF(D102=3,130,IF(D102=4,110,IF(D102=5,90,IF(D102=6,70))))))) -> FALSE
A103: 13 | C103: MP | E103: =IF(C103="MP",IF(D103=1,200,IF(D103=2,160,IF(D103=3,130,IF(D103=4,110,IF(D103=5,90,IF(D103=6,70))))))) -> FALSE
A104: 14 | C104: MP | E104: =IF(C104="MP",IF(D104=1,200,IF(D104=2,160,IF(D104=3,130,IF(D104=4,110,IF(D104=5,90,IF(D104=6,70))))))) -> FALSE
... A112: 22 | C112: MP | E112: =IF(C112="MP",IF(D112=1,200,IF(D112=2,160,IF(D112=3,130,IF(D112=4,110,IF(D112=5,90,IF(D112=6,70))))))) -> FALSE
A113: 23 | C113: PP | E113: =IF(C113="PP",IF(D113=1,200,IF(D113=2,160,IF(D113=3,130,IF(D113=4,110,IF(D113=5,90,IF(D113=6,70))))))) -> FALSE
A114: 24 | C114: PP | E114: =IF(C114="PP",IF(D114=1,200,IF(D114=2,160,IF(D114=3,130,IF(D114=4,110,IF(D114=5,90,IF(D114=6,70))))))) -> FALSE
A115: 25 | C115: PP | E115: =IF(C115="PP",IF(D115=1,200,IF(D115=2,160,IF(D115=3,130,IF(D115=4,110,IF(D115=5,90,IF(D115=6,70))))))) -> FALSE
A116: 26 | C116: PP | E116: =IF(C116="PP",IF(D116=1,200,IF(D116=2,160,IF(D116=3,130,IF(D116=4,110,IF(D116=5,90,IF(D116=6,70))))))) -> FALSE
A117: 27 | C117: PP | E117: =IF(C117="PP",IF(D117=1,200,IF(D117=2,160,IF(D117=3,130,IF(D117=4,110,IF(D117=5,90,IF(D117=6,70))))))) -> FALSE
A118: 28 | C118: PP | E118: =IF(C118="PP",IF(D118=1,200,IF(D118=2,160,IF(D118=3,130,IF(D118=4,110,IF(D118=5,90,IF(D118=6,70))))))) -> FALSE
A119: 29 | C119: PP | E119: =IF(C119="PP",IF(D119=1,200,IF(D119=2,160,IF(D119=3,130,IF(D119=4,110,IF(D119=5,90,IF(D119=6,70))))))) -> FALSE
A120: 30 | C120: PP | E120: =IF(C120="PP",IF(D120=1,200,IF(D120=2,160,IF(D120=3,130,IF(D120=4,110,IF(D120=5,90,IF(D120=6,70))))))) -> FALSE
A121: 31 | C121: PP | E121: =IF(C121="PP",IF(D121=1,200,IF(D121=2,160,IF(D121=3,130,IF(D121=4,110,IF(D121=5,90,IF(D121=6,70))))))) -> FALSE
A122: 32 | C122: PP | E122: =IF(C122="PP",IF(D122=1,200,IF(D122=2,160,IF(D122=3,130,IF(D122=4,110,IF(D122=5,90,IF(D122=6,70))))))) -> FALSE
A123: 33 | C123: PP | E123: =IF(C123="PP",IF(D123=1,200,IF(D123=2,160,IF(D123=3,130,IF(D123=4,110,IF(D123=5,90,IF(D123=6,70))))))) -> FALSE
A124: 34 | C124: PP | E124: =IF(C124="PP",IF(D124=1,200,IF(D124=2,160,IF(D124=3,130,IF(D124=4,110,IF(D124=5,90,IF(D124=6,70))))))) -> FALSE
... A127: 37 | C127: PP | E127: =IF(C127="PP",IF(D127=1,200,IF(D127=2,160,IF(D127=3,130,IF(D127=4,110,IF(D127=5,90,IF(D127=6,70))))))) -> FALSE
A128: 38 | C128: FR | E128: =IF(C128="FR",IF(D128=1,160,IF(D128=2,130,IF(D128=3,100,IF(D128=4,90,IF(D128=5,70,IF(D128=6,60))))))) -> FALSE
A129: 39 | C129: FR | E129: =IF(C129="FR",IF(D129=1,160,IF(D129=2,130,IF(D129=3,100,IF(D129=4,90,IF(D129=5,70,IF(D129=6,60))))))) -> FALSE
A130: 40 | C130: FR | E130: =IF(C130="FR",IF(D130=1,160,IF(D130=2,130,IF(D130=3,100,IF(D130=4,90,IF(D130=5,70,IF(D130=6,60))))))) -> FALSE
...

Sheet MSML
C1: Mieleckie SML 41/25
A8: Sprawozdanie z działalności klubu za rok 2025
A11: Współzawodnictwo w konkurencjach mistrzowskich - SPORT WYCZYNOWY
A13: 4.1 - punkty za miejsca w zawodach i rekordy zawodników
A14: Lp | B14: Imię i Nazwisko zawodnika (nazwa skrócona, miejsce i data imprezy) | C14: Rodzaj zawodów | D14: Miejsce (wpisz liczbę 1-6) | E14: Pktunkty do współzawodnictwa
A15: 1 | C15: M | E15: =IF(C15="M",IF(D15=1,1500,IF(D15=2,1170,IF(D15=3,1000,IF(D15=4,830,IF(D15=5,670,IF(D15=6,500))))))) -> FALSE
A16: 2 | C16: M | E16: =IF(C16="M",IF(D16=1,1500,IF(D16=2,1170,IF(D16=3,1000,IF(D16=4,830,IF(D16=5,670,IF(D16=6,500))))))) -> FALSE
A17: 3 | C17: M | E17: =IF(C17="M",IF(D17=1,1500,IF(D17=2,1170,IF(D17=3,1000,IF(D17=4,830,IF(D17=5,670,IF(D17=6,500))))))) -> FALSE
A18: 4 | C18: M | E18: =IF(C18="M",IF(D18=1,1500,IF(D18=2,1170,IF(D18=3,1000,IF(D18=4,830,IF(D18=5,670,IF(D18=6,500))))))) -> FALSE
A19: 5 | C19: Md | E19: =IF(C19="Md",IF(D19=1,500,IF(D19=2,390,IF(D19=3,333,)))) -> 0
A20: 6 | C20: Md | E20: =IF(C20="Md",IF(D20=1,500,IF(D20=2,390,IF(D20=3,333,)))) -> 0
A21: 7 | C21: Md | E21: =IF(C21="Md",IF(D21=1,500,IF(D21=2,390,IF(D21=3,333,)))) -> 0
A22: 8 | C22: Md | E22: =IF(C22="Md",IF(D22=1,500,IF(D22=2,390,IF(D22=3,333,)))) -> 0
A23: 9 | C23: Md | E23: =IF(C23="Md",IF(D23=1,500,IF(D23=2,390,IF(D23=3,333,)))) -> 0
A24: 10 | B24: Edward Burek (Mistrz. Polski Mod. Sw. Lataj., Kietrz, 30.08.2025) | C24: MP | D24: 2 | E24: =IF(C24="MP",IF(D24=1,300,IF(D24=2,230,IF(D24=3,200,IF(D24=4,170,IF(D24=5,135,IF(D24=6,100))))))) -> 230
A25: 11 | C25: MP | E25: =IF(C25="MP",IF(D25=1,300,IF(D25=2,230,IF(D25=3,200,IF(D25=4,170,IF(D25=5,135,IF(D25=6,100))))))) -> FALSE
A26: 12 | C26: MP | E26: =IF(C26="MP",IF(D26=1,300,IF(D26=2,230,IF(D26=3,200,IF(D26=4,170,IF(D26=5,135,IF(D26=6,100))))))) -> FALSE
A27: 13 | C27: MP | E27: =IF(C27="MP",IF(D27=1,300,IF(D27=2,230,IF(D27=3,200,IF(D27=4,170,IF(D27=5,135,IF(D27=6,100))))))) -> FALSE
A28: 14 | C28: MP | E28: =IF(C28="MP",IF(D28=1,300,IF(D28=2,230,IF(D28=3,200,IF(D28=4,170,IF(D28=5,135,IF(D28=6,100))))))) -> FALSE
A29: 15 | C29: MP | E29: =IF(C29="MP",IF(D29=1,300,IF(D29=2,230,IF(D29=3,200,IF(D29=4,170,IF(D29=5,135,IF(D29=6,100))))))) -> FALSE
A30: 16 | C30: MP | E30: =IF(C30="MP",IF(D30=1,300,IF(D30=2,230,IF(D30=3,200,IF(D30=4,170,IF(D30=5,135,IF(D30=6,100))))))) -> FALSE
A31: 17 | C31: MP | E31: =IF(C31="MP",IF(D31=1,300,IF(D31=2,230,IF(D31=3,200,IF(D31=4,170,IF(D31=5,135,IF(D31=6,100))))))) -> FALSE
A32: 18 | C32: MP | E32: =IF(C32="MP",IF(D32=1,300,IF(D32=2,230,IF(D32=3,200,IF(D32=4,170,IF(D32=5,135,IF(D32=6,100))))))) -> FALSE
A33: 19 | C33: MP | E33: =IF(C33="MP",IF(D33=1,300,IF(D33=2,230,IF(D33=3,200,IF(D33=4,170,IF(D33=5,135,IF(D33=6,100))))))) -> FALSE
A34: 20 | C34: MP | E34: =IF(C34="MP",IF(D34=1,300,IF(D34=2,230,IF(D34=3,200,IF(D34=4,170,IF(D34=5,135,IF(D34=6,100))))))) -> FALSE
A35: 21 | C35: MP | E35: =IF(C35="MP",IF(D35=1,300,IF(D35=2,230,IF(D35=3,200,IF(D35=4,170,IF(D35=5,135,IF(D35=6,100))))))) -> FALSE
A36: 22 | C36: MP | E36: =IF(C36="MP",IF(D36=1,300,IF(D36=2,230,IF(D36=3,200,IF(D36=4,170,IF(D36=5,135,IF(D36=6,100))))))) -> FALSE
... A43: 29 | C43: MP | E43: =IF(C43="MP",IF(D43=1,300,IF(D43=2,230,IF(D43=3,200,IF(D43=4,170,IF(D43=5,135,IF(D43=6,100))))))) -> FALSE
A44: 30 | B44: Edward Burek, klas. końcowa PP 2025 | C44: PP | D44: 2 | E44: =IF(C44="PP",IF(D44=1,300,IF(D44=2,230,IF(D44=3,200,IF(D44=4,170,IF(D44=5,135,IF(D44=6,100))))))) -> 230
A45: 31 | C45: PP | E45: =IF(C45="PP",IF(D45=1,300,IF(D45=2,230,IF(D45=3,200,IF(D45=4,170,IF(D45=5,135,IF(D45=6,100))))))) -> FALSE
A46: 32 | C46: PP | E46: =IF(C46="PP",IF(D46=1,300,IF(D46=2,230,IF(D46=3,200,IF(D46=4,170,IF(D46=5,135,IF(D46=6,100))))))) -> FALSE
A47: 33 | C47: PP | E47: =IF(C47="PP",IF(D47=1,300,IF(D47=2,230,IF(D47=3,200,IF(D47=4,170,IF(D47=5,135,IF(D47=6,100))))))) -> FALSE
A48: 34 | C48: PP | E48: =IF(C48="PP",IF(D48=1,300,IF(D48=2,230,IF(D48=3,200,IF(D48=4,170,IF(D48=5,135,IF(D48=6,100))))))) -> FALSE
A49: 35 | C49: PP | E49: =IF(C49="PP",IF(D49=1,300,IF(D49=2,230,IF(D49=3,200,IF(D49=4,170,IF(D49=5,135,IF(D49=6,100))))))) -> FALSE
A50: 36 | C50: PP | E50: =IF(C50="PP",IF(D50=1,300,IF(D50=2,230,IF(D50=3,200,IF(D50=4,170,IF(D50=5,135,IF(D50=6,100))))))) -> FALSE
A51: 37 | C51: PP | E51: =IF(C51="PP",IF(D51=1,300,IF(D51=2,230,IF(D51=3,200,IF(D51=4,170,IF(D51=5,135,IF(D51=6,100))))))) -> FALSE
A52: 38 | C52: PP | E52: =IF(C52="PP",IF(D52=1,300,IF(D52=2,230,IF(D52=3,200,IF(D52=4,170,IF(D52=5,135,IF(D52=6,100))))))) -> FALSE
A53: 39 | C53: PP | E53: =IF(C53="PP",IF(D53=1,300,IF(D53=2,230,IF(D53=3,200,IF(D53=4,170,IF(D53=5,135,IF(D53=6,100))))))) -> FALSE
A54: 40 | C54: PP | E54: =IF(C54="PP",IF(D54=1,300,IF(D54=2,230,IF(D54=3,200,IF(D54=4,170,IF(D54=5,135,IF(D54=6,100))))))) -> FALSE
A55: 41 | C55: PP | E55: =IF(C55="PP",IF(D55=1,300,IF(D55=2,230,IF(D55=3,200,IF(D55=4,170,IF(D55=5,135,IF(D55=6,100))))))) -> FALSE
A56: 42 | C56: PP | E56: =IF(C56="PP",IF(D56=1,300,IF(D56=2,230,IF(D56=3,200,IF(D56=4,170,IF(D56=5,135,IF(D56=6,100))))))) -> FALSE
... A58: 44 | C58: PP | E58: =IF(C58="PP",IF(D58=1,300,IF(D58=2,230,IF(D58=3,200,IF(D58=4,170,IF(D58=5,135,IF(D58=6,100))))))) -> FALSE
A59: 45 | C59: RS | E59: =IF(C59="RS",IF(D59=1,1000)) -> FALSE
A60: 46 | C60: RS | E60: =IF(C60="RS",IF(D60=1,1000)) -> FALSE
A61: 47 | C61: RP | E61: =IF(C61="RP",IF(D61=1,200)) -> FALSE
A62: 48 | C62: RP | E62: =IF(C62="RP",IF(D62=1,200)) -> FALSE
A63: 4.1 - punkty razem: | E63: =SUM(E15:E62) -> 460
A65: 4.2 - punkty za organizację zawodów
A66: Lp | B66: Nazwa skrócona zorganizowanych zawodów (konkurencja, miejsce, data) | C66: Wpisz 1 (w poz. 3-7, liczba może być większa) | D66: Ilość pkt za 1 zorganizowaną imprezę | E66: Pktunkty do współzawodnictwa
A67: 1 | B67: Mistrzostwa Świata FAI | D67: M | E67: =IF(D67="M",IF(C67=1,3000)) -> FALSE
A68: 2 | B68: Mistrzostwa Europy FAI | D68: M | E68: =IF(D68="M",IF(C68=1,2500)) -> FALSE
A69: 3 | B69: Zawody zaliczane do Pucharu Świata FAI lub otwarte zawody międzynarodowe | D69: 1500 | E69: =PRODUCT(C69*D69) -> 0
A70: 4 | B70: Mistrzostwa Polski | D70: 1000 | E70: =PRODUCT(C70*D70) -> 0
A71: 5 | B71: Ogólnopolskie Zawody zaliczane do Pucharu Polski | D71: 500 | E71: =PRODUCT(C71*D71) -> 0
A72: 6 | B72: Zgrupowanie / Konsultacje KN | D72: 300 | E72: =PRODUCT(C72*D72) -> 0
A73: 7 | B73: Zawody klubowe, międzyklubowe, regionalne, itp. – ujęte w Kalendarzu imprez KS dla Juniorów lub Seniorów w konkurencji mistrzowskiej z udziałem min. 10 zawodników | D73: 200 | E73: =PRODUCT(C73*D73) -> 0
A74: 4.2 - punkty razem: | E74: =SUM(E67:E73) -> 0
A76: Współzawodnictwo w konkurencjach niemistrzowskich SPORT POWSZECHNY i POPULARYZACJA
A78: 4.3 - punkty za efektywność szkolenia podstawowego
A79: Lp | B79: Organizacja przez KS zawodów modelarskich dla dzieci i młodzieży oraz udział zawodników KS w mistrzostwach Polski: | C79: Liczba sklasyfikowanych zawodników | D79: Ilość pkt za 1 sklas. zawodn. | E79: Pktunkty do współzawodnictwa
A80: 1 | B80: Zawody Młodzi Modelarze–Lotnicy na Start dla juniorów młodszych (organizacja) | D80: 20 | E80: =PRODUCT(C80*D80) -> 0
A81: 2 | B81: Zawody Latawcowe dla młodzików (organizacja) | C81: 16 | D81: 20 | E81: =PRODUCT(C81*D81) -> 320
A82: 3 | B82: Zawody balonów na ogrzane powietrze dla młodzików (organizacja) | C82: 10 | D82: 20 | E82: =PRODUCT(C82*D82) -> 200
A83: 4 | B83: Zawody modeli halowych dla młodzików F1N/M, A6/M, ROOKIE (organizacja) | D83: 20 | E83: =PRODUCT(C83*D83) -> 0
A84: 5 | B84: Finał Regionalny Konkursu Młodych Artystów FAI (organizacja) | D84: 20 | E84: =PRODUCT(C84*D84) -> 0
A85: 6 | B85: Udział zawodników KS w Mistrzostwach Polski Młodzików lub Juniorów Młodszych | C85: 2 | D85: 100 | E85: =PRODUCT(C85*D85) -> 200
A86: 7 | B86: Udział zawodników KS w Finale Ogólnopolskim Konkursu Młodych Artystów FAI | D86: 50 | E86: =PRODUCT(C86*D86) -> 0
A87: 4.3 - punkty razem: | E87: =SUM(E80:E86) -> 720
A89: 4.4 - punkty za miejsca w zawodach i konkursach oraz rekordy zawodników
A90: Lp | B90: Imię i Nazwisko zawodnika (nazwa skrócona, miejsce i data imprezy) | C90: Rodzaj zawodów | D90: Miejsce (wpisz liczbę 1-6) | E90: Pktunkty do współzawodnictwa
A91: 1 | C91: PS | E91: =IF(C91="PS",IF(D91=1,800,IF(D91=2,630,IF(D91=3,530,IF(D91=4,450,IF(D91=5,360,IF(D91=6,270))))))) -> FALSE
A92: 2 | C92: PS | E92: =IF(C92="PS",IF(D92=1,800,IF(D92=2,630,IF(D92=3,530,IF(D92=4,450,IF(D92=5,360,IF(D92=6,270))))))) -> FALSE
A93: 3 | B93: Edward Burek (Mistrzostwa Polski Małych Form i Latających Skrzydeł 11-12.10.2025) | C93: MP | D93: 1 | E93: =IF(C93="MP",IF(D93=1,200,IF(D93=2,160,IF(D93=3,130,IF(D93=4,110,IF(D93=5,90,IF(D93=6,70))))))) -> 200
A94: 4 | C94: MP | E94: =IF(C94="MP",IF(D94=1,200,IF(D94=2,160,IF(D94=3,130,IF(D94=4,110,IF(D94=5,90,IF(D94=6,70))))))) -> FALSE
A95: 5 | C95: MP | E95: =IF(C95="MP",IF(D95=1,200,IF(D95=2,160,IF(D95=3,130,IF(D95=4,110,IF(D95=5,90,IF(D95=6,70))))))) -> FALSE
A96: 6 | C96: MP | E96: =IF(C96="MP",IF(D96=1,200,IF(D96=2,160,IF(D96=3,130,IF(D96=4,110,IF(D96=5,90,IF(D96=6,70))))))) -> FALSE
A97: 7 | C97: MP | E97: =IF(C97="MP",IF(D97=1,200,IF(D97=2,160,IF(D97=3,130,IF(D97=4,110,IF(D97=5,90,IF(D97=6,70))))))) -> FALSE
A98: 8 | C98: MP | E98: =IF(C98="MP",IF(D98=1,200,IF(D98=2,160,IF(D98=3,130,IF(D98=4,110,IF(D98=5,90,IF(D98=6,70))))))) -> FALSE
A99: 9 | C99: MP | E99: =IF(C99="MP",IF(D99=1,200,IF(D99=2,160,IF(D99=3,130,IF(D99=4,110,IF(D99=5,90,IF(D99=6,70))))))) -> FALSE
A100: 10 | C100: MP | E100: =IF(C100="MP",IF(D100=1,200,IF(D100=2,160,IF(D100=3,130,IF(D100=4,110,IF(D100=5,90,IF(D100=6,70))))))) -> FALSE
A101: 11 | C101: MP | E101: =IF(C101="MP",IF(D101=1,200,IF(D101=2,160,IF(D101=3,130,IF(D101=4,110,IF(D101=5,90,IF(D101=6,70))))))) -> FALSE
A102: 12 | C102: MP | E102: =IF(C102="MP",IF(D102=1,200,IF(D102=2,160,IF(D102=3,130,IF(D102=4,110,IF(D102=5,90,IF(D102=6,70))))))) -> FALSE
A103: 13 | C103: MP | E103: =IF(C103="MP",IF(D103=1,200,IF(D103=2,160,IF(D103=3,130,IF(D103=4,110,IF(D103=5,90,IF(D103=6,70))))))) -> FALSE
A104: 14 | C104: MP | E104: =IF(C104="MP",IF(D104=1,200,IF(D104=2,160,IF(D104=3,130,IF(D104=4,110,IF(D104=5,90,IF(D104=6,70))))))) -> FALSE
A105: 15 | C105: MP | E105: =IF(C105="MP",IF(D105=1,200,IF(D105=2,160,IF(D105=3,130,IF(D105=4,110,IF(D105=5,90,IF(D105=6,70))))))) -> FALSE
... A112: 22 | C112: MP | E112: =IF(C112="MP",IF(D112=1,200,IF(D112=2,160,IF(D112=3,130,IF(D112=4,110,IF(D112=5,90,IF(D112=6,70))))))) -> FALSE
A113: 23 | C113: PP | E113: =IF(C113="PP",IF(D113=1,200,IF(D113=2,160,IF(D113=3,130,IF(D113=4,110,IF(D113=5,90,IF(D113=6,70))))))) -> FALSE
A114: 24 | C114: PP | E114: =IF(C114="PP",IF(D114=1,200,IF(D114=2,160,IF(D114=3,130,IF(D114=4,110,IF(D114=5,90,IF(D114=6,70))))))) -> FALSE
A115: 25 | C115: PP | E115: =IF(C115="PP",IF(D115=1,200,IF(D115=2,160,IF(D115=3,130,IF(D115=4,110,IF(D115=5,90,IF(D115=6,70))))))) -> FALSE
A116: 26 | C116: PP | E116: =IF(C116="PP",IF(D116=1,200,IF(D116=2,160,IF(D116=3,130,IF(D116=4,110,IF(D116=5,90,IF(D116=6,70))))))) -> FALSE
A117: 27 | C117: PP | E117: =IF(C117="PP",IF(D117=1,200,IF(D117=2,160,IF(D117=3,130,IF(D117=4,110,IF(D117=5,90,IF(D117=6,70))))))) -> FALSE
A118: 28 | C118: PP | E118: =IF(C118="PP",IF(D118=1,200,IF(D118=2,160,IF(D118=3,130,IF(D118=4,110,IF(D118=5,90,IF(D118=6,70))))))) -> FALSE
A119: 29 | C119: PP | E119: =IF(C119="PP",IF(D119=1,200,IF(D119=2,160,IF(D119=3,130,IF(D119=4,110,IF(D119=5,90,IF(D119=6,70))))))) -> FALSE
A120: 30 | C120: PP | E120: =IF(C120="PP",IF(D120=1,200,IF(D120=2,160,IF(D120=3,130,IF(D120=4,110,IF(D120=5,90,IF(D120=6,70))))))) -> FALSE
A121: 31 | C121: PP | E121: =IF(C121="PP",IF(D121=1,200,IF(D121=2,160,IF(D121=3,130,IF(D121=4,110,IF(D121=5,90,IF(D121=6,70))))))) -> FALSE
A122: 32 | C122: PP | E122: =IF(C122="PP",IF(D122=1,200,IF(D122=2,160,IF(D122=3,130,IF(D122=4,110,IF(D122=5,90,IF(D122=6,70))))))) -> FALSE
A123: 33 | C123: PP | E123: =IF(C123="PP",IF(D123=1,200,IF(D123=2,160,IF(D123=3,130,IF(D123=4,110,IF(D123=5,90,IF(D123=6,70))))))) -> FALSE
A124: 34 | C124: PP | E124: =IF(C124="PP",IF(D124=1,200,IF(D124=2,160,IF(D124=3,130,IF(D124=4,110,IF(D124=5,90,IF(D124=6,70))))))) -> FALSE
... A127: 37 | C127: PP | E127: =IF(C127="PP",IF(D127=1,200,IF(D127=2,160,IF(D127=3,130,IF(D127=4,110,IF(D127=5,90,IF(D127=6,70))))))) -> FALSE
A128: 38 | C128: FR | E128: =IF(C128="FR",IF(D128=1,160,IF(D128=2,130,IF(D128=3,100,IF(D128=4,90,IF(D128=5,70,IF(D128=6,60))))))) -> FALSE
...

Sheet Artbem
C1: Aeromodelklub Artbem - Lic. Nr 58/25
A8: Sprawozdanie z działalności klubu za rok 2025
A11: Współzawodnictwo w konkurencjach mistrzowskich - SPORT WYCZYNOWY
A13: 4.1 - punkty za miejsca w zawodach i rekordy zawodników
A14: Lp | B14: Imię i Nazwisko zawodnika (nazwa skrócona, miejsce i data imprezy) | C14: Rodzaj zawodów | D14: Miejsce (wpisz liczbę 1-6) | E14: Pktunkty do współzawodnictwa
A15: 1 | B15: Cezary Janas | MŚ F3K | Trap GER | 26.07-02.08..2025 | C15: M | D15: 5 | E15: =IF(C15="M",IF(D15=1,1500,IF(D15=2,1170,IF(D15=3,1000,IF(D15=4,830,IF(D15=5,670,IF(D15=6,500))))))) -> 670
A16: 2 | B16: Vilodymyr Chaika | kk. PŚ F2C Jun. | | C16: M | D16: 2 | E16: =IF(C16="M",IF(D16=1,1500,IF(D16=2,1170,IF(D16=3,1000,IF(D16=4,830,IF(D16=5,670,IF(D16=6,500))))))) -> 1170
A17: 3 | C17: M | E17: =IF(C17="M",IF(D17=1,1500,IF(D17=2,1170,IF(D17=3,1000,IF(D17=4,830,IF(D17=5,670,IF(D17=6,500))))))) -> FALSE
A18: 4 | C18: M | E18: =IF(C18="M",IF(D18=1,1500,IF(D18=2,1170,IF(D18=3,1000,IF(D18=4,830,IF(D18=5,670,IF(D18=6,500))))))) -> FALSE
A19: 5 | C19: Md | E19: =IF(C19="Md",IF(D19=1,500,IF(D19=2,390,IF(D19=3,333,)))) -> 0
A20: 6 | C20: Md | E20: =IF(C20="Md",IF(D20=1,500,IF(D20=2,390,IF(D20=3,333,)))) -> 0
A21: 7 | C21: Md | E21: =IF(C21="Md",IF(D21=1,500,IF(D21=2,390,IF(D21=3,333,)))) -> 0
A22: 8 | C22: Md | E22: =IF(C22="Md",IF(D22=1,500,IF(D22=2,390,IF(D22=3,333,)))) -> 0
A23: 9 | C23: Md | E23: =IF(C23="Md",IF(D23=1,500,IF(D23=2,390,IF(D23=3,333,)))) -> 0
A24: 10 | B24: Cezary Janas | MP F3K | Tuszów Narodowy | 13-14.09.2025 | C24: MP | D24: 3 | E24: =IF(C24="MP",IF(D24=1,300,IF(D24=2,230,IF(D24=3,200,IF(D24=4,170,IF(D24=5,135,IF(D24=6,100))))))) -> 200
A25: 11 | B25: Arkadiusz Witkowski | MP F3K | Tuszów Narodowy | 13-14.09.2025 | C25: MP | D25: 5 | E25: =IF(C25="MP",IF(D25=1,300,IF(D25=2,230,IF(D25=3,200,IF(D25=4,170,IF(D25=5,135,IF(D25=6,100))))))) -> 135
A26: 12 | B26: Tomasz Słowikowski | MP F4B | Częstochowa, 10.2025 | C26: MP | D26: 2 | E26: =IF(C26="MP",IF(D26=1,300,IF(D26=2,230,IF(D26=3,200,IF(D26=4,170,IF(D26=5,135,IF(D26=6,100))))))) -> 230
A27: 13 | B27: Zenon Kowalczyk | MP F4B | Częstochowa, 10.2025 | C27: MP | D27: 3 | E27: =IF(C27="MP",IF(D27=1,300,IF(D27=2,230,IF(D27=3,200,IF(D27=4,170,IF(D27=5,135,IF(D27=6,100))))))) -> 200
A28: 14 | B28: Bohdan Śliwa | MP F4B | Częstochowa, 10.2025 | C28: MP | D28: 4 | E28: =IF(C28="MP",IF(D28=1,300,IF(D28=2,230,IF(D28=3,200,IF(D28=4,170,IF(D28=5,135,IF(D28=6,100))))))) -> 170
A29: 15 | B29: Marcin Olas | MP F4B | Częstochowa, 10.2025 | C29: MP | D29: 5 | E29: =IF(C29="MP",IF(D29=1,300,IF(D29=2,230,IF(D29=3,200,IF(D29=4,170,IF(D29=5,135,IF(D29=6,100))))))) -> 135
A30: 16 | B30: Leo Rogalski | MP F4B | Częstochowa, 10.2025 | C30: MP | D30: 6 | E30: =IF(C30="MP",IF(D30=1,300,IF(D30=2,230,IF(D30=3,200,IF(D30=4,170,IF(D30=5,135,IF(D30=6,100))))))) -> 100
A31: 17 | B31: Zenon Kowalczyk | MP F4H | Ostrów Wlkp., 09.2025 | C31: MP | D31: 5 | E31: =IF(C31="MP",IF(D31=1,300,IF(D31=2,230,IF(D31=3,200,IF(D31=4,170,IF(D31=5,135,IF(D31=6,100))))))) -> 135
A32: 18 | B32: Aleksandra Lesiuk | MP F2B Jun. | Włocławek, 13-15.06.2025 | C32: MP | D32: 4 | E32: =IF(C32="MP",IF(D32=1,300,IF(D32=2,230,IF(D32=3,200,IF(D32=4,170,IF(D32=5,135,IF(D32=6,100))))))) -> 170
A33: 19 | B33: Chaika Volodymyr | MP F2C | Włocławek, 13-15.06.2025 | C33: MP | D33: 2 | E33: =IF(C33="MP",IF(D33=1,300,IF(D33=2,230,IF(D33=3,200,IF(D33=4,170,IF(D33=5,135,IF(D33=6,100))))))) -> 230
A34: 20 | C34: MP | E34: =IF(C34="MP",IF(D34=1,300,IF(D34=2,230,IF(D34=3,200,IF(D34=4,170,IF(D34=5,135,IF(D34=6,100))))))) -> FALSE
A35: 21 | C35: MP | E35: =IF(C35="MP",IF(D35=1,300,IF(D35=2,230,IF(D35=3,200,IF(D35=4,170,IF(D35=5,135,IF(D35=6,100))))))) -> FALSE
A36: 22 | C36: MP | E36: =IF(C36="MP",IF(D36=1,300,IF(D36=2,230,IF(D36=3,200,IF(D36=4,170,IF(D36=5,135,IF(D36=6,100))))))) -> FALSE
A37: 23 | C37: MP | E37: =IF(C37="MP",IF(D37=1,300,IF(D37=2,230,IF(D37=3,200,IF(D37=4,170,IF(D37=5,135,IF(D37=6,100))))))) -> FALSE
A38: 24 | C38: MP | E38: =IF(C38="MP",IF(D38=1,300,IF(D38=2,230,IF(D38=3,200,IF(D38=4,170,IF(D38=5,135,IF(D38=6,100))))))) -> FALSE
A39: 25 | C39: MP | E39: =IF(C39="MP",IF(D39=1,300,IF(D39=2,230,IF(D39=3,200,IF(D39=4,170,IF(D39=5,135,IF(D39=6,100))))))) -> FALSE
A40: 26 | C40: MP | E40: =IF(C40="MP",IF(D40=1,300,IF(D40=2,230,IF(D40=3,200,IF(D40=4,170,IF(D40=5,135,IF(D40=6,100))))))) -> FALSE
A41: 27 | C41: MP | E41: =IF(C41="MP",IF(D41=1,300,IF(D41=2,230,IF(D41=3,200,IF(D41=4,170,IF(D41=5,135,IF(D41=6,100))))))) -> FALSE
A42: 28 | C42: MP | E42: =IF(C42="MP",IF(D42=1,300,IF(D42=2,230,IF(D42=3,200,IF(D42=4,170,IF(D42=5,135,IF(D42=6,100))))))) -> FALSE
A43: 29 | C43: MP | E43: =IF(C43="MP",IF(D43=1,300,IF(D43=2,230,IF(D43=3,200,IF(D43=4,170,IF(D43=5,135,IF(D43=6,100))))))) -> FALSE
A44: 30 | B44: Zenon Kowalczyk | kk. PP F4H | C44: PP | D44: 5 | E44: =IF(C44="PP",IF(D44=1,300,IF(D44=2,230,IF(D44=3,200,IF(D44=4,170,IF(D44=5,135,IF(D44=6,100))))))) -> 135
A45: 31 | B45: Chaika Volodymyr | kk. PP F2C | C45: PP | D45: 2 | E45: =IF(C45="PP",IF(D45=1,300,IF(D45=2,230,IF(D45=3,200,IF(D45=4,170,IF(D45=5,135,IF(D45=6,100))))))) -> 230
A46: 32 | C46: PP | E46: =IF(C46="PP",IF(D46=1,300,IF(D46=2,230,IF(D46=3,200,IF(D46=4,170,IF(D46=5,135,IF(D46=6,100))))))) -> FALSE
A47: 33 | C47: PP | E47: =IF(C47="PP",IF(D47=1,300,IF(D47=2,230,IF(D47=3,200,IF(D47=4,170,IF(D47=5,135,IF(D47=6,100))))))) -> FALSE
A48: 34 | C48: PP | E48: =IF(C48="PP",IF(D48=1,300,IF(D48=2,230,IF(D48=3,200,IF(D48=4,170,IF(D48=5,135,IF(D48=6,100))))))) -> FALSE
A49: 35 | C49: PP | E49: =IF(C49="PP",IF(D49=1,300,IF(D49=2,230,IF(D49=3,200,IF(D49=4,170,IF(D49=5,135,IF(D49=6,100))))))) -> FALSE
A50: 36 | C50: PP | E50: =IF(C50="PP",IF(D50=1,300,IF(D50=2,230,IF(D50=3,200,IF(D50=4,170,IF(D50=5,135,IF(D50=6,100))))))) -> FALSE
A51: 37 | C51: PP | E51: =IF(C51="PP",IF(D51=1,300,IF(D51=2,230,IF(D51=3,200,IF(D51=4,170,IF(D51=5,135,IF(D51=6,100))))))) -> FALSE
A52: 38 | C52: PP | E52: =IF(C52="PP",IF(D52=1,300,IF(D52=2,230,IF(D52=3,200,IF(D52=4,170,IF(D52=5,135,IF(D52=6,100))))))) -> FALSE
A53: 39 | C53: PP | E53: =IF(C53="PP",IF(D53=1,300,IF(D53=2,230,IF(D53=3,200,IF(D53=4,170,IF(D53=5,135,IF(D53=6,100))))))) -> FALSE
A54: 40 | C54: PP | E54: =IF(C54="PP",IF(D54=1,300,IF(D54=2,230,IF(D54=3,200,IF(D54=4,170,IF(D54=5,135,IF(D54=6,100))))))) -> FALSE
A55: 41 | C55: PP | E55: =IF(C55="PP",IF(D55=1,300,IF(D55=2,230,IF(D55=3,200,IF(D55=4,170,IF(D55=5,135,IF(D55=6,100))))))) -> FALSE
A56: 42 | C56: PP | E56: =IF(C56="PP",IF(D56=1,300,IF(D56=2,230,IF(D56=3,200,IF(D56=4,170,IF(D56=5,135,IF(D56=6,100))))))) -> FALSE
A57: 43 | C57: PP | E57: =IF(C57="PP",IF(D57=1,300,IF(D57=2,230,IF(D57=3,200,IF(D57=4,170,IF(D57=5,135,IF(D57=6,100))))))) -> FALSE
A58: 44 | C58: PP | E58: =IF(C58="PP",IF(D58=1,300,IF(D58=2,230,IF(D58=3,200,IF(D58=4,170,IF(D58=5,135,IF(D58=6,100))))))) -> FALSE
A59: 45 | C59: RS | E59: =IF(C59="RS",IF(D59=1,1000)) -> FALSE
A60: 46 | C60: RS | E60: =IF(C60="RS",IF(D60=1,1000)) -> FALSE
A61: 47 | C61: RP | E61: =IF(C61="RP",IF(D61=1,200)) -> FALSE
A62: 48 | C62: RP | E62: =IF(C62="RP",IF(D62=1,200)) -> FALSE
A63: 4.1 - punkty razem: | E63: =SUM(E15:E62) -> 3910
A65: 4.2 - punkty za organizację zawodów
A66: Lp | B66: Nazwa skrócona zorganizowanych zawodów (konkurencja, miejsce, data) | C66: Wpisz 1 (w poz. 3-7, liczba może być większa) | D66: Ilość pkt za 1 zorganizowaną imprezę | E66: Pktunkty do współzawodnictwa
A67: 1 | B67: Mistrzostwa Świata FAI | D67: M | E67: =IF(D67="M",IF(C67=1,3000)) -> FALSE
A68: 2 | B68: Mistrzostwa Europy FAI | D68: M | E68: =IF(D68="M",IF(C68=1,2500)) -> FALSE
A69: 3 | B69: Zawody zaliczane do Pucharu Świata FAI lub otwarte zawody międzynarodowe | C69: 1 | D69: 1500 | E69: =PRODUCT(C69*D69) -> 1500
A70: 4 | B70: Mistrzostwa Polski F9U (Przemysław Jakubczak z Aeromodelklubu) | C70: 1 | D70: 1000 | E70: =PRODUCT(C70*D70) -> 1000
A71: 5 | B71: Ogólnopolskie Zawody zaliczane do Pucharu Polski | D71: 500 | E71: =PRODUCT(C71*D71) -> 0
A72: 6 | B72: Zgrupowanie / Konsultacje KN (Ceremonia dla medalistów PŚ oraz Odprawa roczna - Bogdan Wierzba, Aeromodelklub) | C72: 2 | D72: 300 | E72: =PRODUCT(C72*D72) -> 600
A73: 7 | B73: Zawody klubowe, międzyklubowe, regionalne, itp. – ujęte w Kalendarzu imprez KS dla Juniorów lub Seniorów w konkurencji mistrzowskiej z udziałem min. 10 zawodników | D73: 200 | E73: =PRODUCT(C73*D73) -> 0
A74: 4.2 - punkty razem: | E74: =SUM(E67:E73) -> 3100
A76: Współzawodnictwo w konkurencjach niemistrzowskich SPORT POWSZECHNY i POPULARYZACJA
A78: 4.3 - punkty za efektywność szkolenia podstawowego
A79: Lp | B79: Organizacja przez KS zawodów modelarskich dla dzieci i młodzieży oraz udział zawodników KS w mistrzostwach Polski: | C79: Liczba sklasyfikowanych zawodników | D79: Ilość pkt za 1 sklas. zawodn. | E79: Pktunkty do współzawodnictwa
A80: 1 | B80: Zawody Młodzi Modelarze–Lotnicy na Start dla juniorów młodszych (organizacja) | C80: 84 | D80: 20 | E80: =PRODUCT(C80*D80) -> 1680
A81: 2 | B81: Zawody Latawcowe dla młodzików (organizacja) | D81: 20 | E81: =PRODUCT(C81*D81) -> 0
A82: 3 | B82: Zawody balonów na ogrzane powietrze dla młodzików (organizacja) | D82: 20 | E82: =PRODUCT(C82*D82) -> 0
A83: 4 | B83: Zawody modeli halowych dla młodzików F1N/M, A6/M, ROOKIE (organizacja) | C83: 66 | D83: 20 | E83: =PRODUCT(C83*D83) -> 1320
A84: 5 | B84: Finał Regionalny Konkursu Młodych Artystów FAI (organizacja) | C84: 1 | D84: 20 | E84: =PRODUCT(C84*D84) -> 20
A85: 6 | B85: Udział zawodników KS w Mistrzostwach Polski Młodzików lub Juniorów Młodszych | C85: 1 | D85: 100 | E85: =PRODUCT(C85*D85) -> 100
A86: 7 | B86: Udział zawodników KS w Finale Ogólnopolskim Konkursu Młodych Artystów FAI | C86: 1 | D86: 50 | E86: =PRODUCT(C86*D86) -> 50
A87: 4.3 - punkty razem: | E87: =SUM(E80:E86) -> 3170
A89: 4.4 - punkty za miejsca w zawodach i konkursach oraz rekordy zawodników
A90: Lp | B90: Imię i Nazwisko zawodnika (nazwa skrócona, miejsce i data imprezy) | C90: Rodzaj zawodów | D90: Miejsce (wpisz liczbę 1-6) | E90: Pktunkty do współzawodnictwa
A91: 1 | C91: PS | E91: =IF(C91="PS",IF(D91=1,800,IF(D91=2,630,IF(D91=3,530,IF(D91=4,450,IF(D91=5,360,IF(D91=6,270))))))) -> FALSE
A92: 2 | C92: PS | E92: =IF(C92="PS",IF(D92=1,800,IF(D92=2,630,IF(D92=3,530,IF(D92=4,450,IF(D92=5,360,IF(D92=6,270))))))) -> FALSE
A93: 3 | B93: Tomasz Słowikowski | MP F4G, Ostrów Wlkp., 09.2025 | C93: MP | D93: 6 | E93: =IF(C93="MP",IF(D93=1,200,IF(D93=2,160,IF(D93=3,130,IF(D93=4,110,IF(D93=5,90,IF(D93=6,70))))))) -> 70
A94: 4 | B94: Aleksandra Lesiuk | MP Juniorów Młodszych, Gliwice, 7 i 15 czerwca. | C94: MP | D94: 4 | E94: =IF(C94="MP",IF(D94=1,200,IF(D94=2,160,IF(D94=3,130,IF(D94=4,110,IF(D94=5,90,IF(D94=6,70))))))) -> 110
A95: 5 | C95: MP | E95: =IF(C95="MP",IF(D95=1,200,IF(D95=2,160,IF(D95=3,130,IF(D95=4,110,IF(D95=5,90,IF(D95=6,70))))))) -> FALSE
A96: 6 | C96: MP | E96: =IF(C96="MP",IF(D96=1,200,IF(D96=2,160,IF(D96=3,130,IF(D96=4,110,IF(D96=5,90,IF(D96=6,70))))))) -> FALSE
A97: 7 | C97: MP | E97: =IF(C97="MP",IF(D97=1,200,IF(D97=2,160,IF(D97=3,130,IF(D97=4,110,IF(D97=5,90,IF(D97=6,70))))))) -> FALSE
A98: 8 | C98: MP | E98: =IF(C98="MP",IF(D98=1,200,IF(D98=2,160,IF(D98=3,130,IF(D98=4,110,IF(D98=5,90,IF(D98=6,70))))))) -> FALSE
A99: 9 | C99: MP | E99: =IF(C99="MP",IF(D99=1,200,IF(D99=2,160,IF(D99=3,130,IF(D99=4,110,IF(D99=5,90,IF(D99=6,70))))))) -> FALSE
A100: 10 | C100: MP | E100: =IF(C100="MP",IF(D100=1,200,IF(D100=2,160,IF(D100=3,130,IF(D100=4,110,IF(D100=5,90,IF(D100=6,70))))))) -> FALSE
A101: 11 | C101: MP | E101: =IF(C101="MP",IF(D101=1,200,IF(D101=2,160,IF(D101=3,130,IF(D101=4,110,IF(D101=5,90,IF(D101=6,70))))))) -> FALSE
A102: 12 | C102: MP | E102: =IF(C102="MP",IF(D102=1,200,IF(D102=2,160,IF(D102=3,130,IF(D102=4,110,IF(D102=5,90,IF(D102=6,70))))))) -> FALSE
A103: 13 | C103: MP | E103: =IF(C103="MP",IF(D103=1,200,IF(D103=2,160,IF(D103=3,130,IF(D103=4,110,IF(D103=5,90,IF(D103=6,70))))))) -> FALSE
A104: 14 | C104: MP | E104: =IF(C104="MP",IF(D104=1,200,IF(D104=2,160,IF(D104=3,130,IF(D104=4,110,IF(D104=5,90,IF(D104=6,70))))))) -> FALSE
A105: 15 | C105: MP | E105: =IF(C105="MP",IF(D105=1,200,IF(D105=2,160,IF(D105=3,130,IF(D105=4,110,IF(D105=5,90,IF(D105=6,70))))))) -> FALSE
A106: 16 | C106: MP | E106: =IF(C106="MP",IF(D106=1,200,IF(D106=2,160,IF(D106=3,130,IF(D106=4,110,IF(D106=5,90,IF(D106=6,70))))))) -> FALSE
... A112: 22 | C112: MP | E112: =IF(C112="MP",IF(D112=1,200,IF(D112=2,160,IF(D112=3,130,IF(D112=4,110,IF(D112=5,90,IF(D112=6,70))))))) -> FALSE
A113: 23 | B113: Tomasz Słowikowski | kk. PP F4G | C113: PP | D113: 4 | E113: =IF(C113="PP",IF(D113=1,200,IF(D113=2,160,IF(D113=3,130,IF(D113=4,110,IF(D113=5,90,IF(D113=6,70))))))) -> 110
A114: 24 | C114: PP | E114: =IF(C114="PP",IF(D114=1,200,IF(D114=2,160,IF(D114=3,130,IF(D114=4,110,IF(D114=5,90,IF(D114=6,70))))))) -> FALSE
A115: 25 | C115: PP | E115: =IF(C115="PP",IF(D115=1,200,IF(D115=2,160,IF(D115=3,130,IF(D115=4,110,IF(D115=5,90,IF(D115=6,70))))))) -> FALSE
A116: 26 | C116: PP | E116: =IF(C116="PP",IF(D116=1,200,IF(D116=2,160,IF(D116=3,130,IF(D116=4,110,IF(D116=5,90,IF(D116=6,70))))))) -> FALSE
A117: 27 | C117: PP | E117: =IF(C117="PP",IF(D117=1,200,IF(D117=2,160,IF(D117=3,130,IF(D117=4,110,IF(D117=5,90,IF(D117=6,70))))))) -> FALSE
A118: 28 | C118: PP | E118: =IF(C118="PP",IF(D118=1,200,IF(D118=2,160,IF(D118=3,130,IF(D118=4,110,IF(D118=5,90,IF(D118=6,70))))))) -> FALSE
...

Sheet AGL
C1: Aeroklub Gliwicki 62/25
A8: Sprawozdanie z działalności klubu za rok 2025
A11: Współzawodnictwo w konkurencjach mistrzowskich - SPORT WYCZYNOWY
A13: 4.1 - punkty za miejsca w zawodach i rekordy zawodników
A14: Lp | B14: Imię i Nazwisko zawodnika (nazwa skrócona, miejsce i data imprezy) | C14: Rodzaj zawodów | D14: Miejsce (wpisz liczbę 1-6) | E14: Pktunkty do współzawodnictwa
A15: 1 | C15: M | E15: =IF(C15="M",IF(D15=1,1500,IF(D15=2,1170,IF(D15=3,1000,IF(D15=4,830,IF(D15=5,670,IF(D15=6,500))))))) -> FALSE
A16: 2 | C16: M | E16: =IF(C16="M",IF(D16=1,1500,IF(D16=2,1170,IF(D16=3,1000,IF(D16=4,830,IF(D16=5,670,IF(D16=6,500))))))) -> FALSE
A17: 3 | C17: M | E17: =IF(C17="M",IF(D17=1,1500,IF(D17=2,1170,IF(D17=3,1000,IF(D17=4,830,IF(D17=5,670,IF(D17=6,500))))))) -> FALSE
A18: 4 | C18: M | E18: =IF(C18="M",IF(D18=1,1500,IF(D18=2,1170,IF(D18=3,1000,IF(D18=4,830,IF(D18=5,670,IF(D18=6,500))))))) -> FALSE
A19: 5 | C19: Md | E19: =IF(C19="Md",IF(D19=1,500,IF(D19=2,390,IF(D19=3,333,)))) -> 0
A20: 6 | C20: Md | E20: =IF(C20="Md",IF(D20=1,500,IF(D20=2,390,IF(D20=3,333,)))) -> 0
A21: 7 | C21: Md | E21: =IF(C21="Md",IF(D21=1,500,IF(D21=2,390,IF(D21=3,333,)))) -> 0
A22: 8 | C22: Md | E22: =IF(C22="Md",IF(D22=1,500,IF(D22=2,390,IF(D22=3,333,)))) -> 0
A23: 9 | C23: Md | E23: =IF(C23="Md",IF(D23=1,500,IF(D23=2,390,IF(D23=3,333,)))) -> 0
A24: 10 | C24: MP | E24: =IF(C24="MP",IF(D24=1,300,IF(D24=2,230,IF(D24=3,200,IF(D24=4,170,IF(D24=5,135,IF(D24=6,100))))))) -> FALSE
A25: 11 | C25: MP | E25: =IF(C25="MP",IF(D25=1,300,IF(D25=2,230,IF(D25=3,200,IF(D25=4,170,IF(D25=5,135,IF(D25=6,100))))))) -> FALSE
A26: 12 | C26: MP | E26: =IF(C26="MP",IF(D26=1,300,IF(D26=2,230,IF(D26=3,200,IF(D26=4,170,IF(D26=5,135,IF(D26=6,100))))))) -> FALSE
A27: 13 | C27: MP | E27: =IF(C27="MP",IF(D27=1,300,IF(D27=2,230,IF(D27=3,200,IF(D27=4,170,IF(D27=5,135,IF(D27=6,100))))))) -> FALSE
A28: 14 | C28: MP | E28: =IF(C28="MP",IF(D28=1,300,IF(D28=2,230,IF(D28=3,200,IF(D28=4,170,IF(D28=5,135,IF(D28=6,100))))))) -> FALSE
A29: 15 | C29: MP | E29: =IF(C29="MP",IF(D29=1,300,IF(D29=2,230,IF(D29=3,200,IF(D29=4,170,IF(D29=5,135,IF(D29=6,100))))))) -> FALSE
A30: 16 | C30: MP | E30: =IF(C30="MP",IF(D30=1,300,IF(D30=2,230,IF(D30=3,200,IF(D30=4,170,IF(D30=5,135,IF(D30=6,100))))))) -> FALSE
A31: 17 | C31: MP | E31: =IF(C31="MP",IF(D31=1,300,IF(D31=2,230,IF(D31=3,200,IF(D31=4,170,IF(D31=5,135,IF(D31=6,100))))))) -> FALSE
A32: 18 | C32: MP | E32: =IF(C32="MP",IF(D32=1,300,IF(D32=2,230,IF(D32=3,200,IF(D32=4,170,IF(D32=5,135,IF(D32=6,100))))))) -> FALSE
A33: 19 | C33: MP | E33: =IF(C33="MP",IF(D33=1,300,IF(D33=2,230,IF(D33=3,200,IF(D33=4,170,IF(D33=5,135,IF(D33=6,100))))))) -> FALSE
A34: 20 | C34: MP | E34: =IF(C34="MP",IF(D34=1,300,IF(D34=2,230,IF(D34=3,200,IF(D34=4,170,IF(D34=5,135,IF(D34=6,100))))))) -> FALSE
A35: 21 | C35: MP | E35: =IF(C35="MP",IF(D35=1,300,IF(D35=2,230,IF(D35=3,200,IF(D35=4,170,IF(D35=5,135,IF(D35=6,100))))))) -> FALSE
... A43: 29 | C43: MP | E43: =IF(C43="MP",IF(D43=1,300,IF(D43=2,230,IF(D43=3,200,IF(D43=4,170,IF(D43=5,135,IF(D43=6,100))))))) -> FALSE
A44: 30 | C44: PP | E44: =IF(C44="PP",IF(D44=1,300,IF(D44=2,230,IF(D44=3,200,IF(D44=4,170,IF(D44=5,135,IF(D44=6,100))))))) -> FALSE
A45: 31 | C45: PP | E45: =IF(C45="PP",IF(D45=1,300,IF(D45=2,230,IF(D45=3,200,IF(D45=4,170,IF(D45=5,135,IF(D45=6,100))))))) -> FALSE
A46: 32 | C46: PP | E46: =IF(C46="PP",IF(D46=1,300,IF(D46=2,230,IF(D46=3,200,IF(D46=4,170,IF(D46=5,135,IF(D46=6,100))))))) -> FALSE
A47: 33 | C47: PP | E47: =IF(C47="PP",IF(D47=1,300,IF(D47=2,230,IF(D47=3,200,IF(D47=4,170,IF(D47=5,135,IF(D47=6,100))))))) -> FALSE
A48: 34 | C48: PP | E48: =IF(C48="PP",IF(D48=1,300,IF(D48=2,230,IF(D48=3,200,IF(D48=4,170,IF(D48=5,135,IF(D48=6,100))))))) -> FALSE
A49: 35 | C49: PP | E49: =IF(C49="PP",IF(D49=1,300,IF(D49=2,230,IF(D49=3,200,IF(D49=4,170,IF(D49=5,135,IF(D49=6,100))))))) -> FALSE
A50: 36 | C50: PP | E50: =IF(C50="PP",IF(D50=1,300,IF(D50=2,230,IF(D50=3,200,IF(D50=4,170,IF(D50=5,135,IF(D50=6,100))))))) -> FALSE
A51: 37 | C51: PP | E51: =IF(C51="PP",IF(D51=1,300,IF(D51=2,230,IF(D51=3,200,IF(D51=4,170,IF(D51=5,135,IF(D51=6,100))))))) -> FALSE
A52: 38 | C52: PP | E52: =IF(C52="PP",IF(D52=1,300,IF(D52=2,230,IF(D52=3,200,IF(D52=4,170,IF(D52=5,135,IF(D52=6,100))))))) -> FALSE
A53: 39 | C53: PP | E53: =IF(C53="PP",IF(D53=1,300,IF(D53=2,230,IF(D53=3,200,IF(D53=4,170,IF(D53=5,135,IF(D53=6,100))))))) -> FALSE
A54: 40 | C54: PP | E54: =IF(C54="PP",IF(D54=1,300,IF(D54=2,230,IF(D54=3,200,IF(D54=4,170,IF(D54=5,135,IF(D54=6,100))))))) -> FALSE
A55: 41 | C55: PP | E55: =IF(C55="PP",IF(D55=1,300,IF(D55=2,230,IF(D55=3,200,IF(D55=4,170,IF(D55=5,135,IF(D55=6,100))))))) -> FALSE
... A58: 44 | C58: PP | E58: =IF(C58="PP",IF(D58=1,300,IF(D58=2,230,IF(D58=3,200,IF(D58=4,170,IF(D58=5,135,IF(D58=6,100))))))) -> FALSE
A59: 45 | C59: RS | E59: =IF(C59="RS",IF(D59=1,1000)) -> FALSE
A60: 46 | C60: RS | E60: =IF(C60="RS",IF(D60=1,1000)) -> FALSE
A61: 47 | C61: RP | E61: =IF(C61="RP",IF(D61=1,200)) -> FALSE
A62: 48 | C62: RP | E62: =IF(C62="RP",IF(D62=1,200)) -> FALSE
A63: 4.1 - punkty razem: | E63: =SUM(E15:E62) -> 0
A65: 4.2 - punkty za organizację zawodów
A66: Lp | B66: Nazwa skrócona zorganizowanych zawodów (konkurencja, miejsce, data) | C66: Wpisz 1 (w poz. 3-7, liczba może być większa) | D66: Ilość pkt za 1 zorganizowaną imprezę | E66: Pktunkty do współzawodnictwa
A67: 1 | B67: Mistrzostwa Świata FAI | D67: M | E67: =IF(D67="M",IF(C67=1,3000)) -> FALSE
A68: 2 | B68: Mistrzostwa Europy FAI | D68: M | E68: =IF(D68="M",IF(C68=1,2500)) -> FALSE
A69: 3 | B69: Zawody zaliczane do Pucharu Świata FAI lub otwarte zawody międzynarodowe | D69: 1500 | E69: =PRODUCT(C69*D69) -> 0
A70: 4 | B70: Mistrzostwa Polski | D70: 1000 | E70: =PRODUCT(C70*D70) -> 0
A71: 5 | B71: Ogólnopolskie Zawody zaliczane do Pucharu Polski | D71: 500 | E71: =PRODUCT(C71*D71) -> 0
A72: 6 | B72: Zgrupowanie / Konsultacje KN | D72: 300 | E72: =PRODUCT(C72*D72) -> 0
A73: 7 | B73: Zawody klubowe, międzyklubowe, regionalne, itp. – ujęte w Kalendarzu imprez KS dla Juniorów lub Seniorów w konkurencji mistrzowskiej z udziałem min. 10 zawodników | D73: 200 | E73: =PRODUCT(C73*D73) -> 0
A74: 4.2 - punkty razem: | E74: =SUM(E67:E73) -> 0
A76: Współzawodnictwo w konkurencjach niemistrzowskich SPORT POWSZECHNY i POPULARYZACJA
A78: 4.3 - punkty za efektywność szkolenia podstawowego
A79: Lp | B79: Organizacja przez KS zawodów modelarskich dla dzieci i młodzieży oraz udział zawodników KS w mistrzostwach Polski: | C79: Liczba sklasyfikowanych zawodników | D79: Ilość pkt za 1 sklas. zawodn. | E79: Pktunkty do współzawodnictwa
A80: 1 | B80: Zawody Młodzi Modelarze–Lotnicy na Start dla juniorów młodszych (organizacja) | C80: 24 | D80: 20 | E80: =PRODUCT(C80*D80) -> 480
A81: 2 | B81: Zawody Latawcowe dla młodzików (organizacja) | D81: 20 | E81: =PRODUCT(C81*D81) -> 0
A82: 3 | B82: Zawody balonów na ogrzane powietrze dla młodzików (organizacja) | D82: 20 | E82: =PRODUCT(C82*D82) -> 0
A83: 4 | B83: Zawody modeli halowych dla młodzików F1N/M, A6/M, ROOKIE (organizacja) | C83: 31 | D83: 20 | E83: =PRODUCT(C83*D83) -> 620
A84: 5 | B84: Finał Regionalny Konkursu Młodych Artystów FAI (organizacja) | C84: 17 | D84: 20 | E84: =PRODUCT(C84*D84) -> 340
A85: 6 | B85: Udział zawodników KS w Mistrzostwach Polski Młodzików lub Juniorów Młodszych | C85: 6 | D85: 100 | E85: =PRODUCT(C85*D85) -> 600
A86: 7 | B86: Udział zawodników KS w Finale Ogólnopolskim Konkursu Młodych Artystów FAI | C86: 6 | D86: 50 | E86: =PRODUCT(C86*D86) -> 300
A87: 4.3 - punkty razem: | E87: =SUM(E80:E86) -> 2340
A89: 4.4 - punkty za miejsca w zawodach i konkursach oraz rekordy zawodników
A90: Lp | B90: Imię i Nazwisko zawodnika (nazwa skrócona, miejsce i data imprezy) | C90: Rodzaj zawodów | D90: Miejsce (wpisz liczbę 1-6) | E90: Pktunkty do współzawodnictwa
A91: 1 | C91: PS | E91: =IF(C91="PS",IF(D91=1,800,IF(D91=2,630,IF(D91=3,530,IF(D91=4,450,IF(D91=5,360,IF(D91=6,270))))))) -> FALSE
A92: 2 | C92: PS | E92: =IF(C92="PS",IF(D92=1,800,IF(D92=2,630,IF(D92=3,530,IF(D92=4,450,IF(D92=5,360,IF(D92=6,270))))))) -> FALSE
A93: 3 | B93: Jan WOJTAK MPMFiLS F1S, Gliwice 11-12.10.2025 | C93: MP | D93: 5 | E93: =IF(C93="MP",IF(D93=1,200,IF(D93=2,160,IF(D93=3,130,IF(D93=4,110,IF(D93=5,90,IF(D93=6,70))))))) -> 90
A94: 4 | B94: Stanisław PAŹDZIOREK MPMFiLS F1S, Gliwice 11-12.10.2025 | C94: MP | D94: 1 | E94: =IF(C94="MP",IF(D94=1,200,IF(D94=2,160,IF(D94=3,130,IF(D94=4,110,IF(D94=5,90,IF(D94=6,70))))))) -> 200
A95: 5 | B95: Stanisław PAŹDZIOREK MPMFiLS F1Q/M, Gliwice 11-12.10.2025 | C95: MP | D95: 6 | E95: =IF(C95="MP",IF(D95=1,200,IF(D95=2,160,IF(D95=3,130,IF(D95=4,110,IF(D95=5,90,IF(D95=6,70))))))) -> 70
A96: 6 | B96: Michał MARKIEWICZ MPJM F1K, Gliwice 14-15.06.2025 | C96: MP | D96: 3 | E96: =IF(C96="MP",IF(D96=1,200,IF(D96=2,160,IF(D96=3,130,IF(D96=4,110,IF(D96=5,90,IF(D96=6,70))))))) -> 130
A97: 7 | C97: MP | E97: =IF(C97="MP",IF(D97=1,200,IF(D97=2,160,IF(D97=3,130,IF(D97=4,110,IF(D97=5,90,IF(D97=6,70))))))) -> FALSE
A98: 8 | C98: MP | E98: =IF(C98="MP",IF(D98=1,200,IF(D98=2,160,IF(D98=3,130,IF(D98=4,110,IF(D98=5,90,IF(D98=6,70))))))) -> FALSE
A99: 9 | C99: MP | E99: =IF(C99="MP",IF(D99=1,200,IF(D99=2,160,IF(D99=3,130,IF(D99=4,110,IF(D99=5,90,IF(D99=6,70))))))) -> FALSE
A100: 10 | C100: MP | E100: =IF(C100="MP",IF(D100=1,200,IF(D100=2,160,IF(D100=3,130,IF(D100=4,110,IF(D100=5,90,IF(D100=6,70))))))) -> FALSE
A101: 11 | C101: MP | E101: =IF(C101="MP",IF(D101=1,200,IF(D101=2,160,IF(D101=3,130,IF(D101=4,110,IF(D101=5,90,IF(D101=6,70))))))) -> FALSE
A102: 12 | C102: MP | E102: =IF(C102="MP",IF(D102=1,200,IF(D102=2,160,IF(D102=3,130,IF(D102=4,110,IF(D102=5,90,IF(D102=6,70))))))) -> FALSE
A103: 13 | C103: MP | E103: =IF(C103="MP",IF(D103=1,200,IF(D103=2,160,IF(D103=3,130,IF(D103=4,110,IF(D103=5,90,IF(D103=6,70))))))) -> FALSE
A104: 14 | C104: MP | E104: =IF(C104="MP",IF(D104=1,200,IF(D104=2,160,IF(D104=3,130,IF(D104=4,110,IF(D104=5,90,IF(D104=6,70))))))) -> FALSE
A105: 15 | C105: MP | E105: =IF(C105="MP",IF(D105=1,200,IF(D105=2,160,IF(D105=3,130,IF(D105=4,110,IF(D105=5,90,IF(D105=6,70))))))) -> FALSE
A106: 16 | C106: MP | E106: =IF(C106="MP",IF(D106=1,200,IF(D106=2,160,IF(D106=3,130,IF(D106=4,110,IF(D106=5,90,IF(D106=6,70))))))) -> FALSE
A107: 17 | C107: MP | E107: =IF(C107="MP",IF(D107=1,200,IF(D107=2,160,IF(D107=3,130,IF(D107=4,110,IF(D107=5,90,IF(D107=6,70))))))) -> FALSE
A108: 18 | C108: MP | E108: =IF(C108="MP",IF(D108=1,200,IF(D108=2,160,IF(D108=3,130,IF(D108=4,110,IF(D108=5,90,IF(D108=6,70))))))) -> FALSE
... A112: 22 | C112: MP | E112: =IF(C112="MP",IF(D112=1,200,IF(D112=2,160,IF(D112=3,130,IF(D112=4,110,IF(D112=5,90,IF(D112=6,70))))))) -> FALSE
A113: 23 | C113: PP | E113: =IF(C113="PP",IF(D113=1,200,IF(D113=2,160,IF(D113=3,130,IF(D113=4,110,IF(D113=5,90,IF(D113=6,70))))))) -> FALSE
A114: 24 | C114: PP | E114: =IF(C114="PP",IF(D114=1,200,IF(D114=2,160,IF(D114=3,130,IF(D114=4,110,IF(D114=5,90,IF(D114=6,70))))))) -> FALSE
A115: 25 | C115: PP | E115: =IF(C115="PP",IF(D115=1,200,IF(D115=2,160,IF(D115=3,130,IF(D115=4,110,IF(D115=5,90,IF(D115=6,70))))))) -> FALSE
A116: 26 | C116: PP | E116: =IF(C116="PP",IF(D116=1,200,IF(D116=2,160,IF(D116=3,130,IF(D116=4,110,IF(D116=5,90,IF(D116=6,70))))))) -> FALSE
A117: 27 | C117: PP | E117: =IF(C117="PP",IF(D117=1,200,IF(D117=2,160,IF(D117=3,130,IF(D117=4,110,IF(D117=5,90,IF(D117=6,70))))))) -> FALSE
A118: 28 | C118: PP | E118: =IF(C118="PP",IF(D118=1,200,IF(D118=2,160,IF(D118=3,130,IF(D118=4,110,IF(D118=5,90,IF(D118=6,70))))))) -> FALSE
A119: 29 | C119: PP | E119: =IF(C119="PP",IF(D119=1,200,IF(D119=2,160,IF(D119=3,130,IF(D119=4,110,IF(D119=5,90,IF(D119=6,70))))))) -> FALSE
A120: 30 | C120: PP | E120: =IF(C120="PP",IF(D120=1,200,IF(D120=2,160,IF(D120=3,130,IF(D120=4,110,IF(D120=5,90,IF(D120=6,70))))))) -> FALSE
A121: 31 | C121: PP | E121: =IF(C121="PP",IF(D121=1,200,IF(D121=2,160,IF(D121=3,130,IF(D121=4,110,IF(D121=5,90,IF(D121=6,70))))))) -> FALSE
A122: 32 | C122: PP | E122: =IF(C122="PP",IF(D122=1,200,IF(D122=2,160,IF(D122=3,130,IF(D122=4,110,IF(D122=5,90,IF(D122=6,70))))))) -> FALSE
A123: 33 | C123: PP | E123: =IF(C123="PP",IF(D123=1,200,IF(D123=2,160,IF(D123=3,130,IF(D123=4,110,IF(D123=5,90,IF(D123=6,70))))))) -> FALSE
A124: 34 | C124: PP | E124: =IF(C124="PP",IF(D124=1,200,IF(D124=2,160,IF(D124=3,130,IF(D124=4,110,IF(D124=5,90,IF(D124=6,70))))))) -> FALSE
... A127: 37 | C127: PP | E127: =IF(C127="PP",IF(D127=1,200,IF(D127=2,160,IF(D127=3,130,IF(D127=4,110,IF(D127=5,90,IF(D127=6,70))))))) -> FALSE
...

Sheet ALO
C1: Aeroklub Łódzki Nr licencji 21/25
A8: Sprawozdanie z działalności klubu za rok 2025
A11: Współzawodnictwo w konkurencjach mistrzowskich - SPORT WYCZYNOWY
A13: 4.1 - punkty za miejsca w zawodach i rekordy zawodników
A14: Lp | B14: Imię i Nazwisko zawodnika (nazwa skrócona, miejsce i data imprezy) | C14: Rodzaj zawodów | D14: Miejsce (wpisz liczbę 1-6) | E14: Pktunkty do współzawodnictwa
A15: 1 | C15: M | E15: =IF(C15="M",IF(D15=1,1500,IF(D15=2,1170,IF(D15=3,1000,IF(D15=4,830,IF(D15=5,670,IF(D15=6,500))))))) -> FALSE
A16: 2 | C16: M | E16: =IF(C16="M",IF(D16=1,1500,IF(D16=2,1170,IF(D16=3,1000,IF(D16=4,830,IF(D16=5,670,IF(D16=6,500))))))) -> FALSE
A17: 3 | C17: M | E17: =IF(C17="M",IF(D17=1,1500,IF(D17=2,1170,IF(D17=3,1000,IF(D17=4,830,IF(D17=5,670,IF(D17=6,500))))))) -> FALSE
A18: 4 | C18: M | E18: =IF(C18="M",IF(D18=1,1500,IF(D18=2,1170,IF(D18=3,1000,IF(D18=4,830,IF(D18=5,670,IF(D18=6,500))))))) -> FALSE
A19: 5 | C19: Md | E19: =IF(C19="Md",IF(D19=1,500,IF(D19=2,390,IF(D19=3,333,0)))) -> 0
A20: 6 | C20: Md | E20: =IF(C20="Md",IF(D20=1,500,IF(D20=2,390,IF(D20=3,333,0)))) -> 0
A21: 7 | C21: Md | E21: =IF(C21="Md",IF(D21=1,500,IF(D21=2,390,IF(D21=3,333,0)))) -> 0
A22: 8 | C22: Md | E22: =IF(C22="Md",IF(D22=1,500,IF(D22=2,390,IF(D22=3,333,0)))) -> 0
A23: 9 | C23: Md | E23: =IF(C23="Md",IF(D23=1,500,IF(D23=2,390,IF(D23=3,333,0)))) -> 0
A24: 10 | B24: Grzegorz Pawlak – F1E – Toszek | C24: MP | D24: 4 | E24: =IF(C24="MP",IF(D24=1,300,IF(D24=2,230,IF(D24=3,200,IF(D24=4,170,IF(D24=5,135,IF(D24=6,100))))))) -> 170
A25: 11 | C25: MP | E25: =IF(C25="MP",IF(D25=1,300,IF(D25=2,230,IF(D25=3,200,IF(D25=4,170,IF(D25=5,135,IF(D25=6,100))))))) -> FALSE
A26: 12 | C26: MP | E26: =IF(C26="MP",IF(D26=1,300,IF(D26=2,230,IF(D26=3,200,IF(D26=4,170,IF(D26=5,135,IF(D26=6,100))))))) -> FALSE
A27: 13 | C27: MP | E27: =IF(C27="MP",IF(D27=1,300,IF(D27=2,230,IF(D27=3,200,IF(D27=4,170,IF(D27=5,135,IF(D27=6,100))))))) -> FALSE
A28: 14 | C28: MP | E28: =IF(C28="MP",IF(D28=1,300,IF(D28=2,230,IF(D28=3,200,IF(D28=4,170,IF(D28=5,135,IF(D28=6,100))))))) -> FALSE
A29: 15 | C29: MP | E29: =IF(C29="MP",IF(D29=1,300,IF(D29=2,230,IF(D29=3,200,IF(D29=4,170,IF(D29=5,135,IF(D29=6,100))))))) -> FALSE
A30: 16 | C30: MP | E30: =IF(C30="MP",IF(D30=1,300,IF(D30=2,230,IF(D30=3,200,IF(D30=4,170,IF(D30=5,135,IF(D30=6,100))))))) -> FALSE
A31: 17 | C31: MP | E31: =IF(C31="MP",IF(D31=1,300,IF(D31=2,230,IF(D31=3,200,IF(D31=4,170,IF(D31=5,135,IF(D31=6,100))))))) -> FALSE
A32: 18 | C32: MP | E32: =IF(C32="MP",IF(D32=1,300,IF(D32=2,230,IF(D32=3,200,IF(D32=4,170,IF(D32=5,135,IF(D32=6,100))))))) -> FALSE
A33: 19 | C33: MP | E33: =IF(C33="MP",IF(D33=1,300,IF(D33=2,230,IF(D33=3,200,IF(D33=4,170,IF(D33=5,135,IF(D33=6,100))))))) -> FALSE
A34: 20 | C34: MP | E34: =IF(C34="MP",IF(D34=1,300,IF(D34=2,230,IF(D34=3,200,IF(D34=4,170,IF(D34=5,135,IF(D34=6,100))))))) -> FALSE
A35: 21 | C35: MP | E35: =IF(C35="MP",IF(D35=1,300,IF(D35=2,230,IF(D35=3,200,IF(D35=4,170,IF(D35=5,135,IF(D35=6,100))))))) -> FALSE
A36: 22 | C36: MP | E36: =IF(C36="MP",IF(D36=1,300,IF(D36=2,230,IF(D36=3,200,IF(D36=4,170,IF(D36=5,135,IF(D36=6,100))))))) -> FALSE
... A43: 29 | C43: MP | E43: =IF(C43="MP",IF(D43=1,300,IF(D43=2,230,IF(D43=3,200,IF(D43=4,170,IF(D43=5,135,IF(D43=6,100))))))) -> FALSE
A44: 30 | B44: Grzegorz Pawlak – F1A std - Kietrz | C44: PP | E44: =IF(C44="PP",IF(D44=1,300,IF(D44=2,230,IF(D44=3,200,IF(D44=4,170,IF(D44=5,135,IF(D44=6,100))))))) -> FALSE
A45: 31 | C45: PP | E45: =IF(C45="PP",IF(D45=1,300,IF(D45=2,230,IF(D45=3,200,IF(D45=4,170,IF(D45=5,135,IF(D45=6,100))))))) -> FALSE
A46: 32 | C46: PP | E46: =IF(C46="PP",IF(D46=1,300,IF(D46=2,230,IF(D46=3,200,IF(D46=4,170,IF(D46=5,135,IF(D46=6,100))))))) -> FALSE
A47: 33 | C47: PP | E47: =IF(C47="PP",IF(D47=1,300,IF(D47=2,230,IF(D47=3,200,IF(D47=4,170,IF(D47=5,135,IF(D47=6,100))))))) -> FALSE
A48: 34 | C48: PP | E48: =IF(C48="PP",IF(D48=1,300,IF(D48=2,230,IF(D48=3,200,IF(D48=4,170,IF(D48=5,135,IF(D48=6,100))))))) -> FALSE
A49: 35 | C49: PP | E49: =IF(C49="PP",IF(D49=1,300,IF(D49=2,230,IF(D49=3,200,IF(D49=4,170,IF(D49=5,135,IF(D49=6,100))))))) -> FALSE
A50: 36 | C50: PP | E50: =IF(C50="PP",IF(D50=1,300,IF(D50=2,230,IF(D50=3,200,IF(D50=4,170,IF(D50=5,135,IF(D50=6,100))))))) -> FALSE
A51: 37 | C51: PP | E51: =IF(C51="PP",IF(D51=1,300,IF(D51=2,230,IF(D51=3,200,IF(D51=4,170,IF(D51=5,135,IF(D51=6,100))))))) -> FALSE
A52: 38 | C52: PP | E52: =IF(C52="PP",IF(D52=1,300,IF(D52=2,230,IF(D52=3,200,IF(D52=4,170,IF(D52=5,135,IF(D52=6,100))))))) -> FALSE
A53: 39 | C53: PP | E53: =IF(C53="PP",IF(D53=1,300,IF(D53=2,230,IF(D53=3,200,IF(D53=4,170,IF(D53=5,135,IF(D53=6,100))))))) -> FALSE
A54: 40 | C54: PP | E54: =IF(C54="PP",IF(D54=1,300,IF(D54=2,230,IF(D54=3,200,IF(D54=4,170,IF(D54=5,135,IF(D54=6,100))))))) -> FALSE
A55: 41 | C55: PP | E55: =IF(C55="PP",IF(D55=1,300,IF(D55=2,230,IF(D55=3,200,IF(D55=4,170,IF(D55=5,135,IF(D55=6,100))))))) -> FALSE
A56: 42 | C56: PP | E56: =IF(C56="PP",IF(D56=1,300,IF(D56=2,230,IF(D56=3,200,IF(D56=4,170,IF(D56=5,135,IF(D56=6,100))))))) -> FALSE
... A58: 44 | C58: PP | E58: =IF(C58="PP",IF(D58=1,300,IF(D58=2,230,IF(D58=3,200,IF(D58=4,170,IF(D58=5,135,IF(D58=6,100))))))) -> FALSE
A59: 45 | C59: RS | E59: =IF(C59="RS",IF(D59=1,1000)) -> FALSE
A60: 46 | C60: RS | E60: =IF(C60="RS",IF(D60=1,1000)) -> FALSE
A61: 47 | C61: RP | E61: =IF(C61="RP",IF(D61=1,200)) -> FALSE
A62: 48 | C62: RP | E62: =IF(C62="RP",IF(D62=1,200)) -> FALSE
A63: 4.1 - punkty razem: | E63: =SUM(E15:E62) -> 170
A65: 4.2 - punkty za organizację zawodów
A66: Lp | B66: Nazwa skrócona zorganizowanych zawodów (konkurencja, miejsce, data) | C66: Wpisz 1 (w poz. 3-7, liczba może być większa) | D66: Ilość pkt za 1 zorganizowaną imprezę | E66: Pktunkty do współzawodnictwa
A67: 1 | B67: Mistrzostwa Świata FAI | D67: M | E67: =IF(D67="M",IF(C67=1,3000)) -> FALSE
A68: 2 | B68: Mistrzostwa Europy FAI | D68: M | E68: =IF(D68="M",IF(C68=1,2500)) -> FALSE
A69: 3 | B69: Zawody zaliczane do Pucharu Świata FAI lub otwarte zawody międzynarodowe | D69: 1500 | E69: =PRODUCT(C69*D69) -> 0
A70: 4 | B70: Mistrzostwa Polski | D70: 1000 | E70: =PRODUCT(C70*D70) -> 0
A71: 5 | B71: Ogólnopolskie Zawody zaliczane do Pucharu Polski | D71: 500 | E71: =PRODUCT(C71*D71) -> 0
A72: 6 | B72: Zgrupowanie / Konsultacje KN | D72: 300 | E72: =PRODUCT(C72*D72) -> 0
A73: 7 | B73: Zawody klubowe, międzyklubowe, regionalne, itp. – ujęte w Kalendarzu imprez KS dla Juniorów lub Seniorów w konkurencji mistrzowskiej z udziałem min. 10 zawodników | D73: 200 | E73: =PRODUCT(C73*D73) -> 0
A74: 4.2 - punkty razem: | E74: =SUM(E67:E73) -> 0
A76: Współzawodnictwo w konkurencjach niemistrzowskich SPORT POWSZECHNY i POPULARYZACJA
A78: 4.3 - punkty za efektywność szkolenia podstawowego
A79: Lp | B79: Organizacja przez KS zawodów modelarskich dla dzieci i młodzieży oraz udział zawodników KS w mistrzostwach Polski: | C79: Liczba sklasyfikowanych zawodników | D79: Ilość pkt za 1 sklas. zawodn. | E79: Pktunkty do współzawodnictwa
A80: 1 | B80: Zawody Młodzi Modelarze–Lotnicy na Start dla juniorów młodszych (organizacja) | D80: 20 | E80: =PRODUCT(C80*D80) -> 0
A81: 2 | B81: Zawody Latawcowe dla młodzików (organizacja) | D81: 20 | E81: =PRODUCT(C81*D81) -> 0
A82: 3 | B82: Zawody balonów na ogrzane powietrze dla młodzików (organizacja) | D82: 20 | E82: =PRODUCT(C82*D82) -> 0
A83: 4 | B83: Zawody modeli halowych dla młodzików F1N/M, A6/M, ROOKIE (organizacja) | D83: 20 | E83: =PRODUCT(C83*D83) -> 0
A84: 5 | B84: Finał Regionalny Konkursu Młodych Artystów FAI (organizacja) | D84: 20 | E84: =PRODUCT(C84*D84) -> 0
A85: 6 | B85: Udział zawodników KS w Mistrzostwach Polski Młodzików lub Juniorów Młodszych | C85: 2 | D85: 100 | E85: =PRODUCT(C85*D85) -> 200
A86: 7 | B86: Udział zawodników KS w Finale Ogólnopolskim Konkursu Młodych Artystów FAI | D86: 50 | E86: =PRODUCT(C86*D86) -> 0
A87: 4.3 - punkty razem: | E87: =SUM(E80:E86) -> 200
A89: 4.4 - punkty za miejsca w zawodach i konkursach oraz rekordy zawodników
A90: Lp | B90: Imię i Nazwisko zawodnika (nazwa skrócona, miejsce i data imprezy) | C90: Rodzaj zawodów | D90: Miejsce (wpisz liczbę 1-6) | E90: Pktunkty do współzawodnictwa
A91: 1 | C91: PS | E91: =IF(C91="PS",IF(D91=1,800,IF(D91=2,630,IF(D91=3,530,IF(D91=4,450,IF(D91=5,360,IF(D91=6,270))))))) -> FALSE
A92: 2 | C92: PS | E92: =IF(C92="PS",IF(D92=1,800,IF(D92=2,630,IF(D92=3,530,IF(D92=4,450,IF(D92=5,360,IF(D92=6,270))))))) -> FALSE
A93: 3 | B93: Wojciech Szaniawski – F1H – junior młodszy – Gliwice | C93: MP | D93: 3 | E93: =IF(C93="MP",IF(D93=1,200,IF(D93=2,160,IF(D93=3,130,IF(D93=4,110,IF(D93=5,90,IF(D93=6,70))))))) -> 130
A94: 4 | B94: Krzysztof Lobka | MPJM - F1H, Gliwice, 14-15 czerwca | C94: MP | E94: =IF(C94="MP",IF(D94=1,200,IF(D94=2,160,IF(D94=3,130,IF(D94=4,110,IF(D94=5,90,IF(D94=6,70))))))) -> FALSE
A95: 5 | C95: MP | E95: =IF(C95="MP",IF(D95=1,200,IF(D95=2,160,IF(D95=3,130,IF(D95=4,110,IF(D95=5,90,IF(D95=6,70))))))) -> FALSE
A96: 6 | C96: MP | E96: =IF(C96="MP",IF(D96=1,200,IF(D96=2,160,IF(D96=3,130,IF(D96=4,110,IF(D96=5,90,IF(D96=6,70))))))) -> FALSE
A97: 7 | C97: MP | E97: =IF(C97="MP",IF(D97=1,200,IF(D97=2,160,IF(D97=3,130,IF(D97=4,110,IF(D97=5,90,IF(D97=6,70))))))) -> FALSE
A98: 8 | C98: MP | E98: =IF(C98="MP",IF(D98=1,200,IF(D98=2,160,IF(D98=3,130,IF(D98=4,110,IF(D98=5,90,IF(D98=6,70))))))) -> FALSE
A99: 9 | C99: MP | E99: =IF(C99="MP",IF(D99=1,200,IF(D99=2,160,IF(D99=3,130,IF(D99=4,110,IF(D99=5,90,IF(D99=6,70))))))) -> FALSE
A100: 10 | C100: MP | E100: =IF(C100="MP",IF(D100=1,200,IF(D100=2,160,IF(D100=3,130,IF(D100=4,110,IF(D100=5,90,IF(D100=6,70))))))) -> FALSE
A101: 11 | C101: MP | E101: =IF(C101="MP",IF(D101=1,200,IF(D101=2,160,IF(D101=3,130,IF(D101=4,110,IF(D101=5,90,IF(D101=6,70))))))) -> FALSE
A102: 12 | C102: MP | E102: =IF(C102="MP",IF(D102=1,200,IF(D102=2,160,IF(D102=3,130,IF(D102=4,110,IF(D102=5,90,IF(D102=6,70))))))) -> FALSE
A103: 13 | C103: MP | E103: =IF(C103="MP",IF(D103=1,200,IF(D103=2,160,IF(D103=3,130,IF(D103=4,110,IF(D103=5,90,IF(D103=6,70))))))) -> FALSE
A104: 14 | C104: MP | E104: =IF(C104="MP",IF(D104=1,200,IF(D104=2,160,IF(D104=3,130,IF(D104=4,110,IF(D104=5,90,IF(D104=6,70))))))) -> FALSE
A105: 15 | C105: MP | E105: =IF(C105="MP",IF(D105=1,200,IF(D105=2,160,IF(D105=3,130,IF(D105=4,110,IF(D105=5,90,IF(D105=6,70))))))) -> FALSE
A106: 16 | C106: MP | E106: =IF(C106="MP",IF(D106=1,200,IF(D106=2,160,IF(D106=3,130,IF(D106=4,110,IF(D106=5,90,IF(D106=6,70))))))) -> FALSE
... A112: 22 | C112: MP | E112: =IF(C112="MP",IF(D112=1,200,IF(D112=2,160,IF(D112=3,130,IF(D112=4,110,IF(D112=5,90,IF(D112=6,70))))))) -> FALSE
A113: 23 | B113: Grzegorz Pawlak – kk. Pucharu Polski F1A Std | C113: PP | D113: 2 | E113: =IF(C113="PP",IF(D113=1,200,IF(D113=2,160,IF(D113=3,130,IF(D113=4,110,IF(D113=5,90,IF(D113=6,70))))))) -> 160
A114: 24 | C114: PP | E114: =IF(C114="PP",IF(D114=1,200,IF(D114=2,160,IF(D114=3,130,IF(D114=4,110,IF(D114=5,90,IF(D114=6,70))))))) -> FALSE
A115: 25 | C115: PP | E115: =IF(C115="PP",IF(D115=1,200,IF(D115=2,160,IF(D115=3,130,IF(D115=4,110,IF(D115=5,90,IF(D115=6,70))))))) -> FALSE
A116: 26 | C116: PP | E116: =IF(C116="PP",IF(D116=1,200,IF(D116=2,160,IF(D116=3,130,IF(D116=4,110,IF(D116=5,90,IF(D116=6,70))))))) -> FALSE
A117: 27 | C117: PP | E117: =IF(C117="PP",IF(D117=1,200,IF(D117=2,160,IF(D117=3,130,IF(D117=4,110,IF(D117=5,90,IF(D117=6,70))))))) -> FALSE
A118: 28 | C118: PP | E118: =IF(C118="PP",IF(D118=1,200,IF(D118=2,160,IF(D118=3,130,IF(D118=4,110,IF(D118=5,90,IF(D118=6,70))))))) -> FALSE
A119: 29 | C119: PP | E119: =IF(C119="PP",IF(D119=1,200,IF(D119=2,160,IF(D119=3,130,IF(D119=4,110,IF(D119=5,90,IF(D119=6,70))))))) -> FALSE
A120: 30 | C120: PP | E120: =IF(C120="PP",IF(D120=1,200,IF(D120=2,160,IF(D120=3,130,IF(D120=4,110,IF(D120=5,90,IF(D120=6,70))))))) -> FALSE
A121: 31 | C121: PP | E121: =IF(C121="PP",IF(D121=1,200,IF(D121=2,160,IF(D121=3,130,IF(D121=4,110,IF(D121=5,90,IF(D121=6,70))))))) -> FALSE
A122: 32 | C122: PP | E122: =IF(C122="PP",IF(D122=1,200,IF(D122=2,160,IF(D122=3,130,IF(D122=4,110,IF(D122=5,90,IF(D122=6,70))))))) -> FALSE
A123: 33 | C123: PP | E123: =IF(C123="PP",IF(D123=1,200,IF(D123=2,160,IF(D123=3,130,IF(D123=4,110,IF(D123=5,90,IF(D123=6,70))))))) -> FALSE
A124: 34 | C124: PP | E124: =IF(C124="PP",IF(D124=1,200,IF(D124=2,160,IF(D124=3,130,IF(D124=4,110,IF(D124=5,90,IF(D124=6,70))))))) -> FALSE
A125: 35 | C125: PP | E125: =IF(C125="PP",IF(D125=1,200,IF(D125=2,160,IF(D125=3,130,IF(D125=4,110,IF(D125=5,90,IF(D125=6,70))))))) -> FALSE
...

Sheet GSML
C1: Gliwickie SML i Nr Lic - 6/25
A8: Sprawozdanie z działalności klubu za rok 2025
A11: Współzawodnictwo w konkurencjach mistrzowskich - SPORT WYCZYNOWY
A13: 4.1 - punkty za miejsca w zawodach i rekordy zawodników
A14: Lp | B14: Imię i Nazwisko zawodnika (nazwa skrócona, miejsce i data imprezy) | C14: Rodzaj zawodów | D14: Miejsce (wpisz liczbę 1-6) | E14: Pktunkty do współzawodnictwa
A15: 1 | B15: Adam KRAWIEC PŚ F1B | C15: M | D15: 2 | E15: =IF(C15="M",IF(D15=1,1500,IF(D15=2,1170,IF(D15=3,1000,IF(D15=4,830,IF(D15=5,670,IF(D15=6,500))))))) -> 1170
A16: 2 | B16: Franciszek JĘDRYSIAK PŚ F1Qj | C16: M | D16: 2 | E16: =IF(C16="M",IF(D16=1,1500,IF(D16=2,1170,IF(D16=3,1000,IF(D16=4,830,IF(D16=5,670,IF(D16=6,500))))))) -> 1170
A17: 3 | B17: Wojciech BARTEL PŚ F1Qj | C17: M | D17: 5 | E17: =IF(C17="M",IF(D17=1,1500,IF(D17=2,1170,IF(D17=3,1000,IF(D17=4,830,IF(D17=5,670,IF(D17=6,500))))))) -> 670
A18: 4 | B18: Czesław ZIOBER PŚ F1E | C18: M | D18: 5 | E18: =IF(C18="M",IF(D18=1,1500,IF(D18=2,1170,IF(D18=3,1000,IF(D18=4,830,IF(D18=5,670,IF(D18=6,500))))))) -> 670
A19: 5 | B19: Amelia WOJNICKA | ME F1E Junior (kobiety) | CZE Rana 19-23.07.2025 | C19: M | D19: 3 | E19: =IF(C19="M",IF(D19=1,1500,IF(D19=2,1170,IF(D19=3,1000,IF(D19=4,830,IF(D19=5,670,IF(D19=6,500))))))) -> 1000
A20: 6 | C20: M | E20: =IF(C20="M",IF(D20=1,1500,IF(D20=2,1170,IF(D20=3,1000,IF(D20=4,830,IF(D20=5,670,IF(D20=6,500))))))) -> FALSE
A21: 7 | C21: M | E21: =IF(C21="M",IF(D21=1,1500,IF(D21=2,1170,IF(D21=3,1000,IF(D21=4,830,IF(D21=5,670,IF(D21=6,500))))))) -> FALSE
A22: 8 | C22: M | E22: =IF(C22="M",IF(D22=1,1500,IF(D22=2,1170,IF(D22=3,1000,IF(D22=4,830,IF(D22=5,670,IF(D22=6,500))))))) -> FALSE
A23: 9 | C23: M | E23: =IF(C23="M",IF(D23=1,1500,IF(D23=2,1170,IF(D23=3,1000,IF(D23=4,830,IF(D23=5,670,IF(D23=6,500))))))) -> FALSE
A24: 10 | C24: M | E24: =IF(C24="M",IF(D24=1,1500,IF(D24=2,1170,IF(D24=3,1000,IF(D24=4,830,IF(D24=5,670,IF(D24=6,500))))))) -> FALSE
A25: 11 | B25: Amelia WOJNICKA | ME F1E Junior - brąz drużynowo | CZE Rana 19-23.07.2025 | C25: Md | D25: 3 | E25: =IF(C25="Md",IF(D25=1,500,IF(D25=2,390,IF(D25=3,333,0)))) -> 333
A26: 12 | C26: Md | E26: =IF(C26="Md",IF(D26=1,500,IF(D26=2,390,IF(D26=3,333,0)))) -> 0
A27: 13 | C27: Md | E27: =IF(C27="Md",IF(D27=1,500,IF(D27=2,390,IF(D27=3,333,0)))) -> 0
A28: 14 | C28: Md | E28: =IF(C28="Md",IF(D28=1,500,IF(D28=2,390,IF(D28=3,333,0)))) -> 0
A29: 15 | C29: Md | E29: =IF(C29="Md",IF(D29=1,500,IF(D29=2,390,IF(D29=3,333,0)))) -> 0
A30: 16 | C30: Md | E30: =IF(C30="Md",IF(D30=1,500,IF(D30=2,390,IF(D30=3,333,0)))) -> 0
A31: 17 | C31: Md | E31: =IF(C31="Md",IF(D31=1,500,IF(D31=2,390,IF(D31=3,333,0)))) -> 0
A32: 18 | C32: Md | E32: =IF(C32="Md",IF(D32=1,500,IF(D32=2,390,IF(D32=3,333,0)))) -> 0
A33: 19 | C33: Md | E33: =IF(C33="Md",IF(D33=1,500,IF(D33=2,390,IF(D33=3,333,0)))) -> 0
A34: 20 | C34: Md | E34: =IF(C34="Md",IF(D34=1,500,IF(D34=2,390,IF(D34=3,333,0)))) -> 0
A35: 21 | C35: Md | E35: =IF(C35="Md",IF(D35=1,500,IF(D35=2,390,IF(D35=3,333,0)))) -> 0
A36: 22 | B36: Adam KRAWIEC MP F1B, Kietrz 30.08.2025 | C36: MP | D36: 2 | E36: =IF(C36="MP",IF(D36=1,300,IF(D36=2,230,IF(D36=3,200,IF(D36=4,170,IF(D36=5,135,IF(D36=6,100))))))) -> 230
A37: 23 | B37: Dominik Pełka MP F1C, Kietrz 30.08.2025 | C37: MP | D37: 6 | E37: =IF(C37="MP",IF(D37=1,300,IF(D37=2,230,IF(D37=3,200,IF(D37=4,170,IF(D37=5,135,IF(D37=6,100))))))) -> 100
A38: 24 | B38: Jacek POGONOWSKI MP F1Q, Kietrz 30.08.2025 | C38: MP | D38: 4 | E38: =IF(C38="MP",IF(D38=1,300,IF(D38=2,230,IF(D38=3,200,IF(D38=4,170,IF(D38=5,135,IF(D38=6,100))))))) -> 170
A39: 25 | B39: Franciszek JĘDRYSIAK MP F1Q, Kietrz 30.08.2025 | C39: MP | D39: 2 | E39: =IF(C39="MP",IF(D39=1,300,IF(D39=2,230,IF(D39=3,200,IF(D39=4,170,IF(D39=5,135,IF(D39=6,100))))))) -> 230
A40: 26 | B40: Kamil POGONOWSKI MP F1Q, Kietrz 30.08.2025 | C40: MP | D40: 3 | E40: =IF(C40="MP",IF(D40=1,300,IF(D40=2,230,IF(D40=3,200,IF(D40=4,170,IF(D40=5,135,IF(D40=6,100))))))) -> 200
A41: 27 | B41: Franciszek JĘDRYSIAK MP F1Qj, Piła 27-29.06.2025 | C41: MP | D41: 1 | E41: =IF(C41="MP",IF(D41=1,300,IF(D41=2,230,IF(D41=3,200,IF(D41=4,170,IF(D41=5,135,IF(D41=6,100))))))) -> 300
A42: 28 | B42: Kamil POGONOWSKI MP F1Qj, Piła 27-29.06.2025 | C42: MP | D42: 2 | E42: =IF(C42="MP",IF(D42=1,300,IF(D42=2,230,IF(D42=3,200,IF(D42=4,170,IF(D42=5,135,IF(D42=6,100))))))) -> 230
A43: 29 | B43: Zuzannna ZAJDEL MP F1Qj, Piła 27-29.06.2025 | C43: MP | D43: 4 | E43: =IF(C43="MP",IF(D43=1,300,IF(D43=2,230,IF(D43=3,200,IF(D43=4,170,IF(D43=5,135,IF(D43=6,100))))))) -> 170
A44: 30 | B44: Wojciech BARTEL MP F1Qj, Piła 27-29.06.2025 | C44: MP | D44: 5 | E44: =IF(C44="MP",IF(D44=1,300,IF(D44=2,230,IF(D44=3,200,IF(D44=4,170,IF(D44=5,135,IF(D44=6,100))))))) -> 135
A45: 31 | B45: Magdalena BARAN MP F1Qj, Piła 27-29.06.2025 | C45: MP | D45: 6 | E45: =IF(C45="MP",IF(D45=1,300,IF(D45=2,230,IF(D45=3,200,IF(D45=4,170,IF(D45=5,135,IF(D45=6,100))))))) -> 100
A46: 32 | B46: Jacek ŻUROWSKI MP F1E, Toszek 25.10.2025 | C46: MP | D46: 1 | E46: =IF(C46="MP",IF(D46=1,300,IF(D46=2,230,IF(D46=3,200,IF(D46=4,170,IF(D46=5,135,IF(D46=6,100))))))) -> 300
A47: 33 | B47: Józef MONKKIEWICZ MP F1E, Toszek 25.10.2025 | C47: MP | D47: 2 | E47: =IF(C47="MP",IF(D47=1,300,IF(D47=2,230,IF(D47=3,200,IF(D47=4,170,IF(D47=5,135,IF(D47=6,100))))))) -> 230
... A62: 48 | B62: Magdalena BARAN | MP F1E Junior Mł. | Toszek 26.10.2025 | C62: MP | D62: 6 | E62: =IF(C62="MP",IF(D62=1,300,IF(D62=2,230,IF(D62=3,200,IF(D62=4,170,IF(D62=5,135,IF(D62=6,100))))))) -> 100
A63: 49 | C63: MP | E63: =IF(C63="MP",IF(D63=1,300,IF(D63=2,230,IF(D63=3,200,IF(D63=4,170,IF(D63=5,135,IF(D63=6,100))))))) -> FALSE
A64: 50 | C64: MP | E64: =IF(C64="MP",IF(D64=1,300,IF(D64=2,230,IF(D64=3,200,IF(D64=4,170,IF(D64=5,135,IF(D64=6,100))))))) -> FALSE
A65: 51 | C65: MP | E65: =IF(C65="MP",IF(D65=1,300,IF(D65=2,230,IF(D65=3,200,IF(D65=4,170,IF(D65=5,135,IF(D65=6,100))))))) -> FALSE
A66: 52 | B66: Adam KRAWIEC PP F1B | C66: PP | D66: 2 | E66: =IF(C66="PP",IF(D66=1,300,IF(D66=2,230,IF(D66=3,200,IF(D66=4,170,IF(D66=5,135,IF(D66=6,100))))))) -> 230
A67: 53 | B67: Dominik Pełka PP F1C | C67: PP | D67: 4 | E67: =IF(C67="PP",IF(D67=1,300,IF(D67=2,230,IF(D67=3,200,IF(D67=4,170,IF(D67=5,135,IF(D67=6,100))))))) -> 170
A68: 54 | B68: Franciszek JĘDRYSIAK PP F1Q | C68: PP | D68: 3 | E68: =IF(C68="PP",IF(D68=1,300,IF(D68=2,230,IF(D68=3,200,IF(D68=4,170,IF(D68=5,135,IF(D68=6,100))))))) -> 200
A69: 55 | B69: Wojciech BARTEL PP F1Q | C69: PP | D69: 4 | E69: =IF(C69="PP",IF(D69=1,300,IF(D69=2,230,IF(D69=3,200,IF(D69=4,170,IF(D69=5,135,IF(D69=6,100))))))) -> 170
A70: 56 | B70: Stanisław BOLKO PP F1Q | C70: PP | D70: 5 | E70: =IF(C70="PP",IF(D70=1,300,IF(D70=2,230,IF(D70=3,200,IF(D70=4,170,IF(D70=5,135,IF(D70=6,100))))))) -> 135
A71: 57 | B71: Jacek POGONOWSKI PP F1Q | C71: PP | D71: 6 | E71: =IF(C71="PP",IF(D71=1,300,IF(D71=2,230,IF(D71=3,200,IF(D71=4,170,IF(D71=5,135,IF(D71=6,100))))))) -> 100
A72: 58 | B72: Wojciech BARTEL PP F1Q Junior | C72: PP | D72: 1 | E72: =IF(C72="PP",IF(D72=1,300,IF(D72=2,230,IF(D72=3,200,IF(D72=4,170,IF(D72=5,135,IF(D72=6,100))))))) -> 300
A73: 59 | B73: Franciszek JĘDRYSIAK PP F1Q Junior | C73: PP | D73: 2 | E73: =IF(C73="PP",IF(D73=1,300,IF(D73=2,230,IF(D73=3,200,IF(D73=4,170,IF(D73=5,135,IF(D73=6,100))))))) -> 230
A74: 60 | B74: Magdalena BARAN PP F1Q Junior | C74: PP | D74: 4 | E74: =IF(C74="PP",IF(D74=1,300,IF(D74=2,230,IF(D74=3,200,IF(D74=4,170,IF(D74=5,135,IF(D74=6,100))))))) -> 170
A75: 61 | B75: Zuzanna ZAJDEL PP F1Q Junior | C75: PP | D75: 5 | E75: =IF(C75="PP",IF(D75=1,300,IF(D75=2,230,IF(D75=3,200,IF(D75=4,170,IF(D75=5,135,IF(D75=6,100))))))) -> 135
A76: 62 | B76: Kamil POGONOWSKI PP F1Q Junior | C76: PP | D76: 6 | E76: =IF(C76="PP",IF(D76=1,300,IF(D76=2,230,IF(D76=3,200,IF(D76=4,170,IF(D76=5,135,IF(D76=6,100))))))) -> 100
A77: 63 | B77: Marek KALINOWSKI | kk. PP F1N | C77: PP | E77: =IF(C77="PP",IF(D77=1,300,IF(D77=2,230,IF(D77=3,200,IF(D77=4,170,IF(D77=5,135,IF(D77=6,100))))))) -> FALSE
A78: 64 | B78: Wiktor LISZKA | kk. PP F1N | C78: PP | E78: =IF(C78="PP",IF(D78=1,300,IF(D78=2,230,IF(D78=3,200,IF(D78=4,170,IF(D78=5,135,IF(D78=6,100))))))) -> FALSE
A79: 65 | B79: Wiktor LISZKA PP F1N Junior | C79: PP | E79: =IF(C79="PP",IF(D79=1,300,IF(D79=2,230,IF(D79=3,200,IF(D79=4,170,IF(D79=5,135,IF(D79=6,100))))))) -> FALSE
A80: 66 | B80: Marcel HOŻEK PP F1N Junior | C80: PP | E80: =IF(C80="PP",IF(D80=1,300,IF(D80=2,230,IF(D80=3,200,IF(D80=4,170,IF(D80=5,135,IF(D80=6,100))))))) -> FALSE
A81: 67 | B81: Aneta RICHTER PP F1N Junior | C81: PP | E81: =IF(C81="PP",IF(D81=1,300,IF(D81=2,230,IF(D81=3,200,IF(D81=4,170,IF(D81=5,135,IF(D81=6,100))))))) -> FALSE
A82: 68 | B82: Jacek ŻUROWSKI PP F1E | C82: PP | D82: 1 | E82: =IF(C82="PP",IF(D82=1,300,IF(D82=2,230,IF(D82=3,200,IF(D82=4,170,IF(D82=5,135,IF(D82=6,100))))))) -> 300
A83: 69 | B83: Stella MAĆKOWSKA PP F1E | C83: PP | D83: 2 | E83: =IF(C83="PP",IF(D83=1,300,IF(D83=2,230,IF(D83=3,200,IF(D83=4,170,IF(D83=5,135,IF(D83=6,100))))))) -> 230
A84: 70 | B84: Czesław ZIOBER PP F1E | C84: PP | D84: 4 | E84: =IF(C84="PP",IF(D84=1,300,IF(D84=2,230,IF(D84=3,200,IF(D84=4,170,IF(D84=5,135,IF(D84=6,100))))))) -> 170
A85: 71 | B85: Konrad ŻUROWSKI PP F1E | C85: PP | D85: 3 | E85: =IF(C85="PP",IF(D85=1,300,IF(D85=2,230,IF(D85=3,200,IF(D85=4,170,IF(D85=5,135,IF(D85=6,100))))))) -> 200
A86: 72 | B86: Wiesław MOJ PP F1E | C86: PP | D86: 5 | E86: =IF(C86="PP",IF(D86=1,300,IF(D86=2,230,IF(D86=3,200,IF(D86=4,170,IF(D86=5,135,IF(D86=6,100))))))) -> 135
A87: 73 | B87: Adam NIEMCZYK PP F1E Junior | C87: PP | D87: 2 | E87: =IF(C87="PP",IF(D87=1,300,IF(D87=2,230,IF(D87=3,200,IF(D87=4,170,IF(D87=5,135,IF(D87=6,100))))))) -> 230
A88: 74 | B88: Sergiusz MAĆKOWSKI PP F1E Junior | C88: PP | D88: 3 | E88: =IF(C88="PP",IF(D88=1,300,IF(D88=2,230,IF(D88=3,200,IF(D88=4,170,IF(D88=5,135,IF(D88=6,100))))))) -> 200
A89: 75 | B89: Hanna ZAJDEL | kk. PP F1E - Junior Mł. | C89: PP | D89: 1 | E89: =IF(C89="PP",IF(D89=1,300,IF(D89=2,230,IF(D89=3,200,IF(D89=4,170,IF(D89=5,135,IF(D89=6,100))))))) -> 300
A90: 76 | B90: Magdalena BARAN | kk. PP F1E - Junior Mł. | C90: PP | D90: 2 | E90: =IF(C90="PP",IF(D90=1,300,IF(D90=2,230,IF(D90=3,200,IF(D90=4,170,IF(D90=5,135,IF(D90=6,100))))))) -> 230
A91: 77 | B91: Przemysław SIDOR | kk. PP F1E - Junior Mł. | C91: PP | D91: 4 | E91: =IF(C91="PP",IF(D91=1,300,IF(D91=2,230,IF(D91=3,200,IF(D91=4,170,IF(D91=5,135,IF(D91=6,100))))))) -> 170
A92: 78 | B92: Grzegorz PUKOWIEC | kk. PP F1D | C92: PP | D92: 4 | E92: =IF(C92="PP",IF(D92=1,300,IF(D92=2,230,IF(D92=3,200,IF(D92=4,170,IF(D92=5,135,IF(D92=6,100))))))) -> 170
A93: 79 | C93: PP | E93: =IF(C93="PP",IF(D93=1,300,IF(D93=2,230,IF(D93=3,200,IF(D93=4,170,IF(D93=5,135,IF(D93=6,100))))))) -> FALSE
A94: 80 | C94: RS | E94: =IF(C94="RS",IF(D94=1,1000)) -> FALSE
A95: 81 | C95: RS | E95: =IF(C95="RS",IF(D95=1,1000)) -> FALSE
A96: 82 | C96: RP | E96: =IF(C96="RP",IF(D96=1,200)) -> FALSE
A97: 83 | C97: RP | E97: =IF(C97="RP",IF(D97=1,200)) -> FALSE
A98: 4.1 - punkty razem: | E98: =SUM(E15:E97) -> 14288
A100: 4.2 - punkty za organizację zawodów
A101: Lp | B101: Nazwa skrócona zorganizowanych zawodów (konkurencja, miejsce, data) | C101: Wpisz 1 (w poz. 3-7, liczba może być większa) | D101: Ilość pkt za 1 zorganizowaną imprezę | E101: Pktunkty do współzawodnictwa
A102: 1 | B102: Mistrzostwa Świata FAI | D102: M | E102: =IF(D102="M",IF(C102=1,3000)) -> FALSE
A103: 2 | B103: Mistrzostwa Europy FAI | D103: M | E103: =IF(D103="M",IF(C103=1,2500)) -> FALSE
A104: 3 | B104: Zawody zaliczane do Pucharu Świata FAI lub otwarte zawody międzynarodowe | C104: 2 | D104: 1500 | E104: =PRODUCT(C104*D104) -> 3000
A105: 4 | B105: Mistrzostwa Polski | C105: 4 | D105: 1000 | E105: =PRODUCT(C105*D105) -> 4000
A106: 5 | B106: Ogólnopolskie Zawody zaliczane do Pucharu Polski | C106: 6 | D106: 500 | E106: =PRODUCT(C106*D106) -> 3000
A107: 6 | B107: Zgrupowanie / Konsultacje KN | C107: 1 | D107: 300 | E107: =PRODUCT(C107*D107) -> 300
A108: 7 | B108: Mistrzostwa Slonska w Ciepaniu Fligrem F1E – ujęte w Kalendarzu imprez KS dla Juniorów lub Seniorów w konkurencji mistrzowskiej z udziałem min. 10 zawodników | C108: 1 | D108: 200 | E108: =PRODUCT(C108*D108) -> 200
A109: 4.2 - punkty razem: | E109: =SUM(E102:E108) -> 10500
A111: Współzawodnictwo w konkurencjach niemistrzowskich SPORT POWSZECHNY i POPULARYZACJA
A113: 4.3 - punkty za efektywność szkolenia podstawowego
A114: Lp | B114: Organizacja przez KS zawodów modelarskich dla dzieci i młodzieży oraz udział zawodników KS w mistrzostwach Polski: | C114: Liczba sklasyfikowanych zawodników | D114: Ilość pkt za 1 sklas. zawodn. | E114: Pktunkty do współzawodnictwa
A115: 1 | B115: Zawody Młodzi Modelarze–Lotnicy na Start dla juniorów młodszych (organizacja) | C115: 57 | D115: 20 | E115: =PRODUCT(C115*D115) -> 1140
A116: 2 | B116: Zawody Latawcowe dla młodzików (organizacja) | D116: 20 | E116: =PRODUCT(C116*D116) -> 0
A117: 3 | B117: Zawody balonów na ogrzane powietrze dla młodzików (organizacja) | D117: 20 | E117: =PRODUCT(C117*D117) -> 0
A118: 4 | B118: Zawody modeli halowych dla młodzików F1N/M, A6/M, ROOKIE (organizacja) | C118: 58 | D118: 20 | E118: =PRODUCT(C118*D118) -> 1160
A119: 5 | B119: Finał Regionalny Konkursu Młodych Artystów FAI (organizacja) | C119: 10 | D119: 20 | E119: =PRODUCT(C119*D119) -> 200
A120: 6 | B120: Udział zawodników KS w: Latawcowych MP Młodzików (21 zaw.) i MP Juniorów Młodszych (12 zaw.) | C120: 33 | D120: 100 | E120: =PRODUCT(C120*D120) -> 3300
A121: 7 | B121: Udział zawodników KS w Finale Ogólnopolskim Konkursu Młodych Artystów FAI | C121: 6 | D121: 50 | E121: =PRODUCT(C121*D121) -> 300
A122: 4.3 - punkty razem: | E122: =SUM(E115:E121) -> 6100
A124: 4.4 - punkty za miejsca w zawodach i konkursach oraz rekordy zawodników
A125: Lp | B125: Imię i Nazwisko zawodnika (nazwa skrócona, miejsce i data imprezy) | C125: Rodzaj zawodów | D125: Miejsce (wpisz liczbę 1-6) | E125: Pktunkty do współzawodnictwa
A126: 1 | C126: PS | E126: =IF(C126="PS",IF(D126=1,800,IF(D126=2,630,IF(D126=3,530,IF(D126=4,450,IF(D126=5,360,IF(D126=6,270))))))) -> FALSE
A127: 2 | C127: PS | E127: =IF(C127="PS",IF(D127=1,800,IF(D127=2,630,IF(D127=3,530,IF(D127=4,450,IF(D127=5,360,IF(D127=6,270))))))) -> FALSE
...

Sheet WIE
C1: KM im. E.Kujana w Wierzawicach Lic. nr. 48/25
A8: Sprawozdanie z działalności klubu za rok 2025
A11: Współzawodnictwo w konkurencjach mistrzowskich - SPORT WYCZYNOWY
A13: 4.1 - punkty za miejsca w zawodach i rekordy zawodników
A14: Lp | B14: Imię i Nazwisko zawodnika (nazwa skrócona, miejsce i data imprezy) | C14: Rodzaj zawodów | D14: Miejsce (wpisz liczbę 1-6) | E14: Pktunkty do współzawodnictwa
A15: 1 | B15: Kacper Walania F2A, Senior, Klasyfikacja generalna Pucharu Świata | C15: M | D15: 5 | E15: =IF(C15="M",IF(D15=1,1500,IF(D15=2,1170,IF(D15=3,1000,IF(D15=4,830,IF(D15=5,670,IF(D15=6,500))))))) -> 670
A16: 2 | B16: Adam Taran F2B, Senior, Klasyfikacja generalna Pucharu Świata | C16: M | D16: 6 | E16: =IF(C16="M",IF(D16=1,1500,IF(D16=2,1170,IF(D16=3,1000,IF(D16=4,830,IF(D16=5,670,IF(D16=6,500))))))) -> 500
A17: 3 | B17: Kacper Walania F2A, Junior Klasyfikacja generalna Pucharu Świata | C17: M | D17: 1 | E17: =IF(C17="M",IF(D17=1,1500,IF(D17=2,1170,IF(D17=3,1000,IF(D17=4,830,IF(D17=5,670,IF(D17=6,500))))))) -> 1500
A18: 4 | B18: Kamil Kupras F2A, Junior Klasyfikacja generalna Pucharu Świata | C18: M | D18: 2 | E18: =IF(C18="M",IF(D18=1,1500,IF(D18=2,1170,IF(D18=3,1000,IF(D18=4,830,IF(D18=5,670,IF(D18=6,500))))))) -> 1170
A19: 5 | B19: Krystian Borzęcki F2B, Senior, Klasyfikacja generalna Pucharu Świata | C19: M | D19: 2 | E19: =IF(C19="M",IF(D19=1,1500,IF(D19=2,1170,IF(D19=3,1000,IF(D19=4,830,IF(D19=5,670,IF(D19=6,500))))))) -> 1170
A20: 6 | B20: Fedan Mariusz F2C, senior, Klasyfikacja generalna Pucharu Świata | C20: M | D20: 5 | E20: =IF(C20="M",IF(D20=1,1500,IF(D20=2,1170,IF(D20=3,1000,IF(D20=4,830,IF(D20=5,670,IF(D20=6,500))))))) -> 670
A21: 7 | B21: Jakub Głuszek F2C, senior, Klasyfikacja generalna Pucharu Świata | C21: M | D21: 2 | E21: =IF(C21="M",IF(D21=1,1500,IF(D21=2,1170,IF(D21=3,1000,IF(D21=4,830,IF(D21=5,670,IF(D21=6,500))))))) -> 1170
A22: 8 | C22: Md | E22: =IF(C22="Md",IF(D22=1,500,IF(D22=2,390,IF(D22=3,333,)))) -> 0
A23: 9 | C23: Md | E23: =IF(C23="Md",IF(D23=1,500,IF(D23=2,390,IF(D23=3,333,)))) -> 0
A24: 10 | C24: Md | E24: =IF(C24="Md",IF(D24=1,500,IF(D24=2,390,IF(D24=3,333,)))) -> 0
A25: 11 | C25: Md | E25: =IF(C25="Md",IF(D25=1,500,IF(D25=2,390,IF(D25=3,333,)))) -> 0
A26: 12 | C26: Md | E26: =IF(C26="Md",IF(D26=1,500,IF(D26=2,390,IF(D26=3,333,)))) -> 0
A27: 13 | B27: Sobala Tomasz F2A | C27: MP | D27: 1 | E27: =IF(C27="MP",IF(D27=1,300,IF(D27=2,230,IF(D27=3,200,IF(D27=4,170,IF(D27=5,135,IF(D27=6,100))))))) -> 300
A28: 14 | B28: Kamil Kupras F2A | C28: MP | D28: 2 | E28: =IF(C28="MP",IF(D28=1,300,IF(D28=2,230,IF(D28=3,200,IF(D28=4,170,IF(D28=5,135,IF(D28=6,100))))))) -> 230
A29: 15 | B29: Artur Miś F2A | C29: MP | D29: 3 | E29: =IF(C29="MP",IF(D29=1,300,IF(D29=2,230,IF(D29=3,200,IF(D29=4,170,IF(D29=5,135,IF(D29=6,100))))))) -> 200
A30: 16 | B30: Popowicz Grzegorz F2A | C30: MP | D30: 4 | E30: =IF(C30="MP",IF(D30=1,300,IF(D30=2,230,IF(D30=3,200,IF(D30=4,170,IF(D30=5,135,IF(D30=6,100))))))) -> 170
A31: 17 | B31: Kuras Sebastian F2A | C31: MP | D31: 5 | E31: =IF(C31="MP",IF(D31=1,300,IF(D31=2,230,IF(D31=3,200,IF(D31=4,170,IF(D31=5,135,IF(D31=6,100))))))) -> 135
A32: 18 | B32: Kacper Walania F2A | C32: MP | D32: 6 | E32: =IF(C32="MP",IF(D32=1,300,IF(D32=2,230,IF(D32=3,200,IF(D32=4,170,IF(D32=5,135,IF(D32=6,100))))))) -> 100
A33: 19 | B33: Kupras Kamil F2A/Rodeo | C33: MP | E33: =IF(C33="MP",IF(D33=1,300,IF(D33=2,230,IF(D33=3,200,IF(D33=4,170,IF(D33=5,135,IF(D33=6,100))))))) -> FALSE
A34: 20 | B34: Tomasz Sobala F2A/Rodeo | C34: MP | E34: =IF(C34="MP",IF(D34=1,300,IF(D34=2,230,IF(D34=3,200,IF(D34=4,170,IF(D34=5,135,IF(D34=6,100))))))) -> FALSE
A35: 21 | B35: Kacper Walania F2A/Rodeo | C35: MP | E35: =IF(C35="MP",IF(D35=1,300,IF(D35=2,230,IF(D35=3,200,IF(D35=4,170,IF(D35=5,135,IF(D35=6,100))))))) -> FALSE
A36: 22 | B36: Popowicz Grzegorz F2A/Rodeo | C36: MP | E36: =IF(C36="MP",IF(D36=1,300,IF(D36=2,230,IF(D36=3,200,IF(D36=4,170,IF(D36=5,135,IF(D36=6,100))))))) -> FALSE
A37: 23 | B37: Fedan Mariusz F2A/Rodeo | C37: MP | E37: =IF(C37="MP",IF(D37=1,300,IF(D37=2,230,IF(D37=3,200,IF(D37=4,170,IF(D37=5,135,IF(D37=6,100))))))) -> FALSE
A38: 24 | B38: Krystian Borzęcki (MP F2B, Włocławek, 13-15.06.25) | C38: MP | D38: 1 | E38: =IF(C38="MP",IF(D38=1,300,IF(D38=2,230,IF(D38=3,200,IF(D38=4,170,IF(D38=5,135,IF(D38=6,100))))))) -> 300
A39: 25 | B39: Marek Rakowski F2B | C39: MP | D39: 2 | E39: =IF(C39="MP",IF(D39=1,300,IF(D39=2,230,IF(D39=3,200,IF(D39=4,170,IF(D39=5,135,IF(D39=6,100))))))) -> 230
A40: 26 | B40: Sebastian Kuras (MP F2B Junior, Włocławek, 13-15.06.25) | C40: MP | D40: 1 | E40: =IF(C40="MP",IF(D40=1,300,IF(D40=2,230,IF(D40=3,200,IF(D40=4,170,IF(D40=5,135,IF(D40=6,100))))))) -> 300
A41: 27 | B41: Maciej Lipka F2B Junior | C41: MP | D41: 5 | E41: =IF(C41="MP",IF(D41=1,300,IF(D41=2,230,IF(D41=3,200,IF(D41=4,170,IF(D41=5,135,IF(D41=6,100))))))) -> 135
A42: 28 | B42: Milena Leszczak F2B Junior | C42: MP | D42: 2 | E42: =IF(C42="MP",IF(D42=1,300,IF(D42=2,230,IF(D42=3,200,IF(D42=4,170,IF(D42=5,135,IF(D42=6,100))))))) -> 230
A43: 29 | B43: Michał Popowicz F2B Junior | C43: MP | D43: 6 | E43: =IF(C43="MP",IF(D43=1,300,IF(D43=2,230,IF(D43=3,200,IF(D43=4,170,IF(D43=5,135,IF(D43=6,100))))))) -> 100
A44: 30 | B44: Fedan Mariusz F2C | C44: MP | D44: 4 | E44: =IF(C44="MP",IF(D44=1,300,IF(D44=2,230,IF(D44=3,200,IF(D44=4,170,IF(D44=5,135,IF(D44=6,100))))))) -> 170
A45: 31 | B45: Artur Tomczyk F2C | C45: MP | D45: 6 | E45: =IF(C45="MP",IF(D45=1,300,IF(D45=2,230,IF(D45=3,200,IF(D45=4,170,IF(D45=5,135,IF(D45=6,100))))))) -> 100
A46: 32 | B46: Szymon Beczała F2C | C46: MP | D46: 6 | E46: =IF(C46="MP",IF(D46=1,300,IF(D46=2,230,IF(D46=3,200,IF(D46=4,170,IF(D46=5,135,IF(D46=6,100))))))) -> 100
A47: 33 | B47: Jakub Głuszek F2C | C47: MP | D47: 2 | E47: =IF(C47="MP",IF(D47=1,300,IF(D47=2,230,IF(D47=3,200,IF(D47=4,170,IF(D47=5,135,IF(D47=6,100))))))) -> 230
A48: 34 | B48: Adam Taran F2B, Senior, Mistrzostwa Polski | C48: MP | D48: 6 | E48: =IF(C48="MP",IF(D48=1,300,IF(D48=2,230,IF(D48=3,200,IF(D48=4,170,IF(D48=5,135,IF(D48=6,100))))))) -> 100
A49: 35 | B49: Joanna Rakowska, F2B, Mistrzostwa Polski, Kobiety | C49: MP | D49: 1 | E49: =IF(C49="MP",IF(D49=1,300,IF(D49=2,230,IF(D49=3,200,IF(D49=4,170,IF(D49=5,135,IF(D49=6,100))))))) -> 300
A50: 36 | B50: Milena Leszczak F2B, Mistrzostwa Polski, Kobiety | C50: MP | D50: 2 | E50: =IF(C50="MP",IF(D50=1,300,IF(D50=2,230,IF(D50=3,200,IF(D50=4,170,IF(D50=5,135,IF(D50=6,100))))))) -> 230
A51: 37 | C51: MP | E51: =IF(C51="MP",IF(D51=1,300,IF(D51=2,230,IF(D51=3,200,IF(D51=4,170,IF(D51=5,135,IF(D51=6,100))))))) -> FALSE
A52: 38 | B52: Marek Rakowski Klasyfikacja generalna PP F2B | C52: PP | D52: 2 | E52: =IF(C52="PP",IF(D52=1,300,IF(D52=2,230,IF(D52=3,200,IF(D52=4,170,IF(D52=5,135,IF(D52=6,100))))))) -> 230
A53: 39 | B53: Taran Adam Klasyfikacja generalna PP F2B | C53: PP | D53: 3 | E53: =IF(C53="PP",IF(D53=1,300,IF(D53=2,230,IF(D53=3,200,IF(D53=4,170,IF(D53=5,135,IF(D53=6,100))))))) -> 200
A54: 40 | B54: Krystian Borzęcki Klasyfikacja generalna kobiety PP F2B | C54: PP | D54: 1 | E54: =IF(C54="PP",IF(D54=1,300,IF(D54=2,230,IF(D54=3,200,IF(D54=4,170,IF(D54=5,135,IF(D54=6,100))))))) -> 300
A55: 41 | B55: Joanna Rakowska Klasyfikacja generalna kobiety PP F2B | C55: PP | E55: =IF(C55="PP",IF(D55=1,300,IF(D55=2,230,IF(D55=3,200,IF(D55=4,170,IF(D55=5,135,IF(D55=6,100))))))) -> FALSE
A56: 42 | B56: Milena Leszczak Klasyfikacja generalna kobiety PP F2B | C56: PP | E56: =IF(C56="PP",IF(D56=1,300,IF(D56=2,230,IF(D56=3,200,IF(D56=4,170,IF(D56=5,135,IF(D56=6,100))))))) -> FALSE
A57: 43 | B57: Sebastian Kuras Klasyfikacja generalna PP F2B Junior | C57: PP | D57: 1 | E57: =IF(C57="PP",IF(D57=1,300,IF(D57=2,230,IF(D57=3,200,IF(D57=4,170,IF(D57=5,135,IF(D57=6,100))))))) -> 300
A58: 44 | B58: Milena Leszczak Klasyfikacja generalna PP F2B Junior | C58: PP | D58: 3 | E58: =IF(C58="PP",IF(D58=1,300,IF(D58=2,230,IF(D58=3,200,IF(D58=4,170,IF(D58=5,135,IF(D58=6,100))))))) -> 200
A59: 45 | C59: PP | E59: =IF(C59="PP",IF(D59=1,300,IF(D59=2,230,IF(D59=3,200,IF(D59=4,170,IF(D59=5,135,IF(D59=6,100))))))) -> FALSE
A60: 46 | C60: PP | E60: =IF(C60="PP",IF(D60=1,300,IF(D60=2,230,IF(D60=3,200,IF(D60=4,170,IF(D60=5,135,IF(D60=6,100))))))) -> FALSE
A61: 47 | C61: PP | E61: =IF(C61="PP",IF(D61=1,300,IF(D61=2,230,IF(D61=3,200,IF(D61=4,170,IF(D61=5,135,IF(D61=6,100))))))) -> FALSE
A62: 48 | B62: Artur Miś F2A/Rodeo, Mistrzostwa Polski | C62: PP | E62: =IF(C62="PP",IF(D62=1,300,IF(D62=2,230,IF(D62=3,200,IF(D62=4,170,IF(D62=5,135,IF(D62=6,100))))))) -> FALSE
A63: 49 | C63: PP | E63: =IF(C63="PP",IF(D63=1,300,IF(D63=2,230,IF(D63=3,200,IF(D63=4,170,IF(D63=5,135,IF(D63=6,100))))))) -> FALSE
A64: 50 | C64: PP | E64: =IF(C64="PP",IF(D64=1,300,IF(D64=2,230,IF(D64=3,200,IF(D64=4,170,IF(D64=5,135,IF(D64=6,100))))))) -> FALSE
A65: 51 | C65: PP | E65: =IF(C65="PP",IF(D65=1,300,IF(D65=2,230,IF(D65=3,200,IF(D65=4,170,IF(D65=5,135,IF(D65=6,100))))))) -> FALSE
A66: 52 | C66: PP | E66: =IF(C66="PP",IF(D66=1,300,IF(D66=2,230,IF(D66=3,200,IF(D66=4,170,IF(D66=5,135,IF(D66=6,100))))))) -> FALSE
A67: 53 | B67: Mariusz Fedan F2C | C67: RS | D67: 1 | E67: =IF(C67="RS",IF(D67=1,1000)) -> 1000
A68: 54 | C68: RS | E68: =IF(C68="RS",IF(D68=1,1000)) -> FALSE
A69: 55 | B69: Artur Miś F2A | C69: RP | D69: 1 | E69: =IF(C69="RP",IF(D69=1,200)) -> 200
A70: 56 | C70: RP | E70: =IF(C70="RP",IF(D70=1,200)) -> FALSE
A71: 4.1 - punkty razem: | E71: =SUM(E15:E70) -> 12940
A73: 4.2 - punkty za organizację zawodów
A74: Lp | B74: Nazwa skrócona zorganizowanych zawodów (konkurencja, miejsce, data) | C74: Wpisz 1 (w poz. 3-7, liczba może być większa) | D74: Ilość pkt za 1 zorganizowaną imprezę | E74: Pktunkty do współzawodnictwa
A75: 1 | B75: Mistrzostwa Świata FAI | D75: M | E75: =IF(D75="M",IF(C75=1,3000)) -> FALSE
A76: 2 | B76: Mistrzostwa Europy FAI | D76: M | E76: =IF(D76="M",IF(C76=1,2500)) -> FALSE
A77: 3 | B77: Zawody zaliczane do Pucharu Świata FAI lub otwarte zawody międzynarodowe | C77: 1 | D77: 1500 | E77: =PRODUCT(C77*D77) -> 1500
A78: 4 | B78: Mistrzostwa Polski | D78: 1000 | E78: =PRODUCT(C78*D78) -> 0
A79: 5 | B79: Ogólnopolskie Zawody zaliczane do Pucharu Polski (im. A. Rachwała Wierzawice 10-11.05.2025, im J. Jóźwiaka 20-21.09.2025) | C79: 2 | D79: 500 | E79: =PRODUCT(C79*D79) -> 1000
A80: 6 | B80: Zgrupowanie / Konsultacje KN | D80: 300 | E80: =PRODUCT(C80*D80) -> 0
A81: 7 | B81: Zawody klubowe, międzyklubowe, regionalne, itp. – ujęte w Kalendarzu imprez KS dla Juniorów lub Seniorów w konkurencji mistrzowskiej z udziałem min. 10 zawodników | D81: 200 | E81: =PRODUCT(C81*D81) -> 0
A82: 4.2 - punkty razem: | E82: =SUM(E75:E81) -> 2500
A84: Współzawodnictwo w konkurencjach niemistrzowskich SPORT POWSZECHNY i POPULARYZACJA
A86: 4.3 - punkty za efektywność szkolenia podstawowego
A87: Lp | B87: Organizacja przez KS zawodów modelarskich dla dzieci i młodzieży oraz udział zawodników KS w mistrzostwach Polski: | C87: Liczba sklasyfikowanych zawodników | D87: Ilość pkt za 1 sklas. zawodn. | E87: Pktunkty do współzawodnictwa
A88: 1 | B88: Zawody Młodzi Modelarze–Lotnicy na Start dla juniorów młodszych (organizacja) | D88: 20 | E88: =PRODUCT(C88*D88) -> 0
A89: 2 | B89: Zawody Latawcowe dla młodzików (organizacja) | D89: 20 | E89: =PRODUCT(C89*D89) -> 0
A90: 3 | B90: Zawody balonów na ogrzane powietrze dla młodzików (organizacja) | D90: 20 | E90: =PRODUCT(C90*D90) -> 0
A91: 4 | B91: Zawody modeli halowych dla młodzików F1N/M, A6/M, ROOKIE (organizacja) | D91: 20 | E91: =PRODUCT(C91*D91) -> 0
A92: 5 | B92: Finał Regionalny Konkursu Młodych Artystów FAI (organizacja) | D92: 20 | E92: =PRODUCT(C92*D92) -> 0
A93: 6 | B93: Udział zawodników KS w Mistrzostwach Polski Młodzików lub Juniorów Młodszych | C93: 7 | D93: 100 | E93: =PRODUCT(C93*D93) -> 700
A94: 7 | B94: Udział zawodników KS w Finale Ogólnopolskim Konkursu Młodych Artystów FAI | D94: 50 | E94: =PRODUCT(C94*D94) -> 0
A95: 4.3 - punkty razem: | E95: =SUM(E88:E94) -> 700
A97: 4.4 - punkty za miejsca w zawodach i konkursach oraz rekordy zawodników
A98: Lp | B98: Imię i Nazwisko zawodnika (nazwa skrócona, miejsce i data imprezy) | C98: Rodzaj zawodów | D98: Miejsce (wpisz liczbę 1-6) | E98: Pktunkty do współzawodnictwa
A99: 1 | C99: PS | E99: =IF(C99="PS",IF(D99=1,800,IF(D99=2,630,IF(D99=3,530,IF(D99=4,450,IF(D99=5,360,IF(D99=6,270))))))) -> FALSE
A100: 2 | C100: PS | E100: =IF(C100="PS",IF(D100=1,800,IF(D100=2,630,IF(D100=3,530,IF(D100=4,450,IF(D100=5,360,IF(D100=6,270))))))) -> FALSE
A101: 3 | B101: Milena Leszczak MPJM F2B/M Gliwice 24.06.2025 | C101: MP | D101: 1 | E101: =IF(C101="MP",IF(D101=1,200,IF(D101=2,160,IF(D101=3,130,IF(D101=4,110,IF(D101=5,90,IF(D101=6,70))))))) -> 200
A102: 4 | B102: Filip Lipka MPJM F2B/M Gliwice 24.06.2025 | C102: MP | D102: 3 | E102: =IF(C102="MP",IF(D102=1,200,IF(D102=2,160,IF(D102=3,130,IF(D102=4,110,IF(D102=5,90,IF(D102=6,70))))))) -> 130
A103: 5 | B103: Małgorzata Pyka MPJM F2B/M Gliwice 24.06.2024 | C103: MP | D103: 5 | E103: =IF(C103="MP",IF(D103=1,200,IF(D103=2,160,IF(D103=3,130,IF(D103=4,110,IF(D103=5,90,IF(D103=6,70))))))) -> 90
A104: 6 | B104: Tomasz Lipka MPJM F2B/M Gliwice 24.06.2024 | C104: MP | D104: 6 | E104: =IF(C104="MP",IF(D104=1,200,IF(D104=2,160,IF(D104=3,130,IF(D104=4,110,IF(D104=5,90,IF(D104=6,70))))))) -> 70
A105: 7 | C105: MP | E105: =IF(C105="MP",IF(D105=1,200,IF(D105=2,160,IF(D105=3,130,IF(D105=4,110,IF(D105=5,90,IF(D105=6,70))))))) -> FALSE
A106: 8 | B106: Milena Leszczak MPJM F2A/M Gliwice 24.06.2024 | C106: MP | D106: 1 | E106: =IF(C106="MP",IF(D106=1,200,IF(D106=2,160,IF(D106=3,130,IF(D106=4,110,IF(D106=5,90,IF(D106=6,70))))))) -> 200
A107: 9 | B107: Filip Lipka MPJM F2A/M Gliwice 24.06.2024 | C107: MP | D107: 3 | E107: =IF(C107="MP",IF(D107=1,200,IF(D107=2,160,IF(D107=3,130,IF(D107=4,110,IF(D107=5,90,IF(D107=6,70))))))) -> 130
A108: 10 | B108: Michał Popowicz MPJM F2A/M Gliwice 24.06.2024 | C108: MP | D108: 4 | E108: =IF(C108="MP",IF(D108=1,200,IF(D108=2,160,IF(D108=3,130,IF(D108=4,110,IF(D108=5,90,IF(D108=6,70))))))) -> 110
A109: 11 | B109: Małgorzata Pyka MPJM F2A/M Gliwice 24.06.2024 | C109: MP | D109: 5 | E109: =IF(C109="MP",IF(D109=1,200,IF(D109=2,160,IF(D109=3,130,IF(D109=4,110,IF(D109=5,90,IF(D109=6,70))))))) -> 90
A110: 12 | C110: MP | E110: =IF(C110="MP",IF(D110=1,200,IF(D110=2,160,IF(D110=3,130,IF(D110=4,110,IF(D110=5,90,IF(D110=6,70))))))) -> FALSE
A111: 13 | B111: Milena Leszczak MPJM F2A/M Gliwice 24.06.2024 - Kobiety | C111: MP | D111: 1 | E111: =IF(C111="MP",IF(D111=1,200,IF(D111=2,160,IF(D111=3,130,IF(D111=4,110,IF(D111=5,90,IF(D111=6,70))))))) -> 200
A112: 14 | B112: Małgorzata Pyka MPJM F2A/M Gliwice 24.06.2024 - Kobiety | C112: MP | D112: 3 | E112: =IF(C112="MP",IF(D112=1,200,IF(D112=2,160,IF(D112=3,130,IF(D112=4,110,IF(D112=5,90,IF(D112=6,70))))))) -> 130
A113: 15 | C113: MP | E113: =IF(C113="MP",IF(D113=1,200,IF(D113=2,160,IF(D113=3,130,IF(D113=4,110,IF(D113=5,90,IF(D113=6,70))))))) -> FALSE
...

Sheet AW
C1: Aeroklub Warszawski nr Licencji KS 61/25
A8: Sprawozdanie z działalności klubu za rok 2025
A11: Współzawodnictwo w konkurencjach mistrzowskich - SPORT WYCZYNOWY
A13: 4.1 - punkty za miejsca w zawodach i rekordy zawodników
A14: Lp | B14: Imię i Nazwisko zawodnika (nazwa skrócona, miejsce i data imprezy) | C14: Rodzaj zawodów | D14: Miejsce (wpisz liczbę 1-6) | E14: Pktunkty do współzawodnictwa
A15: 1 | C15: M | E15: =IF(C15="M",IF(D15=1,1500,IF(D15=2,1170,IF(D15=3,1000,IF(D15=4,830,IF(D15=5,670,IF(D15=6,500))))))) -> FALSE
A16: 2 | C16: M | E16: =IF(C16="M",IF(D16=1,1500,IF(D16=2,1170,IF(D16=3,1000,IF(D16=4,830,IF(D16=5,670,IF(D16=6,500))))))) -> FALSE
A17: 3 | C17: M | E17: =IF(C17="M",IF(D17=1,1500,IF(D17=2,1170,IF(D17=3,1000,IF(D17=4,830,IF(D17=5,670,IF(D17=6,500))))))) -> FALSE
A18: 4 | C18: M | E18: =IF(C18="M",IF(D18=1,1500,IF(D18=2,1170,IF(D18=3,1000,IF(D18=4,830,IF(D18=5,670,IF(D18=6,500))))))) -> FALSE
A19: 5 | C19: Md | E19: =IF(C19="Md",IF(D19=1,500,IF(D19=2,390,IF(D19=3,333,)))) -> 0
A20: 6 | C20: Md | E20: =IF(C20="Md",IF(D20=1,500,IF(D20=2,390,IF(D20=3,333,)))) -> 0
A21: 7 | C21: Md | E21: =IF(C21="Md",IF(D21=1,500,IF(D21=2,390,IF(D21=3,333,)))) -> 0
A22: 8 | C22: Md | E22: =IF(C22="Md",IF(D22=1,500,IF(D22=2,390,IF(D22=3,333,)))) -> 0
A23: 9 | C23: Md | E23: =IF(C23="Md",IF(D23=1,500,IF(D23=2,390,IF(D23=3,333,)))) -> 0
A24: 10 | B24: Piotr Stasiulewicz (Mistrzostwa Polski F3K, Tuszów Narodowy, 13-14.09.2025) | C24: MP | D24: 6 | E24: =IF(C24="MP",IF(D24=1,300,IF(D24=2,230,IF(D24=3,200,IF(D24=4,170,IF(D24=5,135,IF(D24=6,100))))))) -> 100
A25: 11 | B25: Paweł Makać (Mistrzostwa Polski F4H, Michałów, 19-21.09.2025) | C25: MP | D25: 2 | E25: =IF(C25="MP",IF(D25=1,300,IF(D25=2,230,IF(D25=3,200,IF(D25=4,170,IF(D25=5,135,IF(D25=6,100))))))) -> 230
A26: 12 | B26: Marcin Lisiecki (Mistrzostwa Polski F4C, Michałów, 19-21.09.2025) | C26: MP | D26: 6 | E26: =IF(C26="MP",IF(D26=1,300,IF(D26=2,230,IF(D26=3,200,IF(D26=4,170,IF(D26=5,135,IF(D26=6,100))))))) -> 100
A27: 13 | B27: Marek Roman (Mistrzostwa Polski F1C,Pilszcz, 30.08.2025) | C27: MP | D27: 4 | E27: =IF(C27="MP",IF(D27=1,300,IF(D27=2,230,IF(D27=3,200,IF(D27=4,170,IF(D27=5,135,IF(D27=6,100))))))) -> 170
A28: 14 | C28: MP | E28: =IF(C28="MP",IF(D28=1,300,IF(D28=2,230,IF(D28=3,200,IF(D28=4,170,IF(D28=5,135,IF(D28=6,100))))))) -> FALSE
A29: 15 | C29: MP | E29: =IF(C29="MP",IF(D29=1,300,IF(D29=2,230,IF(D29=3,200,IF(D29=4,170,IF(D29=5,135,IF(D29=6,100))))))) -> FALSE
A30: 16 | C30: MP | E30: =IF(C30="MP",IF(D30=1,300,IF(D30=2,230,IF(D30=3,200,IF(D30=4,170,IF(D30=5,135,IF(D30=6,100))))))) -> FALSE
A31: 17 | C31: MP | E31: =IF(C31="MP",IF(D31=1,300,IF(D31=2,230,IF(D31=3,200,IF(D31=4,170,IF(D31=5,135,IF(D31=6,100))))))) -> FALSE
A32: 18 | C32: MP | E32: =IF(C32="MP",IF(D32=1,300,IF(D32=2,230,IF(D32=3,200,IF(D32=4,170,IF(D32=5,135,IF(D32=6,100))))))) -> FALSE
A33: 19 | C33: MP | E33: =IF(C33="MP",IF(D33=1,300,IF(D33=2,230,IF(D33=3,200,IF(D33=4,170,IF(D33=5,135,IF(D33=6,100))))))) -> FALSE
A34: 20 | C34: MP | E34: =IF(C34="MP",IF(D34=1,300,IF(D34=2,230,IF(D34=3,200,IF(D34=4,170,IF(D34=5,135,IF(D34=6,100))))))) -> FALSE
A35: 21 | C35: MP | E35: =IF(C35="MP",IF(D35=1,300,IF(D35=2,230,IF(D35=3,200,IF(D35=4,170,IF(D35=5,135,IF(D35=6,100))))))) -> FALSE
A36: 22 | C36: MP | E36: =IF(C36="MP",IF(D36=1,300,IF(D36=2,230,IF(D36=3,200,IF(D36=4,170,IF(D36=5,135,IF(D36=6,100))))))) -> FALSE
A37: 23 | C37: MP | E37: =IF(C37="MP",IF(D37=1,300,IF(D37=2,230,IF(D37=3,200,IF(D37=4,170,IF(D37=5,135,IF(D37=6,100))))))) -> FALSE
A38: 24 | C38: MP | E38: =IF(C38="MP",IF(D38=1,300,IF(D38=2,230,IF(D38=3,200,IF(D38=4,170,IF(D38=5,135,IF(D38=6,100))))))) -> FALSE
A39: 25 | C39: MP | E39: =IF(C39="MP",IF(D39=1,300,IF(D39=2,230,IF(D39=3,200,IF(D39=4,170,IF(D39=5,135,IF(D39=6,100))))))) -> FALSE
... A43: 29 | C43: MP | E43: =IF(C43="MP",IF(D43=1,300,IF(D43=2,230,IF(D43=3,200,IF(D43=4,170,IF(D43=5,135,IF(D43=6,100))))))) -> FALSE
A44: 30 | B44: Piotr Stasiulewicz (Puchar Polski F3K, 2025) | C44: PP | D44: 6 | E44: =IF(C44="PP",IF(D44=1,300,IF(D44=2,230,IF(D44=3,200,IF(D44=4,170,IF(D44=5,135,IF(D44=6,100))))))) -> 100
A45: 31 | B45: Marcin Lisiecki (Puchar Polski F4C, 2025) | C45: PP | D45: 4 | E45: =IF(C45="PP",IF(D45=1,300,IF(D45=2,230,IF(D45=3,200,IF(D45=4,170,IF(D45=5,135,IF(D45=6,100))))))) -> 170
A46: 32 | B46: Paweł Makać (Puchar Polski F4H, 2025) | C46: PP | D46: 1 | E46: =IF(C46="PP",IF(D46=1,300,IF(D46=2,230,IF(D46=3,200,IF(D46=4,170,IF(D46=5,135,IF(D46=6,100))))))) -> 300
A47: 33 | B47: Marek Roman (Puchar Polski F1C, 2025) | C47: PP | D47: 5 | E47: =IF(C47="PP",IF(D47=1,300,IF(D47=2,230,IF(D47=3,200,IF(D47=4,170,IF(D47=5,135,IF(D47=6,100))))))) -> 135
A48: 34 | C48: PP | E48: =IF(C48="PP",IF(D48=1,300,IF(D48=2,230,IF(D48=3,200,IF(D48=4,170,IF(D48=5,135,IF(D48=6,100))))))) -> FALSE
A49: 35 | C49: PP | E49: =IF(C49="PP",IF(D49=1,300,IF(D49=2,230,IF(D49=3,200,IF(D49=4,170,IF(D49=5,135,IF(D49=6,100))))))) -> FALSE
A50: 36 | C50: PP | E50: =IF(C50="PP",IF(D50=1,300,IF(D50=2,230,IF(D50=3,200,IF(D50=4,170,IF(D50=5,135,IF(D50=6,100))))))) -> FALSE
A51: 37 | C51: PP | E51: =IF(C51="PP",IF(D51=1,300,IF(D51=2,230,IF(D51=3,200,IF(D51=4,170,IF(D51=5,135,IF(D51=6,100))))))) -> FALSE
A52: 38 | C52: PP | E52: =IF(C52="PP",IF(D52=1,300,IF(D52=2,230,IF(D52=3,200,IF(D52=4,170,IF(D52=5,135,IF(D52=6,100))))))) -> FALSE
A53: 39 | C53: PP | E53: =IF(C53="PP",IF(D53=1,300,IF(D53=2,230,IF(D53=3,200,IF(D53=4,170,IF(D53=5,135,IF(D53=6,100))))))) -> FALSE
A54: 40 | C54: PP | E54: =IF(C54="PP",IF(D54=1,300,IF(D54=2,230,IF(D54=3,200,IF(D54=4,170,IF(D54=5,135,IF(D54=6,100))))))) -> FALSE
A55: 41 | C55: PP | E55: =IF(C55="PP",IF(D55=1,300,IF(D55=2,230,IF(D55=3,200,IF(D55=4,170,IF(D55=5,135,IF(D55=6,100))))))) -> FALSE
A56: 42 | C56: PP | E56: =IF(C56="PP",IF(D56=1,300,IF(D56=2,230,IF(D56=3,200,IF(D56=4,170,IF(D56=5,135,IF(D56=6,100))))))) -> FALSE
A57: 43 | C57: PP | E57: =IF(C57="PP",IF(D57=1,300,IF(D57=2,230,IF(D57=3,200,IF(D57=4,170,IF(D57=5,135,IF(D57=6,100))))))) -> FALSE
A58: 44 | C58: PP | E58: =IF(C58="PP",IF(D58=1,300,IF(D58=2,230,IF(D58=3,200,IF(D58=4,170,IF(D58=5,135,IF(D58=6,100))))))) -> FALSE
A59: 45 | C59: RS | E59: =IF(C59="RS",IF(D59=1,1000)) -> FALSE
A60: 46 | C60: RS | E60: =IF(C60="RS",IF(D60=1,1000)) -> FALSE
A61: 47 | C61: RP | E61: =IF(C61="RP",IF(D61=1,200)) -> FALSE
A62: 48 | C62: RP | E62: =IF(C62="RP",IF(D62=1,200)) -> FALSE
A63: 4.1 - punkty razem: | E63: =SUM(E15:E62) -> 1305
A65: 4.2 - punkty za organizację zawodów
A66: Lp | B66: Nazwa skrócona zorganizowanych zawodów (konkurencja, miejsce, data) | C66: Wpisz 1 (w poz. 3-7, liczba może być większa) | D66: Ilość pkt za 1 zorganizowaną imprezę | E66: Pktunkty do współzawodnictwa
A67: 1 | B67: Mistrzostwa Świata FAI | D67: M | E67: =IF(D67="M",IF(C67=1,3000)) -> FALSE
A68: 2 | B68: Mistrzostwa Europy FAI | D68: M | E68: =IF(D68="M",IF(C68=1,2500)) -> FALSE
A69: 3 | B69: Zawody zaliczane do Pucharu Świata FAI lub otwarte zawody międzynarodowe | D69: 1500 | E69: =PRODUCT(C69*D69) -> 0
A70: 4 | B70: Mistrzostwa Polski | D70: 1000 | E70: =PRODUCT(C70*D70) -> 0
A71: 5 | B71: Ogólnopolskie Zawody zaliczane do Pucharu Polski (F4C i F4H, Chrcynno, 29.06.25) | C71: 1 | D71: 500 | E71: =PRODUCT(C71*D71) -> 500
A72: 6 | B72: Zgrupowanie / Konsultacje KN | D72: 300 | E72: =PRODUCT(C72*D72) -> 0
A73: 7 | B73: Zawody klubowe, międzyklubowe, regionalne, itp. – ujęte w Kalendarzu imprez KS dla Juniorów lub Seniorów w konkurencji mistrzowskiej z udziałem min. 10 zawodników | D73: 200 | E73: =PRODUCT(C73*D73) -> 0
A74: 4.2 - punkty razem: | E74: =SUM(E67:E73) -> 500
A76: Współzawodnictwo w konkurencjach niemistrzowskich SPORT POWSZECHNY i POPULARYZACJA
A78: 4.3 - punkty za efektywność szkolenia podstawowego
A79: Lp | B79: Organizacja przez KS zawodów modelarskich dla dzieci i młodzieży oraz udział zawodników KS w mistrzostwach Polski: | C79: Liczba sklasyfikowanych zawodników | D79: Ilość pkt za 1 sklas. zawodn. | E79: Pktunkty do współzawodnictwa
A80: 1 | B80: Zawody Młodzi Modelarze–Lotnicy na Start dla juniorów młodszych (organizacja) | D80: 20 | E80: =PRODUCT(C80*D80) -> 0
A81: 2 | B81: Zawody Latawcowe dla młodzików (organizacja) | D81: 20 | E81: =PRODUCT(C81*D81) -> 0
A82: 3 | B82: Zawody balonów na ogrzane powietrze dla młodzików (organizacja) | D82: 20 | E82: =PRODUCT(C82*D82) -> 0
A83: 4 | B83: Zawody modeli halowych dla młodzików F1N/M, A6/M, ROOKIE (organizacja) | C83: 59 | D83: 20 | E83: =PRODUCT(C83*D83) -> 1180
A84: 5 | B84: Finał Regionalny Konkursu Młodych Artystów FAI (organizacja) | D84: 20 | E84: =PRODUCT(C84*D84) -> 0
A85: 6 | B85: Udział zawodników KS w Mistrzostwach Polski Młodzików lub Juniorów Młodszych | C85: 9 | D85: 100 | E85: =PRODUCT(C85*D85) -> 900
A86: 7 | B86: Udział zawodników KS w Finale Ogólnopolskim Konkursu Młodych Artystów FAI | D86: 50 | E86: =PRODUCT(C86*D86) -> 0
A87: 4.3 - punkty razem: | E87: =SUM(E80:E86) -> 2080
A89: 4.4 - punkty za miejsca w zawodach i konkursach oraz rekordy zawodników
A90: Lp | B90: Imię i Nazwisko zawodnika (nazwa skrócona, miejsce i data imprezy) | C90: Rodzaj zawodów | D90: Miejsce (wpisz liczbę 1-6) | E90: Pktunkty do współzawodnictwa
A91: 1 | C91: PS | E91: =IF(C91="PS",IF(D91=1,800,IF(D91=2,630,IF(D91=3,530,IF(D91=4,450,IF(D91=5,360,IF(D91=6,270))))))) -> FALSE
A92: 2 | C92: PS | E92: =IF(C92="PS",IF(D92=1,800,IF(D92=2,630,IF(D92=3,530,IF(D92=4,450,IF(D92=5,360,IF(D92=6,270))))))) -> FALSE
A93: 3 | B93: Kacper Młynarz (Mistrzostwa Polski F1N/M - Młodzik, Suwałki, 07.12.2025) | C93: MP | D93: 2 | E93: =IF(C93="MP",IF(D93=1,200,IF(D93=2,160,IF(D93=3,130,IF(D93=4,110,IF(D93=5,90,IF(D93=6,70))))))) -> 160
A94: 4 | B94: Adam Prusiński (Mistrzostwa Polski F1N/M - Młodzik, Suwałki, 07.12.2025) | C94: MP | D94: 4 | E94: =IF(C94="MP",IF(D94=1,200,IF(D94=2,160,IF(D94=3,130,IF(D94=4,110,IF(D94=5,90,IF(D94=6,70))))))) -> 110
A95: 5 | B95: Krzysztof Maruszewski (Mistrzostwa Polski F1N/M - Junior młodszy, Suwałki, 07.12.2025) | C95: MP | D95: 1 | E95: =IF(C95="MP",IF(D95=1,200,IF(D95=2,160,IF(D95=3,130,IF(D95=4,110,IF(D95=5,90,IF(D95=6,70))))))) -> 200
A96: 6 | B96: Patryk Zalewski (Mistrzostwa Polski F1N/M - Junior młodszy, Suwałki, 07.12.2025) | C96: MP | D96: 2 | E96: =IF(C96="MP",IF(D96=1,200,IF(D96=2,160,IF(D96=3,130,IF(D96=4,110,IF(D96=5,90,IF(D96=6,70))))))) -> 160
A97: 7 | B97: Patryk Zalewski (Mistrzostwa Polski F1N - Junior, Konopiska, 23.11.2025) | C97: MP | D97: 3 | E97: =IF(C97="MP",IF(D97=1,200,IF(D97=2,160,IF(D97=3,130,IF(D97=4,110,IF(D97=5,90,IF(D97=6,70))))))) -> 130
A98: 8 | B98: Krzysztof Maruszewski (Mistrzostwa Polski F1N - Junior, Konopiska, 23.11.2025) | C98: MP | D98: 4 | E98: =IF(C98="MP",IF(D98=1,200,IF(D98=2,160,IF(D98=3,130,IF(D98=4,110,IF(D98=5,90,IF(D98=6,70))))))) -> 110
A99: 9 | B99: Kacper Młynarz (Mistrzostwa Polski F1N - Junior, Konopiska, 23.11.2025) | C99: MP | D99: 6 | E99: =IF(C99="MP",IF(D99=1,200,IF(D99=2,160,IF(D99=3,130,IF(D99=4,110,IF(D99=5,90,IF(D99=6,70))))))) -> 70
A100: 10 | B100: Bartosz Nyk (Mistrzostwa Polski F1N - OPEN, Konopiska, 23.11.2025) | C100: MP | D100: 4 | E100: =IF(C100="MP",IF(D100=1,200,IF(D100=2,160,IF(D100=3,130,IF(D100=4,110,IF(D100=5,90,IF(D100=6,70))))))) -> 110
A101: 11 | B101: Marcin Prus (Mistrzostwa Polski F1H, Gliwice, 11-12.10.2025) | C101: MP | D101: 3 | E101: =IF(C101="MP",IF(D101=1,200,IF(D101=2,160,IF(D101=3,130,IF(D101=4,110,IF(D101=5,90,IF(D101=6,70))))))) -> 130
A102: 12 | C102: MP | E102: =IF(C102="MP",IF(D102=1,200,IF(D102=2,160,IF(D102=3,130,IF(D102=4,110,IF(D102=5,90,IF(D102=6,70))))))) -> FALSE
A103: 13 | C103: MP | E103: =IF(C103="MP",IF(D103=1,200,IF(D103=2,160,IF(D103=3,130,IF(D103=4,110,IF(D103=5,90,IF(D103=6,70))))))) -> FALSE
A104: 14 | C104: MP | E104: =IF(C104="MP",IF(D104=1,200,IF(D104=2,160,IF(D104=3,130,IF(D104=4,110,IF(D104=5,90,IF(D104=6,70))))))) -> FALSE
A105: 15 | C105: MP | E105: =IF(C105="MP",IF(D105=1,200,IF(D105=2,160,IF(D105=3,130,IF(D105=4,110,IF(D105=5,90,IF(D105=6,70))))))) -> FALSE
A106: 16 | C106: MP | E106: =IF(C106="MP",IF(D106=1,200,IF(D106=2,160,IF(D106=3,130,IF(D106=4,110,IF(D106=5,90,IF(D106=6,70))))))) -> FALSE
A107: 17 | C107: MP | E107: =IF(C107="MP",IF(D107=1,200,IF(D107=2,160,IF(D107=3,130,IF(D107=4,110,IF(D107=5,90,IF(D107=6,70))))))) -> FALSE
A108: 18 | C108: MP | E108: =IF(C108="MP",IF(D108=1,200,IF(D108=2,160,IF(D108=3,130,IF(D108=4,110,IF(D108=5,90,IF(D108=6,70))))))) -> FALSE
A109: 19 | C109: MP | E109: =IF(C109="MP",IF(D109=1,200,IF(D109=2,160,IF(D109=3,130,IF(D109=4,110,IF(D109=5,90,IF(D109=6,70))))))) -> FALSE
A110: 20 | C110: MP | E110: =IF(C110="MP",IF(D110=1,200,IF(D110=2,160,IF(D110=3,130,IF(D110=4,110,IF(D110=5,90,IF(D110=6,70))))))) -> FALSE
A111: 21 | C111: MP | E111: =IF(C111="MP",IF(D111=1,200,IF(D111=2,160,IF(D111=3,130,IF(D111=4,110,IF(D111=5,90,IF(D111=6,70))))))) -> FALSE
A112: 22 | C112: MP | E112: =IF(C112="MP",IF(D112=1,200,IF(D112=2,160,IF(D112=3,130,IF(D112=4,110,IF(D112=5,90,IF(D112=6,70))))))) -> FALSE
A113: 23 | B113: Kacper Młynarz (kk. PP F1N/M - Młodzik, 2025) | C113: PP | D113: 3 | E113: =IF(C113="PP",IF(D113=1,200,IF(D113=2,160,IF(D113=3,130,IF(D113=4,110,IF(D113=5,90,IF(D113=6,70))))))) -> 130
A114: 24 | B114: Adam Prusiński (kk. PP F1N/M - Młodzik, 2025) | C114: PP | D114: 5 | E114: =IF(C114="PP",IF(D114=1,200,IF(D114=2,160,IF(D114=3,130,IF(D114=4,110,IF(D114=5,90,IF(D114=6,70))))))) -> 90
A115: 25 | B115: Patryk Zalewski (Puchar Polski F1N/M - Junior młodszy, 2025) | C115: PP | D115: 1 | E115: =IF(C115="PP",IF(D115=1,200,IF(D115=2,160,IF(D115=3,130,IF(D115=4,110,IF(D115=5,90,IF(D115=6,70))))))) -> 200
A116: 26 | B116: Krzysztof Maruszewski (Puchar Polski F1N/M - Junior młodszy, 2025) | C116: PP | D116: 2 | E116: =IF(C116="PP",IF(D116=1,200,IF(D116=2,160,IF(D116=3,130,IF(D116=4,110,IF(D116=5,90,IF(D116=6,70))))))) -> 160
...

Sheet AZM
C1: Aeroklub Ziemi Mazowieckiej, Lic. KS nr 11/25
A8: Sprawozdanie z działalności klubu za rok 2025
A11: Współzawodnictwo w konkurencjach mistrzowskich - SPORT WYCZYNOWY
A13: 4.1 - punkty za miejsca w zawodach i rekordy zawodników
A14: Lp | B14: Imię i Nazwisko zawodnika (nazwa skrócona, miejsce i data imprezy) | C14: Rodzaj zawodów | D14: Miejsce (wpisz liczbę 1-6) | E14: Pktunkty do współzawodnictwa
A15: 1 | B15: Marek Dąbrowski, F4C, Euro Scale Masters i Europa Star Cup, Ostrów Wlkp, 08.06.2025 | C15: M | E15: =IF(C15="M",IF(D15=1,1500,IF(D15=2,1170,IF(D15=3,1000,IF(D15=4,830,IF(D15=5,670,IF(D15=6,500))))))) -> FALSE
A16: 2 | C16: M | E16: =IF(C16="M",IF(D16=1,1500,IF(D16=2,1170,IF(D16=3,1000,IF(D16=4,830,IF(D16=5,670,IF(D16=6,500))))))) -> FALSE
A17: 3 | C17: M | E17: =IF(C17="M",IF(D17=1,1500,IF(D17=2,1170,IF(D17=3,1000,IF(D17=4,830,IF(D17=5,670,IF(D17=6,500))))))) -> FALSE
A18: 4 | C18: M | E18: =IF(C18="M",IF(D18=1,1500,IF(D18=2,1170,IF(D18=3,1000,IF(D18=4,830,IF(D18=5,670,IF(D18=6,500))))))) -> FALSE
A19: 5 | C19: Md | E19: =IF(C19="Md",IF(D19=1,500,IF(D19=2,390,IF(D19=3,333,)))) -> 0
A20: 6 | C20: Md | E20: =IF(C20="Md",IF(D20=1,500,IF(D20=2,390,IF(D20=3,333,)))) -> 0
A21: 7 | C21: Md | E21: =IF(C21="Md",IF(D21=1,500,IF(D21=2,390,IF(D21=3,333,)))) -> 0
A22: 8 | C22: Md | E22: =IF(C22="Md",IF(D22=1,500,IF(D22=2,390,IF(D22=3,333,)))) -> 0
A23: 9 | C23: Md | E23: =IF(C23="Md",IF(D23=1,500,IF(D23=2,390,IF(D23=3,333,)))) -> 0
A24: 10 | C24: MP | E24: =IF(C24="MP",IF(D24=1,300,IF(D24=2,230,IF(D24=3,200,IF(D24=4,170,IF(D24=5,135,IF(D24=6,100))))))) -> FALSE
A25: 11 | B25: Marek Dąbrowski, Mistrzostwa Polski F4C, Ostrów Wielkopolski, 21.09.2025 | C25: MP | D25: 2 | E25: =IF(C25="MP",IF(D25=1,300,IF(D25=2,230,IF(D25=3,200,IF(D25=4,170,IF(D25=5,135,IF(D25=6,100))))))) -> 230
A26: 12 | B26: Jerzy Pielaciński, Mistrzostwa Polski F4C, Ostrów Wielkopolski, 21.09.2025 | C26: MP | D26: 6 | E26: =IF(C26="MP",IF(D26=1,300,IF(D26=2,230,IF(D26=3,200,IF(D26=4,170,IF(D26=5,135,IF(D26=6,100))))))) -> 100
A27: 13 | B27: Jerzy Pielaciński, MP F4G, Ostrów Wielkopolski, 21.09.2025 | C27: MP | E27: =IF(C27="MP",IF(D27=1,300,IF(D27=2,230,IF(D27=3,200,IF(D27=4,170,IF(D27=5,135,IF(D27=6,100))))))) -> FALSE
A28: 14 | C28: MP | E28: =IF(C28="MP",IF(D28=1,300,IF(D28=2,230,IF(D28=3,200,IF(D28=4,170,IF(D28=5,135,IF(D28=6,100))))))) -> FALSE
A29: 15 | C29: MP | E29: =IF(C29="MP",IF(D29=1,300,IF(D29=2,230,IF(D29=3,200,IF(D29=4,170,IF(D29=5,135,IF(D29=6,100))))))) -> FALSE
A30: 16 | C30: MP | E30: =IF(C30="MP",IF(D30=1,300,IF(D30=2,230,IF(D30=3,200,IF(D30=4,170,IF(D30=5,135,IF(D30=6,100))))))) -> FALSE
A31: 17 | C31: MP | E31: =IF(C31="MP",IF(D31=1,300,IF(D31=2,230,IF(D31=3,200,IF(D31=4,170,IF(D31=5,135,IF(D31=6,100))))))) -> FALSE
A32: 18 | C32: MP | E32: =IF(C32="MP",IF(D32=1,300,IF(D32=2,230,IF(D32=3,200,IF(D32=4,170,IF(D32=5,135,IF(D32=6,100))))))) -> FALSE
A33: 19 | C33: MP | E33: =IF(C33="MP",IF(D33=1,300,IF(D33=2,230,IF(D33=3,200,IF(D33=4,170,IF(D33=5,135,IF(D33=6,100))))))) -> FALSE
A34: 20 | C34: MP | E34: =IF(C34="MP",IF(D34=1,300,IF(D34=2,230,IF(D34=3,200,IF(D34=4,170,IF(D34=5,135,IF(D34=6,100))))))) -> FALSE
A35: 21 | C35: MP | E35: =IF(C35="MP",IF(D35=1,300,IF(D35=2,230,IF(D35=3,200,IF(D35=4,170,IF(D35=5,135,IF(D35=6,100))))))) -> FALSE
A36: 22 | C36: MP | E36: =IF(C36="MP",IF(D36=1,300,IF(D36=2,230,IF(D36=3,200,IF(D36=4,170,IF(D36=5,135,IF(D36=6,100))))))) -> FALSE
A37: 23 | C37: MP | E37: =IF(C37="MP",IF(D37=1,300,IF(D37=2,230,IF(D37=3,200,IF(D37=4,170,IF(D37=5,135,IF(D37=6,100))))))) -> FALSE
A38: 24 | C38: MP | E38: =IF(C38="MP",IF(D38=1,300,IF(D38=2,230,IF(D38=3,200,IF(D38=4,170,IF(D38=5,135,IF(D38=6,100))))))) -> FALSE
A39: 25 | C39: MP | E39: =IF(C39="MP",IF(D39=1,300,IF(D39=2,230,IF(D39=3,200,IF(D39=4,170,IF(D39=5,135,IF(D39=6,100))))))) -> FALSE
... A43: 29 | C43: MP | E43: =IF(C43="MP",IF(D43=1,300,IF(D43=2,230,IF(D43=3,200,IF(D43=4,170,IF(D43=5,135,IF(D43=6,100))))))) -> FALSE
A44: 30 | B44: Marek Dąbrowski, klasyfikacja końcowa Pucharu Polski F4C | C44: PP | D44: 1 | E44: =IF(C44="PP",IF(D44=1,300,IF(D44=2,230,IF(D44=3,200,IF(D44=4,170,IF(D44=5,135,IF(D44=6,100))))))) -> 300
A45: 31 | B45: Jerzy Pielaciński, klasyfikacja końcowa Pucharu Polski F4C | C45: PP | D45: 6 | E45: =IF(C45="PP",IF(D45=1,300,IF(D45=2,230,IF(D45=3,200,IF(D45=4,170,IF(D45=5,135,IF(D45=6,100))))))) -> 100
A46: 32 | C46: PP | E46: =IF(C46="PP",IF(D46=1,300,IF(D46=2,230,IF(D46=3,200,IF(D46=4,170,IF(D46=5,135,IF(D46=6,100))))))) -> FALSE
A47: 33 | C47: PP | E47: =IF(C47="PP",IF(D47=1,300,IF(D47=2,230,IF(D47=3,200,IF(D47=4,170,IF(D47=5,135,IF(D47=6,100))))))) -> FALSE
A48: 34 | C48: PP | E48: =IF(C48="PP",IF(D48=1,300,IF(D48=2,230,IF(D48=3,200,IF(D48=4,170,IF(D48=5,135,IF(D48=6,100))))))) -> FALSE
A49: 35 | C49: PP | E49: =IF(C49="PP",IF(D49=1,300,IF(D49=2,230,IF(D49=3,200,IF(D49=4,170,IF(D49=5,135,IF(D49=6,100))))))) -> FALSE
A50: 36 | C50: PP | E50: =IF(C50="PP",IF(D50=1,300,IF(D50=2,230,IF(D50=3,200,IF(D50=4,170,IF(D50=5,135,IF(D50=6,100))))))) -> FALSE
A51: 37 | C51: PP | E51: =IF(C51="PP",IF(D51=1,300,IF(D51=2,230,IF(D51=3,200,IF(D51=4,170,IF(D51=5,135,IF(D51=6,100))))))) -> FALSE
A52: 38 | C52: PP | E52: =IF(C52="PP",IF(D52=1,300,IF(D52=2,230,IF(D52=3,200,IF(D52=4,170,IF(D52=5,135,IF(D52=6,100))))))) -> FALSE
A53: 39 | C53: PP | E53: =IF(C53="PP",IF(D53=1,300,IF(D53=2,230,IF(D53=3,200,IF(D53=4,170,IF(D53=5,135,IF(D53=6,100))))))) -> FALSE
A54: 40 | C54: PP | E54: =IF(C54="PP",IF(D54=1,300,IF(D54=2,230,IF(D54=3,200,IF(D54=4,170,IF(D54=5,135,IF(D54=6,100))))))) -> FALSE
A55: 41 | C55: PP | E55: =IF(C55="PP",IF(D55=1,300,IF(D55=2,230,IF(D55=3,200,IF(D55=4,170,IF(D55=5,135,IF(D55=6,100))))))) -> FALSE
A56: 42 | C56: PP | E56: =IF(C56="PP",IF(D56=1,300,IF(D56=2,230,IF(D56=3,200,IF(D56=4,170,IF(D56=5,135,IF(D56=6,100))))))) -> FALSE
A57: 43 | C57: PP | E57: =IF(C57="PP",IF(D57=1,300,IF(D57=2,230,IF(D57=3,200,IF(D57=4,170,IF(D57=5,135,IF(D57=6,100))))))) -> FALSE
A58: 44 | C58: PP | E58: =IF(C58="PP",IF(D58=1,300,IF(D58=2,230,IF(D58=3,200,IF(D58=4,170,IF(D58=5,135,IF(D58=6,100))))))) -> FALSE
A59: 45 | C59: RS | E59: =IF(C59="RS",IF(D59=1,1000)) -> FALSE
A60: 46 | C60: RS | E60: =IF(C60="RS",IF(D60=1,1000)) -> FALSE
A61: 47 | C61: RP | E61: =IF(C61="RP",IF(D61=1,200)) -> FALSE
A62: 48 | C62: RP | E62: =IF(C62="RP",IF(D62=1,200)) -> FALSE
A63: 4.1 - punkty razem: | E63: =SUM(E15:E62) -> 730
A65: 4.2 - punkty za organizację zawodów
A66: Lp | B66: Nazwa skrócona zorganizowanych zawodów (konkurencja, miejsce, data) | C66: Wpisz 1 (w poz. 3-7, liczba może być większa) | D66: Ilość pkt za 1 zorganizowaną imprezę | E66: Pktunkty do współzawodnictwa
A67: 1 | B67: Mistrzostwa Świata FAI | D67: M | E67: =IF(D67="M",IF(C67=1,3000)) -> FALSE
A68: 2 | B68: Mistrzostwa Europy FAI | D68: M | E68: =IF(D68="M",IF(C68=1,2500)) -> FALSE
A69: 3 | B69: Zawody zaliczane do Pucharu Świata FAI lub otwarte zawody międzynarodowe | D69: 1500 | E69: =PRODUCT(C69*D69) -> 0
A70: 4 | B70: Mistrzostwa Polski | D70: 1000 | E70: =PRODUCT(C70*D70) -> 0
A71: 5 | B71: Zawody do PP (F4C, F4H, F4G), Plecewice, 15-16.08.2025 | C71: 1 | D71: 500 | E71: =PRODUCT(C71*D71) -> 500
A72: 6 | B72: Memoriał Wojciecha Krzywińskiego (Z.O. S6A) i Szkolenie sędziów, Płock, 13.09.2025 | C72: 1 | D72: 300 | E72: =PRODUCT(C72*D72) -> 300
A73: 7 | B73: Zawody makiet w klasie F4H-P, Płock 31.05.2025 | D73: 200 | E73: =PRODUCT(C73*D73) -> 0
A74: 4.2 - punkty razem: | E74: =SUM(E67:E73) -> 800
A76: Współzawodnictwo w konkurencjach niemistrzowskich SPORT POWSZECHNY i POPULARYZACJA
A78: 4.3 - punkty za efektywność szkolenia podstawowego
A79: Lp | B79: Organizacja przez KS zawodów modelarskich dla dzieci i młodzieży oraz udział zawodników KS w mistrzostwach Polski: | C79: Liczba sklasyfikowanych zawodników | D79: Ilość pkt za 1 sklas. zawodn. | E79: Pktunkty do współzawodnictwa
A80: 1 | B80: Zawody Młodzi Modelarze–Lotnicy na Start dla juniorów młodszych (organizacja) | C80: 12 | D80: 20 | E80: =PRODUCT(C80*D80) -> 240
A81: 2 | B81: Zawody Latawcowe dla młodzików (organizacja) | C81: 58 | D81: 20 | E81: =PRODUCT(C81*D81) -> 1160
A82: 3 | B82: Zawody balonów na ogrzane powietrze dla młodzików (organizacja) | C82: 14 | D82: 20 | E82: =PRODUCT(C82*D82) -> 280
A83: 4 | B83: Zawody modeli halowych dla młodzików F1N/M, A6/M, ROOKIE (organizacja) | C83: 10 | D83: 20 | E83: =PRODUCT(C83*D83) -> 200
A84: 5 | B84: Finał Regionalny Konkursu Młodych Artystów FAI (organizacja) | C84: 46 | D84: 20 | E84: =PRODUCT(C84*D84) -> 920
A85: 6 | B85: Udział zawodników KS w Mistrzostwach Polski Młodzików lub Juniorów Młodszych | C85: 6 | D85: 100 | E85: =PRODUCT(C85*D85) -> 600
A86: 7 | B86: Udział zawodników KS w Finale Ogólnopolskim Konkursu Młodych Artystów FAI | C86: 6 | D86: 50 | E86: =PRODUCT(C86*D86) -> 300
A87: 4.3 - punkty razem: | E87: =SUM(E80:E86) -> 3700
A89: 4.4 - punkty za miejsca w zawodach i konkursach oraz rekordy zawodników
A90: Lp | B90: Imię i Nazwisko zawodnika (nazwa skrócona, miejsce i data imprezy) | C90: Rodzaj zawodów | D90: Miejsce (wpisz liczbę 1-6) | E90: Pktunkty do współzawodnictwa
A91: 1 | C91: PS | E91: =IF(C91="PS",IF(D91=1,800,IF(D91=2,630,IF(D91=3,530,IF(D91=4,450,IF(D91=5,360,IF(D91=6,270))))))) -> FALSE
A92: 2 | C92: PS | E92: =IF(C92="PS",IF(D92=1,800,IF(D92=2,630,IF(D92=3,530,IF(D92=4,450,IF(D92=5,360,IF(D92=6,270))))))) -> FALSE
A93: 3 | B93: Tomasz Wawszczak, MP Modeli Balonów F7A/M, Włocławek 29.03.2025 | C93: MP | D93: 2 | E93: =IF(C93="MP",IF(D93=1,200,IF(D93=2,160,IF(D93=3,130,IF(D93=4,110,IF(D93=5,90,IF(D93=6,70))))))) -> 160
A94: 4 | B94: Bartold Tymoteusz, MP Modeli Balonów F7A/M, Włocławek 29.03.2025 | C94: MP | D94: 6 | E94: =IF(C94="MP",IF(D94=1,200,IF(D94=2,160,IF(D94=3,130,IF(D94=4,110,IF(D94=5,90,IF(D94=6,70))))))) -> 70
A95: 5 | B95: Jerzy Pielaciński, Mistrzostwa Polski F4G, Ostrów Wlkp., 21.09.2025 | C95: MP | D95: 5 | E95: =IF(C95="MP",IF(D95=1,200,IF(D95=2,160,IF(D95=3,130,IF(D95=4,110,IF(D95=5,90,IF(D95=6,70))))))) -> 90
A96: 6 | C96: MP | E96: =IF(C96="MP",IF(D96=1,200,IF(D96=2,160,IF(D96=3,130,IF(D96=4,110,IF(D96=5,90,IF(D96=6,70))))))) -> FALSE
A97: 7 | C97: MP | E97: =IF(C97="MP",IF(D97=1,200,IF(D97=2,160,IF(D97=3,130,IF(D97=4,110,IF(D97=5,90,IF(D97=6,70))))))) -> FALSE
A98: 8 | C98: MP | E98: =IF(C98="MP",IF(D98=1,200,IF(D98=2,160,IF(D98=3,130,IF(D98=4,110,IF(D98=5,90,IF(D98=6,70))))))) -> FALSE
A99: 9 | C99: MP | E99: =IF(C99="MP",IF(D99=1,200,IF(D99=2,160,IF(D99=3,130,IF(D99=4,110,IF(D99=5,90,IF(D99=6,70))))))) -> FALSE
A100: 10 | C100: MP | E100: =IF(C100="MP",IF(D100=1,200,IF(D100=2,160,IF(D100=3,130,IF(D100=4,110,IF(D100=5,90,IF(D100=6,70))))))) -> FALSE
A101: 11 | C101: MP | E101: =IF(C101="MP",IF(D101=1,200,IF(D101=2,160,IF(D101=3,130,IF(D101=4,110,IF(D101=5,90,IF(D101=6,70))))))) -> FALSE
A102: 12 | C102: MP | E102: =IF(C102="MP",IF(D102=1,200,IF(D102=2,160,IF(D102=3,130,IF(D102=4,110,IF(D102=5,90,IF(D102=6,70))))))) -> FALSE
A103: 13 | C103: MP | E103: =IF(C103="MP",IF(D103=1,200,IF(D103=2,160,IF(D103=3,130,IF(D103=4,110,IF(D103=5,90,IF(D103=6,70))))))) -> FALSE
A104: 14 | C104: MP | E104: =IF(C104="MP",IF(D104=1,200,IF(D104=2,160,IF(D104=3,130,IF(D104=4,110,IF(D104=5,90,IF(D104=6,70))))))) -> FALSE
A105: 15 | C105: MP | E105: =IF(C105="MP",IF(D105=1,200,IF(D105=2,160,IF(D105=3,130,IF(D105=4,110,IF(D105=5,90,IF(D105=6,70))))))) -> FALSE
A106: 16 | C106: MP | E106: =IF(C106="MP",IF(D106=1,200,IF(D106=2,160,IF(D106=3,130,IF(D106=4,110,IF(D106=5,90,IF(D106=6,70))))))) -> FALSE
A107: 17 | C107: MP | E107: =IF(C107="MP",IF(D107=1,200,IF(D107=2,160,IF(D107=3,130,IF(D107=4,110,IF(D107=5,90,IF(D107=6,70))))))) -> FALSE
... A112: 22 | C112: MP | E112: =IF(C112="MP",IF(D112=1,200,IF(D112=2,160,IF(D112=3,130,IF(D112=4,110,IF(D112=5,90,IF(D112=6,70))))))) -> FALSE
A113: 23 | C113: PP | E113: =IF(C113="PP",IF(D113=1,200,IF(D113=2,160,IF(D113=3,130,IF(D113=4,110,IF(D113=5,90,IF(D113=6,70))))))) -> FALSE
A114: 24 | C114: PP | E114: =IF(C114="PP",IF(D114=1,200,IF(D114=2,160,IF(D114=3,130,IF(D114=4,110,IF(D114=5,90,IF(D114=6,70))))))) -> FALSE
A115: 25 | C115: PP | E115: =IF(C115="PP",IF(D115=1,200,IF(D115=2,160,IF(D115=3,130,IF(D115=4,110,IF(D115=5,90,IF(D115=6,70))))))) -> FALSE
A116: 26 | C116: PP | E116: =IF(C116="PP",IF(D116=1,200,IF(D116=2,160,IF(D116=3,130,IF(D116=4,110,IF(D116=5,90,IF(D116=6,70))))))) -> FALSE
A117: 27 | C117: PP | E117: =IF(C117="PP",IF(D117=1,200,IF(D117=2,160,IF(D117=3,130,IF(D117=4,110,IF(D117=5,90,IF(D117=6,70))))))) -> FALSE
A118: 28 | C118: PP | E118: =IF(C118="PP",IF(D118=1,200,IF(D118=2,160,IF(D118=3,130,IF(D118=4,110,IF(D118=5,90,IF(D118=6,70))))))) -> FALSE
A119: 29 | C119: PP | E119: =IF(C119="PP",IF(D119=1,200,IF(D119=2,160,IF(D119=3,130,IF(D119=4,110,IF(D119=5,90,IF(D119=6,70))))))) -> FALSE
A120: 30 | C120: PP | E120: =IF(C120="PP",IF(D120=1,200,IF(D120=2,160,IF(D120=3,130,IF(D120=4,110,IF(D120=5,90,IF(D120=6,70))))))) -> FALSE
...

Sheet AOS
C1: Aeroklub Ostrowski 2/25
A8: Sprawozdanie z działalności klubu za rok 2025
A11: Współzawodnictwo w konkurencjach mistrzowskich - SPORT WYCZYNOWY
A13: 4.1 - punkty za miejsca w zawodach i rekordy zawodników
A14: Lp | B14: Imię i Nazwisko zawodnika (nazwa skrócona, miejsce i data imprezy) | C14: Rodzaj zawodów | D14: Miejsce (wpisz liczbę 1-6) | E14: Pktunkty do współzawodnictwa
A15: 1 | C15: M | E15: =IF(C15="M",IF(D15=1,1500,IF(D15=2,1170,IF(D15=3,1000,IF(D15=4,830,IF(D15=5,670,IF(D15=6,500))))))) -> FALSE
A16: 2 | C16: M | E16: =IF(C16="M",IF(D16=1,1500,IF(D16=2,1170,IF(D16=3,1000,IF(D16=4,830,IF(D16=5,670,IF(D16=6,500))))))) -> FALSE
A17: 3 | C17: M | E17: =IF(C17="M",IF(D17=1,1500,IF(D17=2,1170,IF(D17=3,1000,IF(D17=4,830,IF(D17=5,670,IF(D17=6,500))))))) -> FALSE
A18: 4 | C18: M | E18: =IF(C18="M",IF(D18=1,1500,IF(D18=2,1170,IF(D18=3,1000,IF(D18=4,830,IF(D18=5,670,IF(D18=6,500))))))) -> FALSE
A19: 5 | C19: Md | E19: =IF(C19="Md",IF(D19=1,500,IF(D19=2,390,IF(D19=3,333,)))) -> 0
A20: 6 | C20: Md | E20: =IF(C20="Md",IF(D20=1,500,IF(D20=2,390,IF(D20=3,333,)))) -> 0
A21: 7 | C21: Md | E21: =IF(C21="Md",IF(D21=1,500,IF(D21=2,390,IF(D21=3,333,)))) -> 0
A22: 8 | C22: Md | E22: =IF(C22="Md",IF(D22=1,500,IF(D22=2,390,IF(D22=3,333,)))) -> 0
A23: 9 | C23: Md | E23: =IF(C23="Md",IF(D23=1,500,IF(D23=2,390,IF(D23=3,333,)))) -> 0
A24: 10 | B24: Pawlik Paweł MP F4B lotnisko Rudniki 12.10.2025 | C24: MP | D24: 1 | E24: =IF(C24="MP",IF(D24=1,300,IF(D24=2,230,IF(D24=3,200,IF(D24=4,170,IF(D24=5,135,IF(D24=6,100))))))) -> 300
A25: 11 | B25: Oleksy Radosław MP F4H lotnisko Michałków 19-21.09.2025 | C25: MP | D25: 3 | E25: =IF(C25="MP",IF(D25=1,300,IF(D25=2,230,IF(D25=3,200,IF(D25=4,170,IF(D25=5,135,IF(D25=6,100))))))) -> 200
A26: 12 | B26: Małota Bogusław MP F4C lotnisko Michałków 19-21.09.2025 | C26: MP | D26: 5 | E26: =IF(C26="MP",IF(D26=1,300,IF(D26=2,230,IF(D26=3,200,IF(D26=4,170,IF(D26=5,135,IF(D26=6,100))))))) -> 135
A27: 13 | B27: Małota Bogusław MP F4H lotnisko Michałków 19-21.09.2025 | C27: MP | D27: 6 | E27: =IF(C27="MP",IF(D27=1,300,IF(D27=2,230,IF(D27=3,200,IF(D27=4,170,IF(D27=5,135,IF(D27=6,100))))))) -> 100
A28: 14 | C28: MP | E28: =IF(C28="MP",IF(D28=1,300,IF(D28=2,230,IF(D28=3,200,IF(D28=4,170,IF(D28=5,135,IF(D28=6,100))))))) -> FALSE
A29: 15 | C29: MP | E29: =IF(C29="MP",IF(D29=1,300,IF(D29=2,230,IF(D29=3,200,IF(D29=4,170,IF(D29=5,135,IF(D29=6,100))))))) -> FALSE
A30: 16 | C30: MP | E30: =IF(C30="MP",IF(D30=1,300,IF(D30=2,230,IF(D30=3,200,IF(D30=4,170,IF(D30=5,135,IF(D30=6,100))))))) -> FALSE
A31: 17 | C31: MP | E31: =IF(C31="MP",IF(D31=1,300,IF(D31=2,230,IF(D31=3,200,IF(D31=4,170,IF(D31=5,135,IF(D31=6,100))))))) -> FALSE
A32: 18 | C32: MP | E32: =IF(C32="MP",IF(D32=1,300,IF(D32=2,230,IF(D32=3,200,IF(D32=4,170,IF(D32=5,135,IF(D32=6,100))))))) -> FALSE
A33: 19 | C33: MP | E33: =IF(C33="MP",IF(D33=1,300,IF(D33=2,230,IF(D33=3,200,IF(D33=4,170,IF(D33=5,135,IF(D33=6,100))))))) -> FALSE
A34: 20 | C34: MP | E34: =IF(C34="MP",IF(D34=1,300,IF(D34=2,230,IF(D34=3,200,IF(D34=4,170,IF(D34=5,135,IF(D34=6,100))))))) -> FALSE
A35: 21 | C35: MP | E35: =IF(C35="MP",IF(D35=1,300,IF(D35=2,230,IF(D35=3,200,IF(D35=4,170,IF(D35=5,135,IF(D35=6,100))))))) -> FALSE
A36: 22 | C36: MP | E36: =IF(C36="MP",IF(D36=1,300,IF(D36=2,230,IF(D36=3,200,IF(D36=4,170,IF(D36=5,135,IF(D36=6,100))))))) -> FALSE
A37: 23 | C37: MP | E37: =IF(C37="MP",IF(D37=1,300,IF(D37=2,230,IF(D37=3,200,IF(D37=4,170,IF(D37=5,135,IF(D37=6,100))))))) -> FALSE
A38: 24 | C38: MP | E38: =IF(C38="MP",IF(D38=1,300,IF(D38=2,230,IF(D38=3,200,IF(D38=4,170,IF(D38=5,135,IF(D38=6,100))))))) -> FALSE
A39: 25 | C39: MP | E39: =IF(C39="MP",IF(D39=1,300,IF(D39=2,230,IF(D39=3,200,IF(D39=4,170,IF(D39=5,135,IF(D39=6,100))))))) -> FALSE
... A43: 29 | C43: MP | E43: =IF(C43="MP",IF(D43=1,300,IF(D43=2,230,IF(D43=3,200,IF(D43=4,170,IF(D43=5,135,IF(D43=6,100))))))) -> FALSE
A44: 30 | C44: PP | E44: =IF(C44="PP",IF(D44=1,300,IF(D44=2,230,IF(D44=3,200,IF(D44=4,170,IF(D44=5,135,IF(D44=6,100))))))) -> FALSE
A45: 31 | B45: Oleksy Radosław F4H | C45: PP | D45: 3 | E45: =IF(C45="PP",IF(D45=1,300,IF(D45=2,230,IF(D45=3,200,IF(D45=4,170,IF(D45=5,135,IF(D45=6,100))))))) -> 200
A46: 32 | B46: Małota Bogusław F4C | C46: PP | D46: 5 | E46: =IF(C46="PP",IF(D46=1,300,IF(D46=2,230,IF(D46=3,200,IF(D46=4,170,IF(D46=5,135,IF(D46=6,100))))))) -> 135
A47: 33 | C47: PP | E47: =IF(C47="PP",IF(D47=1,300,IF(D47=2,230,IF(D47=3,200,IF(D47=4,170,IF(D47=5,135,IF(D47=6,100))))))) -> FALSE
A48: 34 | C48: PP | E48: =IF(C48="PP",IF(D48=1,300,IF(D48=2,230,IF(D48=3,200,IF(D48=4,170,IF(D48=5,135,IF(D48=6,100))))))) -> FALSE
A49: 35 | C49: PP | E49: =IF(C49="PP",IF(D49=1,300,IF(D49=2,230,IF(D49=3,200,IF(D49=4,170,IF(D49=5,135,IF(D49=6,100))))))) -> FALSE
A50: 36 | C50: PP | E50: =IF(C50="PP",IF(D50=1,300,IF(D50=2,230,IF(D50=3,200,IF(D50=4,170,IF(D50=5,135,IF(D50=6,100))))))) -> FALSE
A51: 37 | C51: PP | E51: =IF(C51="PP",IF(D51=1,300,IF(D51=2,230,IF(D51=3,200,IF(D51=4,170,IF(D51=5,135,IF(D51=6,100))))))) -> FALSE
A52: 38 | C52: PP | E52: =IF(C52="PP",IF(D52=1,300,IF(D52=2,230,IF(D52=3,200,IF(D52=4,170,IF(D52=5,135,IF(D52=6,100))))))) -> FALSE
A53: 39 | C53: PP | E53: =IF(C53="PP",IF(D53=1,300,IF(D53=2,230,IF(D53=3,200,IF(D53=4,170,IF(D53=5,135,IF(D53=6,100))))))) -> FALSE
A54: 40 | C54: PP | E54: =IF(C54="PP",IF(D54=1,300,IF(D54=2,230,IF(D54=3,200,IF(D54=4,170,IF(D54=5,135,IF(D54=6,100))))))) -> FALSE
A55: 41 | C55: PP | E55: =IF(C55="PP",IF(D55=1,300,IF(D55=2,230,IF(D55=3,200,IF(D55=4,170,IF(D55=5,135,IF(D55=6,100))))))) -> FALSE
A56: 42 | C56: PP | E56: =IF(C56="PP",IF(D56=1,300,IF(D56=2,230,IF(D56=3,200,IF(D56=4,170,IF(D56=5,135,IF(D56=6,100))))))) -> FALSE
A57: 43 | C57: PP | E57: =IF(C57="PP",IF(D57=1,300,IF(D57=2,230,IF(D57=3,200,IF(D57=4,170,IF(D57=5,135,IF(D57=6,100))))))) -> FALSE
A58: 44 | C58: PP | E58: =IF(C58="PP",IF(D58=1,300,IF(D58=2,230,IF(D58=3,200,IF(D58=4,170,IF(D58=5,135,IF(D58=6,100))))))) -> FALSE
A59: 45 | C59: RS | E59: =IF(C59="RS",IF(D59=1,1000)) -> FALSE
A60: 46 | C60: RS | E60: =IF(C60="RS",IF(D60=1,1000)) -> FALSE
A61: 47 | C61: RP | E61: =IF(C61="RP",IF(D61=1,200)) -> FALSE
A62: 48 | C62: RP | E62: =IF(C62="RP",IF(D62=1,200)) -> FALSE
A63: 4.1 - punkty razem: | E63: =SUM(E15:E62) -> 1070
A65: 4.2 - punkty za organizację zawodów
A66: Lp | B66: Nazwa skrócona zorganizowanych zawodów (konkurencja, miejsce, data) | C66: Wpisz 1 (w poz. 3-7, liczba może być większa) | D66: Ilość pkt za 1 zorganizowaną imprezę | E66: Pktunkty do współzawodnictwa
A67: 1 | B67: Mistrzostwa Świata FAI | D67: M | E67: =IF(D67="M",IF(C67=1,3000)) -> FALSE
A68: 2 | B68: Mistrzostwa Europy FAI | D68: M | E68: =IF(D68="M",IF(C68=1,2500)) -> FALSE
A69: 3 | B69: Zawody zaliczane do Pucharu Świata FAI lub otwarte zawody międzynarodowe | D69: 1500 | E69: =PRODUCT(C69*D69) -> 0
A70: 4 | B70: MP F4C, H, G lotnisko Michałków 19-21.09.2025, MP F4B Rudniki 12.10.2025 | C70: 2 | D70: 1000 | E70: =PRODUCT(C70*D70) -> 2000
A71: 5 | B71: Zawody do Pucharu Polski F4C i F4H | Mem. H. Jerzyka i P. Idczaka, 5-8 czerwca | C71: 1 | D71: 500 | E71: =PRODUCT(C71*D71) -> 500
A72: 6 | B72: Zgrupowanie / Konsultacje KN | D72: 300 | E72: =PRODUCT(C72*D72) -> 0
A73: 7 | B73: Zawody klubowe, międzyklubowe, regionalne, itp. – ujęte w Kalendarzu imprez KS dla Juniorów lub Seniorów w konkurencji mistrzowskiej z udziałem min. 10 zawodników | D73: 200 | E73: =PRODUCT(C73*D73) -> 0
A74: 4.2 - punkty razem: | E74: =SUM(E67:E73) -> 2500
A76: Współzawodnictwo w konkurencjach niemistrzowskich SPORT POWSZECHNY i POPULARYZACJA
A78: 4.3 - punkty za efektywność szkolenia podstawowego
A79: Lp | B79: Organizacja przez KS zawodów modelarskich dla dzieci i młodzieży oraz udział zawodników KS w mistrzostwach Polski: | C79: Liczba sklasyfikowanych zawodników | D79: Ilość pkt za 1 sklas. zawodn. | E79: Pktunkty do współzawodnictwa
A80: 1 | B80: Zawody Młodzi Modelarze–Lotnicy na Start dla juniorów młodszych (organizacja) | D80: 20 | E80: =PRODUCT(C80*D80) -> 0
A81: 2 | B81: Zawody Latawcowe dla młodzików (organizacja) | D81: 20 | E81: =PRODUCT(C81*D81) -> 0
A82: 3 | B82: Zawody balonów na ogrzane powietrze dla młodzików (organizacja) | D82: 20 | E82: =PRODUCT(C82*D82) -> 0
A83: 4 | B83: Zawody modeli halowych dla młodzików F1N/M, A6/M, ROOKIE (organizacja) | D83: 20 | E83: =PRODUCT(C83*D83) -> 0
A84: 5 | B84: Finał Regionalny Konkursu Młodych Artystów FAI (organizacja) | D84: 20 | E84: =PRODUCT(C84*D84) -> 0
A85: 6 | B85: Udział zawodników KS w Mistrzostwach Polski Młodzików lub Juniorów Młodszych | D85: 100 | E85: =PRODUCT(C85*D85) -> 0
A86: 7 | B86: Udział zawodników KS w Finale Ogólnopolskim Konkursu Młodych Artystów FAI | D86: 50 | E86: =PRODUCT(C86*D86) -> 0
A87: 4.3 - punkty razem: | E87: =SUM(E80:E86) -> 0
A89: 4.4 - punkty za miejsca w zawodach i konkursach oraz rekordy zawodników
A90: Lp | B90: Imię i Nazwisko zawodnika (nazwa skrócona, miejsce i data imprezy) | C90: Rodzaj zawodów | D90: Miejsce (wpisz liczbę 1-6) | E90: Pktunkty do współzawodnictwa
A91: 1 | C91: PS | E91: =IF(C91="PS",IF(D91=1,800,IF(D91=2,630,IF(D91=3,530,IF(D91=4,450,IF(D91=5,360,IF(D91=6,270))))))) -> FALSE
A92: 2 | C92: PS | E92: =IF(C92="PS",IF(D92=1,800,IF(D92=2,630,IF(D92=3,530,IF(D92=4,450,IF(D92=5,360,IF(D92=6,270))))))) -> FALSE
A93: 3 | B93: Idczak Maciej MP F4 G lotnisko Michałków 19-21.09.2025 | C93: MP | D93: 3 | E93: =IF(C93="MP",IF(D93=1,200,IF(D93=2,160,IF(D93=3,130,IF(D93=4,110,IF(D93=5,90,IF(D93=6,70))))))) -> 130
A94: 4 | C94: MP | E94: =IF(C94="MP",IF(D94=1,200,IF(D94=2,160,IF(D94=3,130,IF(D94=4,110,IF(D94=5,90,IF(D94=6,70))))))) -> FALSE
A95: 5 | C95: MP | E95: =IF(C95="MP",IF(D95=1,200,IF(D95=2,160,IF(D95=3,130,IF(D95=4,110,IF(D95=5,90,IF(D95=6,70))))))) -> FALSE
A96: 6 | C96: MP | E96: =IF(C96="MP",IF(D96=1,200,IF(D96=2,160,IF(D96=3,130,IF(D96=4,110,IF(D96=5,90,IF(D96=6,70))))))) -> FALSE
A97: 7 | C97: MP | E97: =IF(C97="MP",IF(D97=1,200,IF(D97=2,160,IF(D97=3,130,IF(D97=4,110,IF(D97=5,90,IF(D97=6,70))))))) -> FALSE
A98: 8 | C98: MP | E98: =IF(C98="MP",IF(D98=1,200,IF(D98=2,160,IF(D98=3,130,IF(D98=4,110,IF(D98=5,90,IF(D98=6,70))))))) -> FALSE
A99: 9 | C99: MP | E99: =IF(C99="MP",IF(D99=1,200,IF(D99=2,160,IF(D99=3,130,IF(D99=4,110,IF(D99=5,90,IF(D99=6,70))))))) -> FALSE
A100: 10 | C100: MP | E100: =IF(C100="MP",IF(D100=1,200,IF(D100=2,160,IF(D100=3,130,IF(D100=4,110,IF(D100=5,90,IF(D100=6,70))))))) -> FALSE
A101: 11 | C101: MP | E101: =IF(C101="MP",IF(D101=1,200,IF(D101=2,160,IF(D101=3,130,IF(D101=4,110,IF(D101=5,90,IF(D101=6,70))))))) -> FALSE
A102: 12 | C102: MP | E102: =IF(C102="MP",IF(D102=1,200,IF(D102=2,160,IF(D102=3,130,IF(D102=4,110,IF(D102=5,90,IF(D102=6,70))))))) -> FALSE
A103: 13 | C103: MP | E103: =IF(C103="MP",IF(D103=1,200,IF(D103=2,160,IF(D103=3,130,IF(D103=4,110,IF(D103=5,90,IF(D103=6,70))))))) -> FALSE
A104: 14 | C104: MP | E104: =IF(C104="MP",IF(D104=1,200,IF(D104=2,160,IF(D104=3,130,IF(D104=4,110,IF(D104=5,90,IF(D104=6,70))))))) -> FALSE
A105: 15 | C105: MP | E105: =IF(C105="MP",IF(D105=1,200,IF(D105=2,160,IF(D105=3,130,IF(D105=4,110,IF(D105=5,90,IF(D105=6,70))))))) -> FALSE
... A112: 22 | C112: MP | E112: =IF(C112="MP",IF(D112=1,200,IF(D112=2,160,IF(D112=3,130,IF(D112=4,110,IF(D112=5,90,IF(D112=6,70))))))) -> FALSE
A113: 23 | C113: PP | E113: =IF(C113="PP",IF(D113=1,200,IF(D113=2,160,IF(D113=3,130,IF(D113=4,110,IF(D113=5,90,IF(D113=6,70))))))) -> FALSE
A114: 24 | B114: Idczak Maciej F4G | C114: PP | D114: 6 | E114: =IF(C114="PP",IF(D114=1,200,IF(D114=2,160,IF(D114=3,130,IF(D114=4,110,IF(D114=5,90,IF(D114=6,70))))))) -> 70
A115: 25 | C115: PP | E115: =IF(C115="PP",IF(D115=1,200,IF(D115=2,160,IF(D115=3,130,IF(D115=4,110,IF(D115=5,90,IF(D115=6,70))))))) -> FALSE
A116: 26 | C116: PP | E116: =IF(C116="PP",IF(D116=1,200,IF(D116=2,160,IF(D116=3,130,IF(D116=4,110,IF(D116=5,90,IF(D116=6,70))))))) -> FALSE
A117: 27 | C117: PP | E117: =IF(C117="PP",IF(D117=1,200,IF(D117=2,160,IF(D117=3,130,IF(D117=4,110,IF(D117=5,90,IF(D117=6,70))))))) -> FALSE
A118: 28 | C118: PP | E118: =IF(C118="PP",IF(D118=1,200,IF(D118=2,160,IF(D118=3,130,IF(D118=4,110,IF(D118=5,90,IF(D118=6,70))))))) -> FALSE
A119: 29 | C119: PP | E119: =IF(C119="PP",IF(D119=1,200,IF(D119=2,160,IF(D119=3,130,IF(D119=4,110,IF(D119=5,90,IF(D119=6,70))))))) -> FALSE
A120: 30 | C120: PP | E120: =IF(C120="PP",IF(D120=1,200,IF(D120=2,160,IF(D120=3,130,IF(D120=4,110,IF(D120=5,90,IF(D120=6,70))))))) -> FALSE
A121: 31 | C121: PP | E121: =IF(C121="PP",IF(D121=1,200,IF(D121=2,160,IF(D121=3,130,IF(D121=4,110,IF(D121=5,90,IF(D121=6,70))))))) -> FALSE
A122: 32 | C122: PP | E122: =IF(C122="PP",IF(D122=1,200,IF(D122=2,160,IF(D122=3,130,IF(D122=4,110,IF(D122=5,90,IF(D122=6,70))))))) -> FALSE
...

Sheet AROW
C1: Aeroklub Rybnickiego Okręgu Węglowego 27/25
A8: Sprawozdanie z Działalności klubu za rok 2025
A11: Współzawodnictwo w konkurencjach mistrzowskich - SPORT WYCZYNOWY
A13: 4.1 - punkty za miejsca w zawodach i rekordy zawodników
A14: Lp | B14: Imię i Nazwisko zawodnika (nazwa skrócona, miejsce i data imprezy) | C14: Rodzaj zawodów | D14: Miejsce (wpisz liczbę 1-6) | E14: Pktunkty do współzawodnictwa
A15: 1 | B15: Mikołaj Pustelnik (MŚ F1E Jun., 2 m, Czechy) | C15: M | D15: 2 | E15: =IF(C15="M",IF(D15=1,1500,IF(D15=2,1170,IF(D15=3,1000,IF(D15=4,830,IF(D15=5,670,IF(D15=6,500))))))) -> 1170
A16: 2 | B16: Sławomir Masarczyk (MŚ F1E, 4 m, Czechy) | C16: M | D16: 4 | E16: =IF(C16="M",IF(D16=1,1500,IF(D16=2,1170,IF(D16=3,1000,IF(D16=4,830,IF(D16=5,670,IF(D16=6,500))))))) -> 830
A17: 3 | C17: M | E17: =IF(C17="M",IF(D17=1,1500,IF(D17=2,1170,IF(D17=3,1000,IF(D17=4,830,IF(D17=5,670,IF(D17=6,500))))))) -> FALSE
A18: 4 | B18: Sławomir Masarczyk M.Ś.F1E sen druż.Czechy | C18: M | E18: =IF(C18="M",IF(D18=1,1500,IF(D18=2,1170,IF(D18=3,1000,IF(D18=4,830,IF(D18=5,670,IF(D18=6,500))))))) -> FALSE
A19: 5 | B19: Mikołaj Pustelnik (MŚ F1E Jun., medal BR drużynowy, Czechy) | C19: Md | D19: 3 | E19: =IF(C19="Md",IF(D19=1,500,IF(D19=2,390,IF(D19=3,333,)))) -> 333
A20: 6 | B20: Krystian Wdowiak M.P.jun.mł.druż Toszek 27.10,2025 | C20: Md | E20: =IF(C20="Md",IF(D20=1,500,IF(D20=2,390,IF(D20=3,333,)))) -> 0
A21: 7 | B21: Jan Lepczyński M.P.jun.mł.druż Toszek 27.10.2025 | C21: Md | E21: =IF(C21="Md",IF(D21=1,500,IF(D21=2,390,IF(D21=3,333,)))) -> 0
A22: 8 | B22: Mikołaj Pustelnik M.P.jun.ind.Toszek 27.10.2025 | C22: Md | E22: =IF(C22="Md",IF(D22=1,500,IF(D22=2,390,IF(D22=3,333,)))) -> 0
A23: 9 | B23: Franciszek Kańczok sen M.P.F1E Toszek 26.10.2025 | C23: Md | E23: =IF(C23="Md",IF(D23=1,500,IF(D23=2,390,IF(D23=3,333,)))) -> 0
A24: 10 | B24: Fr.Kańczok W.Dziuba Sł.Masarczyk M.P.F1E druż Toszek 26.10.2025 | C24: MP | E24: =IF(C24="MP",IF(D24=1,300,IF(D24=2,230,IF(D24=3,200,IF(D24=4,170,IF(D24=5,135,IF(D24=6,100))))))) -> FALSE
A25: 11 | B25: Krystian Wdowiak (MP F1E Jun. Mł., 5 m, Toszek 27.10.2025) | C25: MP | D25: 5 | E25: =IF(C25="MP",IF(D25=1,300,IF(D25=2,230,IF(D25=3,200,IF(D25=4,170,IF(D25=5,135,IF(D25=6,100))))))) -> 135
A26: 12 | B26: Mikołaj Pustelnik (MP F1E Jun., 1 m, Toszek 27.10.2025) | C26: MP | D26: 1 | E26: =IF(C26="MP",IF(D26=1,300,IF(D26=2,230,IF(D26=3,200,IF(D26=4,170,IF(D26=5,135,IF(D26=6,100))))))) -> 300
A27: 13 | B27: Franciszek Kańczok (MP F1E, 3 m, Toszek 26.10.2025) | C27: MP | D27: 3 | E27: =IF(C27="MP",IF(D27=1,300,IF(D27=2,230,IF(D27=3,200,IF(D27=4,170,IF(D27=5,135,IF(D27=6,100))))))) -> 200
A28: 14 | C28: MP | E28: =IF(C28="MP",IF(D28=1,300,IF(D28=2,230,IF(D28=3,200,IF(D28=4,170,IF(D28=5,135,IF(D28=6,100))))))) -> FALSE
A29: 15 | C29: MP | E29: =IF(C29="MP",IF(D29=1,300,IF(D29=2,230,IF(D29=3,200,IF(D29=4,170,IF(D29=5,135,IF(D29=6,100))))))) -> FALSE
A30: 16 | C30: MP | E30: =IF(C30="MP",IF(D30=1,300,IF(D30=2,230,IF(D30=3,200,IF(D30=4,170,IF(D30=5,135,IF(D30=6,100))))))) -> FALSE
A31: 17 | C31: MP | E31: =IF(C31="MP",IF(D31=1,300,IF(D31=2,230,IF(D31=3,200,IF(D31=4,170,IF(D31=5,135,IF(D31=6,100))))))) -> FALSE
A32: 18 | C32: MP | E32: =IF(C32="MP",IF(D32=1,300,IF(D32=2,230,IF(D32=3,200,IF(D32=4,170,IF(D32=5,135,IF(D32=6,100))))))) -> FALSE
A33: 19 | C33: MP | E33: =IF(C33="MP",IF(D33=1,300,IF(D33=2,230,IF(D33=3,200,IF(D33=4,170,IF(D33=5,135,IF(D33=6,100))))))) -> FALSE
A34: 20 | C34: MP | E34: =IF(C34="MP",IF(D34=1,300,IF(D34=2,230,IF(D34=3,200,IF(D34=4,170,IF(D34=5,135,IF(D34=6,100))))))) -> FALSE
A35: 21 | C35: MP | E35: =IF(C35="MP",IF(D35=1,300,IF(D35=2,230,IF(D35=3,200,IF(D35=4,170,IF(D35=5,135,IF(D35=6,100))))))) -> FALSE
A36: 22 | C36: MP | E36: =IF(C36="MP",IF(D36=1,300,IF(D36=2,230,IF(D36=3,200,IF(D36=4,170,IF(D36=5,135,IF(D36=6,100))))))) -> FALSE
A37: 23 | C37: MP | E37: =IF(C37="MP",IF(D37=1,300,IF(D37=2,230,IF(D37=3,200,IF(D37=4,170,IF(D37=5,135,IF(D37=6,100))))))) -> FALSE
A38: 24 | C38: MP | E38: =IF(C38="MP",IF(D38=1,300,IF(D38=2,230,IF(D38=3,200,IF(D38=4,170,IF(D38=5,135,IF(D38=6,100))))))) -> FALSE
A39: 25 | C39: MP | E39: =IF(C39="MP",IF(D39=1,300,IF(D39=2,230,IF(D39=3,200,IF(D39=4,170,IF(D39=5,135,IF(D39=6,100))))))) -> FALSE
... A43: 29 | C43: MP | E43: =IF(C43="MP",IF(D43=1,300,IF(D43=2,230,IF(D43=3,200,IF(D43=4,170,IF(D43=5,135,IF(D43=6,100))))))) -> FALSE
A44: 30 | C44: PP | E44: =IF(C44="PP",IF(D44=1,300,IF(D44=2,230,IF(D44=3,200,IF(D44=4,170,IF(D44=5,135,IF(D44=6,100))))))) -> FALSE
A45: 31 | C45: PP | E45: =IF(C45="PP",IF(D45=1,300,IF(D45=2,230,IF(D45=3,200,IF(D45=4,170,IF(D45=5,135,IF(D45=6,100))))))) -> FALSE
A46: 32 | C46: PP | E46: =IF(C46="PP",IF(D46=1,300,IF(D46=2,230,IF(D46=3,200,IF(D46=4,170,IF(D46=5,135,IF(D46=6,100))))))) -> FALSE
A47: 33 | C47: PP | E47: =IF(C47="PP",IF(D47=1,300,IF(D47=2,230,IF(D47=3,200,IF(D47=4,170,IF(D47=5,135,IF(D47=6,100))))))) -> FALSE
A48: 34 | C48: PP | E48: =IF(C48="PP",IF(D48=1,300,IF(D48=2,230,IF(D48=3,200,IF(D48=4,170,IF(D48=5,135,IF(D48=6,100))))))) -> FALSE
A49: 35 | C49: PP | E49: =IF(C49="PP",IF(D49=1,300,IF(D49=2,230,IF(D49=3,200,IF(D49=4,170,IF(D49=5,135,IF(D49=6,100))))))) -> FALSE
A50: 36 | C50: PP | E50: =IF(C50="PP",IF(D50=1,300,IF(D50=2,230,IF(D50=3,200,IF(D50=4,170,IF(D50=5,135,IF(D50=6,100))))))) -> FALSE
A51: 37 | C51: PP | E51: =IF(C51="PP",IF(D51=1,300,IF(D51=2,230,IF(D51=3,200,IF(D51=4,170,IF(D51=5,135,IF(D51=6,100))))))) -> FALSE
A52: 38 | C52: PP | E52: =IF(C52="PP",IF(D52=1,300,IF(D52=2,230,IF(D52=3,200,IF(D52=4,170,IF(D52=5,135,IF(D52=6,100))))))) -> FALSE
A53: 39 | C53: PP | E53: =IF(C53="PP",IF(D53=1,300,IF(D53=2,230,IF(D53=3,200,IF(D53=4,170,IF(D53=5,135,IF(D53=6,100))))))) -> FALSE
A54: 40 | C54: PP | E54: =IF(C54="PP",IF(D54=1,300,IF(D54=2,230,IF(D54=3,200,IF(D54=4,170,IF(D54=5,135,IF(D54=6,100))))))) -> FALSE
A55: 41 | C55: PP | E55: =IF(C55="PP",IF(D55=1,300,IF(D55=2,230,IF(D55=3,200,IF(D55=4,170,IF(D55=5,135,IF(D55=6,100))))))) -> FALSE
... A58: 44 | C58: PP | E58: =IF(C58="PP",IF(D58=1,300,IF(D58=2,230,IF(D58=3,200,IF(D58=4,170,IF(D58=5,135,IF(D58=6,100))))))) -> FALSE
A59: 45 | C59: RS | E59: =IF(C59="RS",IF(D59=1,1000)) -> FALSE
A60: 46 | C60: RS | E60: =IF(C60="RS",IF(D60=1,1000)) -> FALSE
A61: 47 | C61: RP | E61: =IF(C61="RP",IF(D61=1,200)) -> FALSE
A62: 48 | C62: RP | E62: =IF(C62="RP",IF(D62=1,200)) -> FALSE
A63: 4.1 - punkty razem: | E63: =SUM(E15:E62) -> 2968
A65: 4.2 - punkty za organizację zawodów
A66: Lp | B66: Nazwa skrócona zorganizowanych zawodów (konkurencja, miejsce, data) | C66: Wpisz 1 (w poz. 3-7, liczba może być większa) | D66: Ilość pkt za 1 zorganizowaną imprezę | E66: Pktunkty do współzawodnictwa
A67: 1 | B67: Mistrzostwa Świata FAI | D67: M | E67: =IF(D67="M",IF(C67=1,3000)) -> FALSE
A68: 2 | B68: Mistrzostwa Europy FAI | D68: M | E68: =IF(D68="M",IF(C68=1,2500)) -> FALSE
A69: 3 | B69: Zawody zaliczane do Pucharu Świata FAI lub otwarte zawody międzynarodowe | D69: 1500 | E69: =PRODUCT(C69*D69) -> 0
A70: 4 | B70: Mistrzostwa Polski | D70: 1000 | E70: =PRODUCT(C70*D70) -> 0
A71: 5 | B71: Ogólnopolskie Zawody zaliczane do Pucharu Polski | C71: 2 | D71: 500 | E71: =PRODUCT(C71*D71) -> 1000
A72: 6 | B72: Zgrupowanie / Konsultacje KN | D72: 300 | E72: =PRODUCT(C72*D72) -> 0
A73: 7 | B73: Zawody klubowe, międzyklubowe, regionalne, itp. – ujęte w Kalendarzu imprez KS dla Juniorów lub Seniorów w konkurencji mistrzowskiej z udziałem min. 10 zawodników | D73: 200 | E73: =PRODUCT(C73*D73) -> 0
A74: 4.2 - punkty razem: | E74: =SUM(E67:E73) -> 1000
A76: Współzawodnictwo w konkurencjach niemistrzowskich SPORT POWSZECHNY i POPULARYZACJA
A78: 4.3 - punkty za efektywność szkolenia podstawowego
A79: Lp | B79: Organizacja przez KS zawodów modelarskich dla dzieci i młodzieży oraz udział zawodników KS w mistrzostwach Polski: | C79: Liczba sklasyfikowanych zawodników | D79: Ilość pkt za 1 sklas. zawodn. | E79: Pktunkty do współzawodnictwa
A80: 1 | B80: Zawody Młodzi Modelarze–Lotnicy na Start dla juniorów młodszych (organizacja) | C80: 20 | D80: 20 | E80: =PRODUCT(C80*D80) -> 400
A81: 2 | B81: Zawody Latawcowe dla młodzików (organizacja) | D81: 20 | E81: =PRODUCT(C81*D81) -> 0
A82: 3 | B82: Zawody balonów na ogrzane powietrze dla młodzików (organizacja) | D82: 20 | E82: =PRODUCT(C82*D82) -> 0
A83: 4 | B83: Zawody modeli halowych dla młodzików F1N/M, A6/M, ROOKIE (organizacja) | C83: 15 | D83: 20 | E83: =PRODUCT(C83*D83) -> 300
A84: 5 | B84: Finał Regionalny Konkursu Młodych Artystów FAI (organizacja) | D84: 20 | E84: =PRODUCT(C84*D84) -> 0
A85: 6 | B85: Udział zawodników KS w Mistrzostwach Polski Młodzików lub Juniorów Młodszych | D85: 100 | E85: =PRODUCT(C85*D85) -> 0
A86: 7 | B86: Udział zawodników KS w Finale Ogólnopolskim Konkursu Młodych Artystów FAI | D86: 50 | E86: =PRODUCT(C86*D86) -> 0
A87: 4.3 - punkty razem: | E87: =SUM(E80:E86) -> 700
A89: 4.4 - punkty za miejsca w zawodach i konkursach oraz rekordy zawodników
A90: Lp | B90: Imię i Nazwisko zawodnika (nazwa skrócona, miejsce i data imprezy) | C90: Rodzaj zawodów | D90: Miejsce (wpisz liczbę 1-6) | E90: Pktunkty do współzawodnictwa
A91: 1 | C91: PS | E91: =IF(C91="PS",IF(D91=1,800,IF(D91=2,630,IF(D91=3,530,IF(D91=4,450,IF(D91=5,360,IF(D91=6,270))))))) -> FALSE
A92: 2 | C92: PS | E92: =IF(C92="PS",IF(D92=1,800,IF(D92=2,630,IF(D92=3,530,IF(D92=4,450,IF(D92=5,360,IF(D92=6,270))))))) -> FALSE
A93: 3 | C93: MP | E93: =IF(C93="MP",IF(D93=1,200,IF(D93=2,160,IF(D93=3,130,IF(D93=4,110,IF(D93=5,90,IF(D93=6,70))))))) -> FALSE
A94: 4 | C94: MP | E94: =IF(C94="MP",IF(D94=1,200,IF(D94=2,160,IF(D94=3,130,IF(D94=4,110,IF(D94=5,90,IF(D94=6,70))))))) -> FALSE
A95: 5 | C95: MP | E95: =IF(C95="MP",IF(D95=1,200,IF(D95=2,160,IF(D95=3,130,IF(D95=4,110,IF(D95=5,90,IF(D95=6,70))))))) -> FALSE
A96: 6 | C96: MP | E96: =IF(C96="MP",IF(D96=1,200,IF(D96=2,160,IF(D96=3,130,IF(D96=4,110,IF(D96=5,90,IF(D96=6,70))))))) -> FALSE
A97: 7 | C97: MP | E97: =IF(C97="MP",IF(D97=1,200,IF(D97=2,160,IF(D97=3,130,IF(D97=4,110,IF(D97=5,90,IF(D97=6,70))))))) -> FALSE
A98: 8 | C98: MP | E98: =IF(C98="MP",IF(D98=1,200,IF(D98=2,160,IF(D98=3,130,IF(D98=4,110,IF(D98=5,90,IF(D98=6,70))))))) -> FALSE
A99: 9 | C99: MP | E99: =IF(C99="MP",IF(D99=1,200,IF(D99=2,160,IF(D99=3,130,IF(D99=4,110,IF(D99=5,90,IF(D99=6,70))))))) -> FALSE
A100: 10 | C100: MP | E100: =IF(C100="MP",IF(D100=1,200,IF(D100=2,160,IF(D100=3,130,IF(D100=4,110,IF(D100=5,90,IF(D100=6,70))))))) -> FALSE
A101: 11 | C101: MP | E101: =IF(C101="MP",IF(D101=1,200,IF(D101=2,160,IF(D101=3,130,IF(D101=4,110,IF(D101=5,90,IF(D101=6,70))))))) -> FALSE
A102: 12 | C102: MP | E102: =IF(C102="MP",IF(D102=1,200,IF(D102=2,160,IF(D102=3,130,IF(D102=4,110,IF(D102=5,90,IF(D102=6,70))))))) -> FALSE
A103: 13 | C103: MP | E103: =IF(C103="MP",IF(D103=1,200,IF(D103=2,160,IF(D103=3,130,IF(D103=4,110,IF(D103=5,90,IF(D103=6,70))))))) -> FALSE
A104: 14 | C104: MP | E104: =IF(C104="MP",IF(D104=1,200,IF(D104=2,160,IF(D104=3,130,IF(D104=4,110,IF(D104=5,90,IF(D104=6,70))))))) -> FALSE
... A112: 22 | C112: MP | E112: =IF(C112="MP",IF(D112=1,200,IF(D112=2,160,IF(D112=3,130,IF(D112=4,110,IF(D112=5,90,IF(D112=6,70))))))) -> FALSE
A113: 23 | C113: PP | E113: =IF(C113="PP",IF(D113=1,200,IF(D113=2,160,IF(D113=3,130,IF(D113=4,110,IF(D113=5,90,IF(D113=6,70))))))) -> FALSE
A114: 24 | C114: PP | E114: =IF(C114="PP",IF(D114=1,200,IF(D114=2,160,IF(D114=3,130,IF(D114=4,110,IF(D114=5,90,IF(D114=6,70))))))) -> FALSE
A115: 25 | C115: PP | E115: =IF(C115="PP",IF(D115=1,200,IF(D115=2,160,IF(D115=3,130,IF(D115=4,110,IF(D115=5,90,IF(D115=6,70))))))) -> FALSE
A116: 26 | C116: PP | E116: =IF(C116="PP",IF(D116=1,200,IF(D116=2,160,IF(D116=3,130,IF(D116=4,110,IF(D116=5,90,IF(D116=6,70))))))) -> FALSE
A117: 27 | C117: PP | E117: =IF(C117="PP",IF(D117=1,200,IF(D117=2,160,IF(D117=3,130,IF(D117=4,110,IF(D117=5,90,IF(D117=6,70))))))) -> FALSE
A118: 28 | C118: PP | E118: =IF(C118="PP",IF(D118=1,200,IF(D118=2,160,IF(D118=3,130,IF(D118=4,110,IF(D118=5,90,IF(D118=6,70))))))) -> FALSE
A119: 29 | C119: PP | E119: =IF(C119="PP",IF(D119=1,200,IF(D119=2,160,IF(D119=3,130,IF(D119=4,110,IF(D119=5,90,IF(D119=6,70))))))) -> FALSE
A120: 30 | C120: PP | E120: =IF(C120="PP",IF(D120=1,200,IF(D120=2,160,IF(D120=3,130,IF(D120=4,110,IF(D120=5,90,IF(D120=6,70))))))) -> FALSE
A121: 31 | C121: PP | E121: =IF(C121="PP",IF(D121=1,200,IF(D121=2,160,IF(D121=3,130,IF(D121=4,110,IF(D121=5,90,IF(D121=6,70))))))) -> FALSE
A122: 32 | C122: PP | E122: =IF(C122="PP",IF(D122=1,200,IF(D122=2,160,IF(D122=3,130,IF(D122=4,110,IF(D122=5,90,IF(D122=6,70))))))) -> FALSE
A123: 33 | C123: PP | E123: =IF(C123="PP",IF(D123=1,200,IF(D123=2,160,IF(D123=3,130,IF(D123=4,110,IF(D123=5,90,IF(D123=6,70))))))) -> FALSE
A124: 34 | C124: PP | E124: =IF(C124="PP",IF(D124=1,200,IF(D124=2,160,IF(D124=3,130,IF(D124=4,110,IF(D124=5,90,IF(D124=6,70))))))) -> FALSE
... A127: 37 | C127: PP | E127: =IF(C127="PP",IF(D127=1,200,IF(D127=2,160,IF(D127=3,130,IF(D127=4,110,IF(D127=5,90,IF(D127=6,70))))))) -> FALSE
...

Sheet APSL
C1: Aeroklub Podkarpacki SL w Krośnie, 67/25
A8: Sprawozdanie z działalności klubu za rok 2025
A11: Współzawodnictwo w konkurencjach mistrzowskich - SPORT WYCZYNOWY
A13: 4.1 - punkty za miejsca w zawodach i rekordy zawodników
A14: Lp | B14: Imię i Nazwisko zawodnika (nazwa skrócona, miejsce i data imprezy) | C14: Rodzaj zawodów | D14: Miejsce (wpisz liczbę 1-6) | E14: Pktunkty do współzawodnictwa
A15: 1 | C15: M | E15: =IF(C15="M",IF(D15=1,1500,IF(D15=2,1170,IF(D15=3,1000,IF(D15=4,830,IF(D15=5,670,IF(D15=6,500))))))) -> FALSE
A16: 2 | C16: M | E16: =IF(C16="M",IF(D16=1,1500,IF(D16=2,1170,IF(D16=3,1000,IF(D16=4,830,IF(D16=5,670,IF(D16=6,500))))))) -> FALSE
A17: 3 | C17: M | E17: =IF(C17="M",IF(D17=1,1500,IF(D17=2,1170,IF(D17=3,1000,IF(D17=4,830,IF(D17=5,670,IF(D17=6,500))))))) -> FALSE
A18: 4 | C18: M | E18: =IF(C18="M",IF(D18=1,1500,IF(D18=2,1170,IF(D18=3,1000,IF(D18=4,830,IF(D18=5,670,IF(D18=6,500))))))) -> FALSE
A19: 5 | C19: Md | E19: =IF(C19="Md",IF(D19=1,500,IF(D19=2,390,IF(D19=3,333,)))) -> 0
A20: 6 | C20: Md | E20: =IF(C20="Md",IF(D20=1,500,IF(D20=2,390,IF(D20=3,333,)))) -> 0
A21: 7 | C21: Md | E21: =IF(C21="Md",IF(D21=1,500,IF(D21=2,390,IF(D21=3,333,)))) -> 0
A22: 8 | C22: Md | E22: =IF(C22="Md",IF(D22=1,500,IF(D22=2,390,IF(D22=3,333,)))) -> 0
A23: 9 | C23: Md | E23: =IF(C23="Md",IF(D23=1,500,IF(D23=2,390,IF(D23=3,333,)))) -> 0
A24: 10 | B24: Michał Śliwiński (MP MSL F1ABCQ - Kietrz 30.08.2025) | C24: MP | D24: 4 | E24: =IF(C24="MP",IF(D24=1,300,IF(D24=2,230,IF(D24=3,200,IF(D24=4,170,IF(D24=5,135,IF(D24=6,100))))))) -> 170
A25: 11 | B25: Michał Słyś (MP MSL F1ABCQ - Kietrz 30.08.2025) | C25: MP | D25: 5 | E25: =IF(C25="MP",IF(D25=1,300,IF(D25=2,230,IF(D25=3,200,IF(D25=4,170,IF(D25=5,135,IF(D25=6,100))))))) -> 135
A26: 12 | C26: MP | E26: =IF(C26="MP",IF(D26=1,300,IF(D26=2,230,IF(D26=3,200,IF(D26=4,170,IF(D26=5,135,IF(D26=6,100))))))) -> FALSE
A27: 13 | C27: MP | E27: =IF(C27="MP",IF(D27=1,300,IF(D27=2,230,IF(D27=3,200,IF(D27=4,170,IF(D27=5,135,IF(D27=6,100))))))) -> FALSE
A28: 14 | C28: MP | E28: =IF(C28="MP",IF(D28=1,300,IF(D28=2,230,IF(D28=3,200,IF(D28=4,170,IF(D28=5,135,IF(D28=6,100))))))) -> FALSE
A29: 15 | C29: MP | E29: =IF(C29="MP",IF(D29=1,300,IF(D29=2,230,IF(D29=3,200,IF(D29=4,170,IF(D29=5,135,IF(D29=6,100))))))) -> FALSE
A30: 16 | C30: MP | E30: =IF(C30="MP",IF(D30=1,300,IF(D30=2,230,IF(D30=3,200,IF(D30=4,170,IF(D30=5,135,IF(D30=6,100))))))) -> FALSE
A31: 17 | C31: MP | E31: =IF(C31="MP",IF(D31=1,300,IF(D31=2,230,IF(D31=3,200,IF(D31=4,170,IF(D31=5,135,IF(D31=6,100))))))) -> FALSE
A32: 18 | C32: MP | E32: =IF(C32="MP",IF(D32=1,300,IF(D32=2,230,IF(D32=3,200,IF(D32=4,170,IF(D32=5,135,IF(D32=6,100))))))) -> FALSE
A33: 19 | C33: MP | E33: =IF(C33="MP",IF(D33=1,300,IF(D33=2,230,IF(D33=3,200,IF(D33=4,170,IF(D33=5,135,IF(D33=6,100))))))) -> FALSE
A34: 20 | C34: MP | E34: =IF(C34="MP",IF(D34=1,300,IF(D34=2,230,IF(D34=3,200,IF(D34=4,170,IF(D34=5,135,IF(D34=6,100))))))) -> FALSE
A35: 21 | C35: MP | E35: =IF(C35="MP",IF(D35=1,300,IF(D35=2,230,IF(D35=3,200,IF(D35=4,170,IF(D35=5,135,IF(D35=6,100))))))) -> FALSE
A36: 22 | C36: MP | E36: =IF(C36="MP",IF(D36=1,300,IF(D36=2,230,IF(D36=3,200,IF(D36=4,170,IF(D36=5,135,IF(D36=6,100))))))) -> FALSE
A37: 23 | C37: MP | E37: =IF(C37="MP",IF(D37=1,300,IF(D37=2,230,IF(D37=3,200,IF(D37=4,170,IF(D37=5,135,IF(D37=6,100))))))) -> FALSE
... A43: 29 | C43: MP | E43: =IF(C43="MP",IF(D43=1,300,IF(D43=2,230,IF(D43=3,200,IF(D43=4,170,IF(D43=5,135,IF(D43=6,100))))))) -> FALSE
A44: 30 | C44: PP | E44: =IF(C44="PP",IF(D44=1,300,IF(D44=2,230,IF(D44=3,200,IF(D44=4,170,IF(D44=5,135,IF(D44=6,100))))))) -> FALSE
A45: 31 | C45: PP | E45: =IF(C45="PP",IF(D45=1,300,IF(D45=2,230,IF(D45=3,200,IF(D45=4,170,IF(D45=5,135,IF(D45=6,100))))))) -> FALSE
A46: 32 | C46: PP | E46: =IF(C46="PP",IF(D46=1,300,IF(D46=2,230,IF(D46=3,200,IF(D46=4,170,IF(D46=5,135,IF(D46=6,100))))))) -> FALSE
A47: 33 | C47: PP | E47: =IF(C47="PP",IF(D47=1,300,IF(D47=2,230,IF(D47=3,200,IF(D47=4,170,IF(D47=5,135,IF(D47=6,100))))))) -> FALSE
A48: 34 | C48: PP | E48: =IF(C48="PP",IF(D48=1,300,IF(D48=2,230,IF(D48=3,200,IF(D48=4,170,IF(D48=5,135,IF(D48=6,100))))))) -> FALSE
A49: 35 | C49: PP | E49: =IF(C49="PP",IF(D49=1,300,IF(D49=2,230,IF(D49=3,200,IF(D49=4,170,IF(D49=5,135,IF(D49=6,100))))))) -> FALSE
A50: 36 | C50: PP | E50: =IF(C50="PP",IF(D50=1,300,IF(D50=2,230,IF(D50=3,200,IF(D50=4,170,IF(D50=5,135,IF(D50=6,100))))))) -> FALSE
A51: 37 | C51: PP | E51: =IF(C51="PP",IF(D51=1,300,IF(D51=2,230,IF(D51=3,200,IF(D51=4,170,IF(D51=5,135,IF(D51=6,100))))))) -> FALSE
A52: 38 | C52: PP | E52: =IF(C52="PP",IF(D52=1,300,IF(D52=2,230,IF(D52=3,200,IF(D52=4,170,IF(D52=5,135,IF(D52=6,100))))))) -> FALSE
A53: 39 | C53: PP | E53: =IF(C53="PP",IF(D53=1,300,IF(D53=2,230,IF(D53=3,200,IF(D53=4,170,IF(D53=5,135,IF(D53=6,100))))))) -> FALSE
A54: 40 | C54: PP | E54: =IF(C54="PP",IF(D54=1,300,IF(D54=2,230,IF(D54=3,200,IF(D54=4,170,IF(D54=5,135,IF(D54=6,100))))))) -> FALSE
A55: 41 | C55: PP | E55: =IF(C55="PP",IF(D55=1,300,IF(D55=2,230,IF(D55=3,200,IF(D55=4,170,IF(D55=5,135,IF(D55=6,100))))))) -> FALSE
... A58: 44 | C58: PP | E58: =IF(C58="PP",IF(D58=1,300,IF(D58=2,230,IF(D58=3,200,IF(D58=4,170,IF(D58=5,135,IF(D58=6,100))))))) -> FALSE
A59: 45 | C59: RS | E59: =IF(C59="RS",IF(D59=1,1000)) -> FALSE
A60: 46 | C60: RS | E60: =IF(C60="RS",IF(D60=1,1000)) -> FALSE
A61: 47 | C61: RP | E61: =IF(C61="RP",IF(D61=1,200)) -> FALSE
A62: 48 | C62: RP | E62: =IF(C62="RP",IF(D62=1,200)) -> FALSE
A63: 4.1 - punkty razem: | E63: =SUM(E15:E62) -> 305
A65: 4.2 - punkty za organizację zawodów
A66: Lp | B66: Nazwa skrócona zorganizowanych zawodów (konkurencja, miejsce, data) | C66: Wpisz 1 (w poz. 3-7, liczba może być większa) | D66: Ilość pkt za 1 zorganizowaną imprezę | E66: Pktunkty do współzawodnictwa
A67: 1 | B67: Mistrzostwa Świata FAI | D67: M | E67: =IF(D67="M",IF(C67=1,3000)) -> FALSE
A68: 2 | B68: Mistrzostwa Europy FAI | D68: M | E68: =IF(D68="M",IF(C68=1,2500)) -> FALSE
A69: 3 | B69: Zawody zaliczane do Pucharu Świata FAI lub otwarte zawody międzynarodowe | D69: 1500 | E69: =PRODUCT(C69*D69) -> 0
A70: 4 | B70: Mistrzostwa Polski | D70: 1000 | E70: =PRODUCT(C70*D70) -> 0
A71: 5 | B71: Zawody do Pucharu Polski F1ABCQ | Kietrz, 4-5.10.2025 | C71: 1 | D71: 500 | E71: =PRODUCT(C71*D71) -> 500
A72: 6 | B72: Zgrupowanie / Konsultacje KN | D72: 300 | E72: =PRODUCT(C72*D72) -> 0
A73: 7 | B73: Zawody klubowe, międzyklubowe, regionalne, itp. – ujęte w Kalendarzu imprez KS dla Juniorów lub Seniorów w konkurencji mistrzowskiej z udziałem min. 10 zawodników | D73: 200 | E73: =PRODUCT(C73*D73) -> 0
A74: 4.2 - punkty razem: | E74: =SUM(E67:E73) -> 500
A76: Współzawodnictwo w konkurencjach niemistrzowskich SPORT POWSZECHNY i POPULARYZACJA
A78: 4.3 - punkty za efektywność szkolenia podstawowego
A79: Lp | B79: Organizacja przez KS zawodów modelarskich dla dzieci i młodzieży oraz udział zawodników KS w mistrzostwach Polski: | C79: Liczba sklasyfikowanych zawodników | D79: Ilość pkt za 1 sklas. zawodn. | E79: Pktunkty do współzawodnictwa
A80: 1 | B80: Zawody Młodzi Modelarze–Lotnicy na Start dla juniorów młodszych (organizacja) | D80: 20 | E80: =PRODUCT(C80*D80) -> 0
A81: 2 | B81: Zawody Latawcowe dla młodzików (organizacja) | D81: 20 | E81: =PRODUCT(C81*D81) -> 0
A82: 3 | B82: Zawody balonów na ogrzane powietrze dla młodzików (organizacja) | D82: 20 | E82: =PRODUCT(C82*D82) -> 0
A83: 4 | B83: Zawody modeli halowych dla młodzików F1N/M, A6/M, ROOKIE (organizacja) | D83: 20 | E83: =PRODUCT(C83*D83) -> 0
A84: 5 | B84: Finał Regionalny Konkursu Młodych Artystów FAI (organizacja) | D84: 20 | E84: =PRODUCT(C84*D84) -> 0
A85: 6 | B85: Udział zawodników KS w Mistrzostwach Polski Młodzików lub Juniorów Młodszych | D85: 100 | E85: =PRODUCT(C85*D85) -> 0
A86: 7 | B86: Udział zawodników KS w Finale Ogólnopolskim Konkursu Młodych Artystów FAI | D86: 50 | E86: =PRODUCT(C86*D86) -> 0
A87: 4.3 - punkty razem: | E87: =SUM(E80:E86) -> 0
A89: 4.4 - punkty za miejsca w zawodach i konkursach oraz rekordy zawodników
A90: Lp | B90: Imię i Nazwisko zawodnika (nazwa skrócona, miejsce i data imprezy) | C90: Rodzaj zawodów | D90: Miejsce (wpisz liczbę 1-6) | E90: Pktunkty do współzawodnictwa
A91: 1 | C91: PS | E91: =IF(C91="PS",IF(D91=1,800,IF(D91=2,630,IF(D91=3,530,IF(D91=4,450,IF(D91=5,360,IF(D91=6,270))))))) -> FALSE
A92: 2 | C92: PS | E92: =IF(C92="PS",IF(D92=1,800,IF(D92=2,630,IF(D92=3,530,IF(D92=4,450,IF(D92=5,360,IF(D92=6,270))))))) -> FALSE
A93: 3 | B93: Henryk Krupa (MP MFiLS F1H - Gliwice 11.10.2025) | C93: MP | D93: 2 | E93: =IF(C93="MP",IF(D93=1,200,IF(D93=2,160,IF(D93=3,130,IF(D93=4,110,IF(D93=5,90,IF(D93=6,70))))))) -> 160
A94: 4 | B94: Henryk Krupa (MP F1A Std - Piła 28.06.2025) | C94: MP | D94: 2 | E94: =IF(C94="MP",IF(D94=1,200,IF(D94=2,160,IF(D94=3,130,IF(D94=4,110,IF(D94=5,90,IF(D94=6,70))))))) -> 160
A95: 5 | C95: MP | E95: =IF(C95="MP",IF(D95=1,200,IF(D95=2,160,IF(D95=3,130,IF(D95=4,110,IF(D95=5,90,IF(D95=6,70))))))) -> FALSE
A96: 6 | C96: MP | E96: =IF(C96="MP",IF(D96=1,200,IF(D96=2,160,IF(D96=3,130,IF(D96=4,110,IF(D96=5,90,IF(D96=6,70))))))) -> FALSE
A97: 7 | C97: MP | E97: =IF(C97="MP",IF(D97=1,200,IF(D97=2,160,IF(D97=3,130,IF(D97=4,110,IF(D97=5,90,IF(D97=6,70))))))) -> FALSE
A98: 8 | C98: MP | E98: =IF(C98="MP",IF(D98=1,200,IF(D98=2,160,IF(D98=3,130,IF(D98=4,110,IF(D98=5,90,IF(D98=6,70))))))) -> FALSE
A99: 9 | C99: MP | E99: =IF(C99="MP",IF(D99=1,200,IF(D99=2,160,IF(D99=3,130,IF(D99=4,110,IF(D99=5,90,IF(D99=6,70))))))) -> FALSE
A100: 10 | C100: MP | E100: =IF(C100="MP",IF(D100=1,200,IF(D100=2,160,IF(D100=3,130,IF(D100=4,110,IF(D100=5,90,IF(D100=6,70))))))) -> FALSE
A101: 11 | C101: MP | E101: =IF(C101="MP",IF(D101=1,200,IF(D101=2,160,IF(D101=3,130,IF(D101=4,110,IF(D101=5,90,IF(D101=6,70))))))) -> FALSE
A102: 12 | C102: MP | E102: =IF(C102="MP",IF(D102=1,200,IF(D102=2,160,IF(D102=3,130,IF(D102=4,110,IF(D102=5,90,IF(D102=6,70))))))) -> FALSE
A103: 13 | C103: MP | E103: =IF(C103="MP",IF(D103=1,200,IF(D103=2,160,IF(D103=3,130,IF(D103=4,110,IF(D103=5,90,IF(D103=6,70))))))) -> FALSE
A104: 14 | C104: MP | E104: =IF(C104="MP",IF(D104=1,200,IF(D104=2,160,IF(D104=3,130,IF(D104=4,110,IF(D104=5,90,IF(D104=6,70))))))) -> FALSE
A105: 15 | C105: MP | E105: =IF(C105="MP",IF(D105=1,200,IF(D105=2,160,IF(D105=3,130,IF(D105=4,110,IF(D105=5,90,IF(D105=6,70))))))) -> FALSE
A106: 16 | C106: MP | E106: =IF(C106="MP",IF(D106=1,200,IF(D106=2,160,IF(D106=3,130,IF(D106=4,110,IF(D106=5,90,IF(D106=6,70))))))) -> FALSE
... A112: 22 | C112: MP | E112: =IF(C112="MP",IF(D112=1,200,IF(D112=2,160,IF(D112=3,130,IF(D112=4,110,IF(D112=5,90,IF(D112=6,70))))))) -> FALSE
A113: 23 | C113: PP | E113: =IF(C113="PP",IF(D113=1,200,IF(D113=2,160,IF(D113=3,130,IF(D113=4,110,IF(D113=5,90,IF(D113=6,70))))))) -> FALSE
A114: 24 | C114: PP | E114: =IF(C114="PP",IF(D114=1,200,IF(D114=2,160,IF(D114=3,130,IF(D114=4,110,IF(D114=5,90,IF(D114=6,70))))))) -> FALSE
A115: 25 | C115: PP | E115: =IF(C115="PP",IF(D115=1,200,IF(D115=2,160,IF(D115=3,130,IF(D115=4,110,IF(D115=5,90,IF(D115=6,70))))))) -> FALSE
A116: 26 | C116: PP | E116: =IF(C116="PP",IF(D116=1,200,IF(D116=2,160,IF(D116=3,130,IF(D116=4,110,IF(D116=5,90,IF(D116=6,70))))))) -> FALSE
A117: 27 | C117: PP | E117: =IF(C117="PP",IF(D117=1,200,IF(D117=2,160,IF(D117=3,130,IF(D117=4,110,IF(D117=5,90,IF(D117=6,70))))))) -> FALSE
A118: 28 | C118: PP | E118: =IF(C118="PP",IF(D118=1,200,IF(D118=2,160,IF(D118=3,130,IF(D118=4,110,IF(D118=5,90,IF(D118=6,70))))))) -> FALSE
A119: 29 | C119: PP | E119: =IF(C119="PP",IF(D119=1,200,IF(D119=2,160,IF(D119=3,130,IF(D119=4,110,IF(D119=5,90,IF(D119=6,70))))))) -> FALSE
A120: 30 | C120: PP | E120: =IF(C120="PP",IF(D120=1,200,IF(D120=2,160,IF(D120=3,130,IF(D120=4,110,IF(D120=5,90,IF(D120=6,70))))))) -> FALSE
A121: 31 | C121: PP | E121: =IF(C121="PP",IF(D121=1,200,IF(D121=2,160,IF(D121=3,130,IF(D121=4,110,IF(D121=5,90,IF(D121=6,70))))))) -> FALSE
A122: 32 | C122: PP | E122: =IF(C122="PP",IF(D122=1,200,IF(D122=2,160,IF(D122=3,130,IF(D122=4,110,IF(D122=5,90,IF(D122=6,70))))))) -> FALSE
A123: 33 | C123: PP | E123: =IF(C123="PP",IF(D123=1,200,IF(D123=2,160,IF(D123=3,130,IF(D123=4,110,IF(D123=5,90,IF(D123=6,70))))))) -> FALSE
A124: 34 | C124: PP | E124: =IF(C124="PP",IF(D124=1,200,IF(D124=2,160,IF(D124=3,130,IF(D124=4,110,IF(D124=5,90,IF(D124=6,70))))))) -> FALSE
... A127: 37 | C127: PP | E127: =IF(C127="PP",IF(D127=1,200,IF(D127=2,160,IF(D127=3,130,IF(D127=4,110,IF(D127=5,90,IF(D127=6,70))))))) -> FALSE
...

Sheet ŁASK
C1: Klub Modelarstwa LiK ŁDK w Łasku 35/25
A8: Sprawozdanie z działalności klubu za rok 2025
A11: Współzawodnictwo w konkurencjach mistrzowskich - SPORT WYCZYNOWY
A13: 4.1 - punkty za miejsca w zawodach i rekordy zawodników
A14: Lp | B14: Imię i Nazwisko zawodnika (nazwa skrócona, miejsce i data imprezy) | C14: Rodzaj zawodów | D14: Miejsce (wpisz liczbę 1-6) | E14: Pktunkty do współzawodnictwa
A15: 1 | C15: M | E15: =IF(C15="M",IF(D15=1,1500,IF(D15=2,1170,IF(D15=3,1000,IF(D15=4,830,IF(D15=5,670,IF(D15=6,500))))))) -> FALSE
A16: 2 | C16: M | E16: =IF(C16="M",IF(D16=1,1500,IF(D16=2,1170,IF(D16=3,1000,IF(D16=4,830,IF(D16=5,670,IF(D16=6,500))))))) -> FALSE
A17: 3 | C17: M | E17: =IF(C17="M",IF(D17=1,1500,IF(D17=2,1170,IF(D17=3,1000,IF(D17=4,830,IF(D17=5,670,IF(D17=6,500))))))) -> FALSE
A18: 4 | C18: M | E18: =IF(C18="M",IF(D18=1,1500,IF(D18=2,1170,IF(D18=3,1000,IF(D18=4,830,IF(D18=5,670,IF(D18=6,500))))))) -> FALSE
A19: 5 | C19: Md | E19: =IF(C19="Md",IF(D19=1,500,IF(D19=2,390,IF(D19=3,333,)))) -> 0
A20: 6 | C20: Md | E20: =IF(C20="Md",IF(D20=1,500,IF(D20=2,390,IF(D20=3,333,)))) -> 0
A21: 7 | C21: Md | E21: =IF(C21="Md",IF(D21=1,500,IF(D21=2,390,IF(D21=3,333,)))) -> 0
A22: 8 | C22: Md | E22: =IF(C22="Md",IF(D22=1,500,IF(D22=2,390,IF(D22=3,333,)))) -> 0
A23: 9 | C23: Md | E23: =IF(C23="Md",IF(D23=1,500,IF(D23=2,390,IF(D23=3,333,)))) -> 0
A24: 10 | B24: Andrzej Westwal F4G Michałków 18-21.09 | C24: MP | E24: =IF(C24="MP",IF(D24=1,300,IF(D24=2,230,IF(D24=3,200,IF(D24=4,170,IF(D24=5,135,IF(D24=6,100))))))) -> FALSE
A25: 11 | C25: MP | E25: =IF(C25="MP",IF(D25=1,300,IF(D25=2,230,IF(D25=3,200,IF(D25=4,170,IF(D25=5,135,IF(D25=6,100))))))) -> FALSE
A26: 12 | C26: MP | E26: =IF(C26="MP",IF(D26=1,300,IF(D26=2,230,IF(D26=3,200,IF(D26=4,170,IF(D26=5,135,IF(D26=6,100))))))) -> FALSE
A27: 13 | C27: MP | E27: =IF(C27="MP",IF(D27=1,300,IF(D27=2,230,IF(D27=3,200,IF(D27=4,170,IF(D27=5,135,IF(D27=6,100))))))) -> FALSE
A28: 14 | C28: MP | E28: =IF(C28="MP",IF(D28=1,300,IF(D28=2,230,IF(D28=3,200,IF(D28=4,170,IF(D28=5,135,IF(D28=6,100))))))) -> FALSE
A29: 15 | C29: MP | E29: =IF(C29="MP",IF(D29=1,300,IF(D29=2,230,IF(D29=3,200,IF(D29=4,170,IF(D29=5,135,IF(D29=6,100))))))) -> FALSE
A30: 16 | C30: MP | E30: =IF(C30="MP",IF(D30=1,300,IF(D30=2,230,IF(D30=3,200,IF(D30=4,170,IF(D30=5,135,IF(D30=6,100))))))) -> FALSE
A31: 17 | C31: MP | E31: =IF(C31="MP",IF(D31=1,300,IF(D31=2,230,IF(D31=3,200,IF(D31=4,170,IF(D31=5,135,IF(D31=6,100))))))) -> FALSE
A32: 18 | C32: MP | E32: =IF(C32="MP",IF(D32=1,300,IF(D32=2,230,IF(D32=3,200,IF(D32=4,170,IF(D32=5,135,IF(D32=6,100))))))) -> FALSE
A33: 19 | C33: MP | E33: =IF(C33="MP",IF(D33=1,300,IF(D33=2,230,IF(D33=3,200,IF(D33=4,170,IF(D33=5,135,IF(D33=6,100))))))) -> FALSE
A34: 20 | C34: MP | E34: =IF(C34="MP",IF(D34=1,300,IF(D34=2,230,IF(D34=3,200,IF(D34=4,170,IF(D34=5,135,IF(D34=6,100))))))) -> FALSE
A35: 21 | C35: MP | E35: =IF(C35="MP",IF(D35=1,300,IF(D35=2,230,IF(D35=3,200,IF(D35=4,170,IF(D35=5,135,IF(D35=6,100))))))) -> FALSE
A36: 22 | C36: MP | E36: =IF(C36="MP",IF(D36=1,300,IF(D36=2,230,IF(D36=3,200,IF(D36=4,170,IF(D36=5,135,IF(D36=6,100))))))) -> FALSE
... A43: 29 | C43: MP | E43: =IF(C43="MP",IF(D43=1,300,IF(D43=2,230,IF(D43=3,200,IF(D43=4,170,IF(D43=5,135,IF(D43=6,100))))))) -> FALSE
A44: 30 | B44: Andrzej Westwal F4G Michałków 5-8.06 | C44: PP | E44: =IF(C44="PP",IF(D44=1,300,IF(D44=2,230,IF(D44=3,200,IF(D44=4,170,IF(D44=5,135,IF(D44=6,100))))))) -> FALSE
A45: 31 | B45: Ryszard Miśkiewicz F3F Memoriał Jana Ochmana Jeziorsko 31.05 | C45: PP | E45: =IF(C45="PP",IF(D45=1,300,IF(D45=2,230,IF(D45=3,200,IF(D45=4,170,IF(D45=5,135,IF(D45=6,100))))))) -> FALSE
A46: 32 | B46: Andrzej Westwal F4G Jeziorna Osada 29-31.09 | C46: PP | E46: =IF(C46="PP",IF(D46=1,300,IF(D46=2,230,IF(D46=3,200,IF(D46=4,170,IF(D46=5,135,IF(D46=6,100))))))) -> FALSE
A47: 33 | B47: Ryszard Miśkiewicz F3F Jeziorsko 26.10 | C47: PP | E47: =IF(C47="PP",IF(D47=1,300,IF(D47=2,230,IF(D47=3,200,IF(D47=4,170,IF(D47=5,135,IF(D47=6,100))))))) -> FALSE
A48: 34 | C48: PP | E48: =IF(C48="PP",IF(D48=1,300,IF(D48=2,230,IF(D48=3,200,IF(D48=4,170,IF(D48=5,135,IF(D48=6,100))))))) -> FALSE
A49: 35 | C49: PP | E49: =IF(C49="PP",IF(D49=1,300,IF(D49=2,230,IF(D49=3,200,IF(D49=4,170,IF(D49=5,135,IF(D49=6,100))))))) -> FALSE
A50: 36 | C50: PP | E50: =IF(C50="PP",IF(D50=1,300,IF(D50=2,230,IF(D50=3,200,IF(D50=4,170,IF(D50=5,135,IF(D50=6,100))))))) -> FALSE
A51: 37 | C51: PP | E51: =IF(C51="PP",IF(D51=1,300,IF(D51=2,230,IF(D51=3,200,IF(D51=4,170,IF(D51=5,135,IF(D51=6,100))))))) -> FALSE
A52: 38 | C52: PP | E52: =IF(C52="PP",IF(D52=1,300,IF(D52=2,230,IF(D52=3,200,IF(D52=4,170,IF(D52=5,135,IF(D52=6,100))))))) -> FALSE
A53: 39 | C53: PP | E53: =IF(C53="PP",IF(D53=1,300,IF(D53=2,230,IF(D53=3,200,IF(D53=4,170,IF(D53=5,135,IF(D53=6,100))))))) -> FALSE
A54: 40 | C54: PP | E54: =IF(C54="PP",IF(D54=1,300,IF(D54=2,230,IF(D54=3,200,IF(D54=4,170,IF(D54=5,135,IF(D54=6,100))))))) -> FALSE
A55: 41 | C55: PP | E55: =IF(C55="PP",IF(D55=1,300,IF(D55=2,230,IF(D55=3,200,IF(D55=4,170,IF(D55=5,135,IF(D55=6,100))))))) -> FALSE
A56: 42 | C56: PP | E56: =IF(C56="PP",IF(D56=1,300,IF(D56=2,230,IF(D56=3,200,IF(D56=4,170,IF(D56=5,135,IF(D56=6,100))))))) -> FALSE
A57: 43 | C57: PP | E57: =IF(C57="PP",IF(D57=1,300,IF(D57=2,230,IF(D57=3,200,IF(D57=4,170,IF(D57=5,135,IF(D57=6,100))))))) -> FALSE
A58: 44 | C58: PP | E58: =IF(C58="PP",IF(D58=1,300,IF(D58=2,230,IF(D58=3,200,IF(D58=4,170,IF(D58=5,135,IF(D58=6,100))))))) -> FALSE
A59: 45 | C59: RS | E59: =IF(C59="RS",IF(D59=1,1000)) -> FALSE
A60: 46 | C60: RS | E60: =IF(C60="RS",IF(D60=1,1000)) -> FALSE
A61: 47 | C61: RP | E61: =IF(C61="RP",IF(D61=1,200)) -> FALSE
A62: 48 | C62: RP | E62: =IF(C62="RP",IF(D62=1,200)) -> FALSE
A63: 4.1 - punkty razem: | E63: =SUM(E15:E62) -> 0
A65: 4.2 - punkty za organizację zawodów
A66: Lp | B66: Nazwa skrócona zorganizowanych zawodów (konkurencja, miejsce, data) | C66: Wpisz 1 (w poz. 3-7, liczba może być większa) | D66: Ilość pkt za 1 zorganizowaną imprezę | E66: Pktunkty do współzawodnictwa
A67: 1 | B67: Mistrzostwa Świata FAI | D67: M | E67: =IF(D67="M",IF(C67=1,3000)) -> FALSE
A68: 2 | B68: Mistrzostwa Europy FAI | D68: M | E68: =IF(D68="M",IF(C68=1,2500)) -> FALSE
A69: 3 | B69: Zawody zaliczane do Pucharu Świata FAI lub otwarte zawody międzynarodowe | D69: 1500 | E69: =PRODUCT(C69*D69) -> 0
A70: 4 | B70: Mistrzostwa Polski | D70: 1000 | E70: =PRODUCT(C70*D70) -> 0
A71: 5 | B71: Ogólnopolskie Zawody zaliczane do Pucharu Polski | D71: 500 | E71: =PRODUCT(C71*D71) -> 0
A72: 6 | B72: Zgrupowanie / Konsultacje KN | D72: 300 | E72: =PRODUCT(C72*D72) -> 0
A73: 7 | B73: Zawody klubowe, międzyklubowe, regionalne, itp. – ujęte w Kalendarzu imprez KS dla Juniorów lub Seniorów w konkurencji mistrzowskiej z udziałem min. 10 zawodników | D73: 200 | E73: =PRODUCT(C73*D73) -> 0
A74: 4.2 - punkty razem: | E74: =SUM(E67:E73) -> 0
A76: Współzawodnictwo w konkurencjach niemistrzowskich SPORT POWSZECHNY i POPULARYZACJA
A78: 4.3 - punkty za efektywność szkolenia podstawowego
A79: Lp | B79: Organizacja przez KS zawodów modelarskich dla dzieci i młodzieży oraz udział zawodników KS w mistrzostwach Polski: | C79: Liczba sklasyfikowanych zawodników | D79: Ilość pkt za 1 sklas. zawodn. | E79: Pktunkty do współzawodnictwa
A80: 1 | B80: Zawody Młodzi Modelarze–Lotnicy na Start dla juniorów młodszych (organizacja) | D80: 20 | E80: =PRODUCT(C80*D80) -> 0
A81: 2 | B81: Zawody Latawcowe dla młodzików (organizacja) | D81: 20 | E81: =PRODUCT(C81*D81) -> 0
A82: 3 | B82: Zawody balonów na ogrzane powietrze dla młodzików (organizacja) | D82: 20 | E82: =PRODUCT(C82*D82) -> 0
A83: 4 | B83: Zawody modeli halowych dla młodzików F1N/M, A6/M, ROOKIE (organizacja) | D83: 20 | E83: =PRODUCT(C83*D83) -> 0
A84: 5 | B84: Finał Regionalny Konkursu Młodych Artystów FAI (organizacja) | D84: 20 | E84: =PRODUCT(C84*D84) -> 0
A85: 6 | B85: Udział zawodników KS w Mistrzostwach Polski Młodzików lub Juniorów Młodszych | C85: 9 | D85: 100 | E85: =PRODUCT(C85*D85) -> 900
A86: 7 | B86: Udział zawodników KS w Finale Ogólnopolskim Konkursu Młodych Artystów FAI | C86: 4 | D86: 50 | E86: =PRODUCT(C86*D86) -> 200
A87: 4.3 - punkty razem: | E87: =SUM(E80:E86) -> 1100
A89: 4.4 - punkty za miejsca w zawodach i konkursach oraz rekordy zawodników
A90: Lp | B90: Imię i Nazwisko zawodnika (nazwa skrócona, miejsce i data imprezy) | C90: Rodzaj zawodów | D90: Miejsce (wpisz liczbę 1-6) | E90: Pktunkty do współzawodnictwa
A91: 1 | C91: PS | E91: =IF(C91="PS",IF(D91=1,800,IF(D91=2,630,IF(D91=3,530,IF(D91=4,450,IF(D91=5,360,IF(D91=6,270))))))) -> FALSE
A92: 2 | C92: PS | E92: =IF(C92="PS",IF(D92=1,800,IF(D92=2,630,IF(D92=3,530,IF(D92=4,450,IF(D92=5,360,IF(D92=6,270))))))) -> FALSE
A93: 3 | B93: Wojciech Zawlik - MP modeli balonów na ogrzane powietrze, Włocławek 29.03 | C93: MP | D93: 3 | E93: =IF(C93="MP",IF(D93=1,200,IF(D93=2,160,IF(D93=3,130,IF(D93=4,110,IF(D93=5,90,IF(D93=6,70))))))) -> 130
A94: 4 | B94: Andrzej Pikosz FLS Gliwice 11.10 | C94: MP | E94: =IF(C94="MP",IF(D94=1,200,IF(D94=2,160,IF(D94=3,130,IF(D94=4,110,IF(D94=5,90,IF(D94=6,70))))))) -> FALSE
A95: 5 | B95: Andrzej Westwal F4G Michałków 18-21.09 | C95: MP | D95: 2 | E95: =IF(C95="MP",IF(D95=1,200,IF(D95=2,160,IF(D95=3,130,IF(D95=4,110,IF(D95=5,90,IF(D95=6,70))))))) -> 160
A96: 6 | C96: MP | E96: =IF(C96="MP",IF(D96=1,200,IF(D96=2,160,IF(D96=3,130,IF(D96=4,110,IF(D96=5,90,IF(D96=6,70))))))) -> FALSE
A97: 7 | C97: MP | E97: =IF(C97="MP",IF(D97=1,200,IF(D97=2,160,IF(D97=3,130,IF(D97=4,110,IF(D97=5,90,IF(D97=6,70))))))) -> FALSE
A98: 8 | C98: MP | E98: =IF(C98="MP",IF(D98=1,200,IF(D98=2,160,IF(D98=3,130,IF(D98=4,110,IF(D98=5,90,IF(D98=6,70))))))) -> FALSE
A99: 9 | C99: MP | E99: =IF(C99="MP",IF(D99=1,200,IF(D99=2,160,IF(D99=3,130,IF(D99=4,110,IF(D99=5,90,IF(D99=6,70))))))) -> FALSE
A100: 10 | C100: MP | E100: =IF(C100="MP",IF(D100=1,200,IF(D100=2,160,IF(D100=3,130,IF(D100=4,110,IF(D100=5,90,IF(D100=6,70))))))) -> FALSE
A101: 11 | C101: MP | E101: =IF(C101="MP",IF(D101=1,200,IF(D101=2,160,IF(D101=3,130,IF(D101=4,110,IF(D101=5,90,IF(D101=6,70))))))) -> FALSE
A102: 12 | C102: MP | E102: =IF(C102="MP",IF(D102=1,200,IF(D102=2,160,IF(D102=3,130,IF(D102=4,110,IF(D102=5,90,IF(D102=6,70))))))) -> FALSE
A103: 13 | C103: MP | E103: =IF(C103="MP",IF(D103=1,200,IF(D103=2,160,IF(D103=3,130,IF(D103=4,110,IF(D103=5,90,IF(D103=6,70))))))) -> FALSE
A104: 14 | C104: MP | E104: =IF(C104="MP",IF(D104=1,200,IF(D104=2,160,IF(D104=3,130,IF(D104=4,110,IF(D104=5,90,IF(D104=6,70))))))) -> FALSE
A105: 15 | C105: MP | E105: =IF(C105="MP",IF(D105=1,200,IF(D105=2,160,IF(D105=3,130,IF(D105=4,110,IF(D105=5,90,IF(D105=6,70))))))) -> FALSE
A106: 16 | C106: MP | E106: =IF(C106="MP",IF(D106=1,200,IF(D106=2,160,IF(D106=3,130,IF(D106=4,110,IF(D106=5,90,IF(D106=6,70))))))) -> FALSE
A107: 17 | C107: MP | E107: =IF(C107="MP",IF(D107=1,200,IF(D107=2,160,IF(D107=3,130,IF(D107=4,110,IF(D107=5,90,IF(D107=6,70))))))) -> FALSE
... A112: 22 | C112: MP | E112: =IF(C112="MP",IF(D112=1,200,IF(D112=2,160,IF(D112=3,130,IF(D112=4,110,IF(D112=5,90,IF(D112=6,70))))))) -> FALSE
A113: 23 | B113: Andrzej Westwal - 2 m w klasyfikacji końcowej PP F4G | C113: PP | D113: 2 | E113: =IF(C113="PP",IF(D113=1,200,IF(D113=2,160,IF(D113=3,130,IF(D113=4,110,IF(D113=5,90,IF(D113=6,70))))))) -> 160
A114: 24 | B114: Ryszard Miśkiewicz, 5 m w klasyfikacji końcowa PP F4F | C114: PP | D114: 5 | E114: =IF(C114="PP",IF(D114=1,200,IF(D114=2,160,IF(D114=3,130,IF(D114=4,110,IF(D114=5,90,IF(D114=6,70))))))) -> 90
A115: 25 | C115: PP | E115: =IF(C115="PP",IF(D115=1,200,IF(D115=2,160,IF(D115=3,130,IF(D115=4,110,IF(D115=5,90,IF(D115=6,70))))))) -> FALSE
A116: 26 | C116: PP | E116: =IF(C116="PP",IF(D116=1,200,IF(D116=2,160,IF(D116=3,130,IF(D116=4,110,IF(D116=5,90,IF(D116=6,70))))))) -> FALSE
A117: 27 | C117: PP | E117: =IF(C117="PP",IF(D117=1,200,IF(D117=2,160,IF(D117=3,130,IF(D117=4,110,IF(D117=5,90,IF(D117=6,70))))))) -> FALSE
A118: 28 | C118: PP | E118: =IF(C118="PP",IF(D118=1,200,IF(D118=2,160,IF(D118=3,130,IF(D118=4,110,IF(D118=5,90,IF(D118=6,70))))))) -> FALSE
A119: 29 | C119: PP | E119: =IF(C119="PP",IF(D119=1,200,IF(D119=2,160,IF(D119=3,130,IF(D119=4,110,IF(D119=5,90,IF(D119=6,70))))))) -> FALSE
A120: 30 | C120: PP | E120: =IF(C120="PP",IF(D120=1,200,IF(D120=2,160,IF(D120=3,130,IF(D120=4,110,IF(D120=5,90,IF(D120=6,70))))))) -> FALSE
A121: 31 | C121: PP | E121: =IF(C121="PP",IF(D121=1,200,IF(D121=2,160,IF(D121=3,130,IF(D121=4,110,IF(D121=5,90,IF(D121=6,70))))))) -> FALSE
A122: 32 | C122: PP | E122: =IF(C122="PP",IF(D122=1,200,IF(D122=2,160,IF(D122=3,130,IF(D122=4,110,IF(D122=5,90,IF(D122=6,70))))))) -> FALSE
A123: 33 | C123: PP | E123: =IF(C123="PP",IF(D123=1,200,IF(D123=2,160,IF(D123=3,130,IF(D123=4,110,IF(D123=5,90,IF(D123=6,70))))))) -> FALSE
...

Sheet APO
C1: Aeroklub Poznański, nr LKS 25/25
A8: Sprawozdanie z działalności klubu za rok 2025
A11: Współzawodnictwo w konkurencjach mistrzowskich - SPORT WYCZYNOWY
A13: 4.1 - punkty za miejsca w zawodach i rekordy zawodników
A14: Lp | B14: Imię i Nazwisko zawodnika (nazwa skrócona, miejsce i data imprezy) | C14: Rodzaj zawodów | D14: Miejsce (wpisz liczbę 1-6) | E14: Pktunkty do współzawodnictwa
A15: 1 | B15: Marek MANDZIAK F1A junior (ME F1ABPQ juniorów Rumunia 2025) | C15: M | D15: 4 | E15: =IF(C15="M",IF(D15=1,1500,IF(D15=2,1170,IF(D15=3,1000,IF(D15=4,830,IF(D15=5,670,IF(D15=6,500))))))) -> 830
A16: 2 | C16: M | E16: =IF(C16="M",IF(D16=1,1500,IF(D16=2,1170,IF(D16=3,1000,IF(D16=4,830,IF(D16=5,670,IF(D16=6,500))))))) -> FALSE
A17: 3 | B17: Rafał WAGNER F1Q klasyfikacja końcowa Pucharu Świata 2025 | C17: M | D17: 6 | E17: =IF(C17="M",IF(D17=1,1500,IF(D17=2,1170,IF(D17=3,1000,IF(D17=4,830,IF(D17=5,670,IF(D17=6,500))))))) -> 500
A18: 4 | B18: Rafał WAGNER F1Q (MŚ F1ABCQ Rumunia 2025) | C18: M | D18: 5 | E18: =IF(C18="M",IF(D18=1,1500,IF(D18=2,1170,IF(D18=3,1000,IF(D18=4,830,IF(D18=5,670,IF(D18=6,500))))))) -> 670
A19: 5 | B19: Tomasz JEZIORNY F1A team (MŚ F1ABCQ Rumunia 2025) | C19: Md | E19: =IF(C19="Md",IF(D19=1,500,IF(D19=2,390,IF(D19=3,333,)))) -> 0
A20: 6 | B20: Marek MANDZIAK F1A team junior (ME F1ABPQ juniorów Rumunia 2025) | C20: Md | D20: 2 | E20: =IF(C20="Md",IF(D20=1,500,IF(D20=2,390,IF(D20=3,333,)))) -> 390
A21: 7 | B21: Jarosław JEZIORNY F1A team (MŚ F1ABCQ Rumunia 2025) | C21: Md | D21: 5 | E21: =IF(C21="Md",IF(D21=1,500,IF(D21=2,390,IF(D21=3,333,)))) -> 0
A22: 8 | C22: Md | E22: =IF(C22="Md",IF(D22=1,500,IF(D22=2,390,IF(D22=3,333,)))) -> 0
A23: 9 | C23: Md | E23: =IF(C23="Md",IF(D23=1,500,IF(D23=2,390,IF(D23=3,333,)))) -> 0
A24: 10 | B24: Tomasz JEZIORNY F1A (MP F1ABCQ Kietrz 2025) | C24: MP | D24: 1 | E24: =IF(C24="MP",IF(D24=1,300,IF(D24=2,230,IF(D24=3,200,IF(D24=4,170,IF(D24=5,135,IF(D24=6,100))))))) -> 300
A25: 11 | B25: Rafał WAGNER F1Q (MP F1ABCQ Kietrz 2025) | C25: MP | D25: 6 | E25: =IF(C25="MP",IF(D25=1,300,IF(D25=2,230,IF(D25=3,200,IF(D25=4,170,IF(D25=5,135,IF(D25=6,100))))))) -> 100
A26: 12 | B26: Marek MANDZIAK F1A (MP F1ABCQ Kietrz 2025) | C26: MP | D26: 2 | E26: =IF(C26="MP",IF(D26=1,300,IF(D26=2,230,IF(D26=3,200,IF(D26=4,170,IF(D26=5,135,IF(D26=6,100))))))) -> 230
A27: 13 | B27: Marek MANDZIAK F1A junior (MP F1ABPQ Piła 2025) | C27: MP | D27: 3 | E27: =IF(C27="MP",IF(D27=1,300,IF(D27=2,230,IF(D27=3,200,IF(D27=4,170,IF(D27=5,135,IF(D27=6,100))))))) -> 200
A28: 14 | B28: Marcel MANDZIAK F1A (MP F1ABCQ Kietrz 2025) | C28: MP | D28: 6 | E28: =IF(C28="MP",IF(D28=1,300,IF(D28=2,230,IF(D28=3,200,IF(D28=4,170,IF(D28=5,135,IF(D28=6,100))))))) -> 100
A29: 15 | B29: Oleksandr KHARLAN F1A junior (MP F1ABPQ Piła 2025) | C29: MP | D29: 4 | E29: =IF(C29="MP",IF(D29=1,300,IF(D29=2,230,IF(D29=3,200,IF(D29=4,170,IF(D29=5,135,IF(D29=6,100))))))) -> 170
A30: 16 | B30: Małgorzata JEZIORNA F1A junior dziewczęta (MP F1ABPQ Piła 2025) | C30: MP | D30: 2 | E30: =IF(C30="MP",IF(D30=1,300,IF(D30=2,230,IF(D30=3,200,IF(D30=4,170,IF(D30=5,135,IF(D30=6,100))))))) -> 230
A31: 17 | B31: Małgorzata JEZIORNA F1Q junior dziewczęta (MP F1ABPQ Piła 2025) | C31: MP | D31: 4 | E31: =IF(C31="MP",IF(D31=1,300,IF(D31=2,230,IF(D31=3,200,IF(D31=4,170,IF(D31=5,135,IF(D31=6,100))))))) -> 170
A32: 18 | C32: MP | E32: =IF(C32="MP",IF(D32=1,300,IF(D32=2,230,IF(D32=3,200,IF(D32=4,170,IF(D32=5,135,IF(D32=6,100))))))) -> FALSE
A33: 19 | C33: MP | E33: =IF(C33="MP",IF(D33=1,300,IF(D33=2,230,IF(D33=3,200,IF(D33=4,170,IF(D33=5,135,IF(D33=6,100))))))) -> FALSE
A34: 20 | B34: Mieczysław SŁOWIK F3J, (MP F3J, Kobylnica 2025) | C34: MP | D34: 5 | E34: =IF(C34="MP",IF(D34=1,300,IF(D34=2,230,IF(D34=3,200,IF(D34=4,170,IF(D34=5,135,IF(D34=6,100))))))) -> 135
A35: 21 | B35: Radosław SŁOWIK F3J, (MP F3J, Kobylnica 2025) | C35: MP | D35: 3 | E35: =IF(C35="MP",IF(D35=1,300,IF(D35=2,230,IF(D35=3,200,IF(D35=4,170,IF(D35=5,135,IF(D35=6,100))))))) -> 200
A36: 22 | B36: Mateusz PALUCH F3J, (MP F3J, Kobylnica 2025) | C36: MP | D36: 2 | E36: =IF(C36="MP",IF(D36=1,300,IF(D36=2,230,IF(D36=3,200,IF(D36=4,170,IF(D36=5,135,IF(D36=6,100))))))) -> 230
A37: 23 | B37: Maciej PALUCH F3J, (MP F3J, Kobylnica 2025) | C37: MP | D37: 4 | E37: =IF(C37="MP",IF(D37=1,300,IF(D37=2,230,IF(D37=3,200,IF(D37=4,170,IF(D37=5,135,IF(D37=6,100))))))) -> 170
A38: 24 | C38: MP | E38: =IF(C38="MP",IF(D38=1,300,IF(D38=2,230,IF(D38=3,200,IF(D38=4,170,IF(D38=5,135,IF(D38=6,100))))))) -> FALSE
A39: 25 | C39: MP | E39: =IF(C39="MP",IF(D39=1,300,IF(D39=2,230,IF(D39=3,200,IF(D39=4,170,IF(D39=5,135,IF(D39=6,100))))))) -> FALSE
A40: 26 | C40: MP | E40: =IF(C40="MP",IF(D40=1,300,IF(D40=2,230,IF(D40=3,200,IF(D40=4,170,IF(D40=5,135,IF(D40=6,100))))))) -> FALSE
A41: 27 | C41: MP | E41: =IF(C41="MP",IF(D41=1,300,IF(D41=2,230,IF(D41=3,200,IF(D41=4,170,IF(D41=5,135,IF(D41=6,100))))))) -> FALSE
A42: 28 | C42: MP | E42: =IF(C42="MP",IF(D42=1,300,IF(D42=2,230,IF(D42=3,200,IF(D42=4,170,IF(D42=5,135,IF(D42=6,100))))))) -> FALSE
A43: 29 | C43: MP | E43: =IF(C43="MP",IF(D43=1,300,IF(D43=2,230,IF(D43=3,200,IF(D43=4,170,IF(D43=5,135,IF(D43=6,100))))))) -> FALSE
A44: 30 | B44: Tomasz JEZIORNY F1A klasyfikacja końcowa Pucharu Polski | C44: PP | D44: 1 | E44: =IF(C44="PP",IF(D44=1,300,IF(D44=2,230,IF(D44=3,200,IF(D44=4,170,IF(D44=5,135,IF(D44=6,100))))))) -> 300
A45: 31 | B45: Jarosław JEZIORNY F1A klasyfikacja końcowa Pucharu Polski | C45: PP | D45: 2 | E45: =IF(C45="PP",IF(D45=1,300,IF(D45=2,230,IF(D45=3,200,IF(D45=4,170,IF(D45=5,135,IF(D45=6,100))))))) -> 230
A46: 32 | B46: Marcel MANDZIAK F1A klasyfikacja końcowa Pucharu Polski | C46: PP | D46: 6 | E46: =IF(C46="PP",IF(D46=1,300,IF(D46=2,230,IF(D46=3,200,IF(D46=4,170,IF(D46=5,135,IF(D46=6,100))))))) -> 100
A47: 33 | B47: Marek MANDZIAK F1A junior klasyfikacja końcowa Pucharu Polski | C47: PP | D47: 4 | E47: =IF(C47="PP",IF(D47=1,300,IF(D47=2,230,IF(D47=3,200,IF(D47=4,170,IF(D47=5,135,IF(D47=6,100))))))) -> 170
